Workbook

Sheet Start
A1: TOURNAMENT SCORESHEET FOR 2V2 GAMES
A4: Turniereinstellungen
A6: Spieleranzahl | B6: 6 | D6: Die empfohlene Rundenzahl ist ein Richtwert für eine abwechslungsreiche Rotation. Für kurze Turniere kann eine niedrigere Rundenzahl gewählt werden. Maximal sind 40 Runden vorbereitet.
A7: Rundenanzahl | B7: 15
A8: Empfohlene Runden | B8: =MIN(40,ROUNDUP(B6*(B6-1)/2,0)) -> 15
A10: Spielernamen
A11: 1 | B11: Spieler 1 | D11: Kurzanleitung
A12: 2 | B12: Spieler 2 | D12: 1. Spieleranzahl zwischen 4 und 16 festlegen.
A13: 3 | B13: Spieler 3 | D13: 2. Gewünschte Rundenzahl eintragen oder den empfohlenen Wert übernehmen.
A14: 4 | B14: Spieler 4 | D14: 3. Namen der aktiven Spieler links eintragen.
A15: 5 | B15: Spieler 5 | D15: 4. Im Blatt „Spielplan“ pro Match Sieger und optional den Spielstand eintragen.
A16: 6 | B16: Spieler 6 | D16: 5. „Rangliste“ und „Statistiken“ aktualisieren sich automatisch.
A17: 7 | B17: Spieler 7 | D17: 6. Wertung: Jeder Spieler des Siegerteams erhält einen Sieg/Punkt.
A18: 8 | B18: Spieler 8 | D18: 7. Bei Gleichstand entscheidet zuerst die Siegesquote, danach die Punktedifferenz.
A19: 9 | B19: Spieler 9
A20: 10 | B20: Spieler 10
A21: 11 | B21: Spieler 11 | D21: Fairnessprinzip: Der hinterlegte Generator verteilt Einsätze und Pausen möglichst gleichmäßig, wechselt Partner und Gegner und vermeidet unnötige Wiederholungen. Bei Spielerzahlen, die nicht durch vier teilbar sind, pausieren pro Runde mehrere Personen.
A22: 12 | B22: Spieler 12
A23: 13 | B23: Spieler 13
A24: 14 | B24: Spieler 14
A25: 15 | B25: Spieler 15
A26: 16 | B26: Spieler 16

Sheet Spielplan
A1: SPIELPLAN
A4: Runde | B4: Team 1 – Spieler A | C4: Team 1 – Spieler B | D4: VS | E4: Team 2 – Spieler A | F4: Team 2 – Spieler B | G4: Sieger | H4: Punkte T1 | I4: Punkte T2 | K4: Key | L4: T1A | M4: T1B | N4: T2A | O4: T2B | P4: Score1 | Q4: Score2
A5: =IF($K5="","",1) -> 1 | B5: =IF($K5="","",INDEX(Start!$B$11:$B$26,L5)) -> Spieler 1 | C5: =IF($K5="","",INDEX(Start!$B$11:$B$26,M5)) -> Spieler 4 | D5: =IF($K5="","","—") -> — | E5: =IF($K5="","",INDEX(Start!$B$11:$B$26,N5)) -> Spieler 2 | F5: =IF($K5="","",INDEX(Start!$B$11:$B$26,O5)) -> Spieler 3 | K5: =IF(1<=Start!$B$7,Start!$B$6*100+1,"") -> 601 | L5: =IF($K5="","",INDEX(Daten!$D$2:$D$521,MATCH($K5,Daten!$A$2:$A$521,0))) -> 1 | M5: =IF($K5="","",INDEX(Daten!$E$2:$E$521,MATCH($K5,Daten!$A$2:$A$521,0))) -> 4 | N5: =IF($K5="","",INDEX(Daten!$F$2:$F$521,MATCH($K5,Daten!$A$2:$A$521,0))) -> 2 | O5: =IF($K5="","",INDEX(Daten!$G$2:$G$521,MATCH($K5,Daten!$A$2:$A$521,0))) -> 3
A6: =IF($K6="","",2) -> 2 | B6: =IF($K6="","",INDEX(Start!$B$11:$B$26,L6)) -> Spieler 2 | C6: =IF($K6="","",INDEX(Start!$B$11:$B$26,M6)) -> Spieler 4 | D6: =IF($K6="","","—") -> — | E6: =IF($K6="","",INDEX(Start!$B$11:$B$26,N6)) -> Spieler 5 | F6: =IF($K6="","",INDEX(Start!$B$11:$B$26,O6)) -> Spieler 6 | K6: =IF(2<=Start!$B$7,Start!$B$6*100+2,"") -> 602 | L6: =IF($K6="","",INDEX(Daten!$D$2:$D$521,MATCH($K6,Daten!$A$2:$A$521,0))) -> 2 | M6: =IF($K6="","",INDEX(Daten!$E$2:$E$521,MATCH($K6,Daten!$A$2:$A$521,0))) -> 4 | N6: =IF($K6="","",INDEX(Daten!$F$2:$F$521,MATCH($K6,Daten!$A$2:$A$521,0))) -> 5 | O6: =IF($K6="","",INDEX(Daten!$G$2:$G$521,MATCH($K6,Daten!$A$2:$A$521,0))) -> 6
A7: =IF($K7="","",3) -> 3 | B7: =IF($K7="","",INDEX(Start!$B$11:$B$26,L7)) -> Spieler 1 | C7: =IF($K7="","",INDEX(Start!$B$11:$B$26,M7)) -> Spieler 5 | D7: =IF($K7="","","—") -> — | E7: =IF($K7="","",INDEX(Start!$B$11:$B$26,N7)) -> Spieler 3 | F7: =IF($K7="","",INDEX(Start!$B$11:$B$26,O7)) -> Spieler 6 | K7: =IF(3<=Start!$B$7,Start!$B$6*100+3,"") -> 603 | L7: =IF($K7="","",INDEX(Daten!$D$2:$D$521,MATCH($K7,Daten!$A$2:$A$521,0))) -> 1 | M7: =IF($K7="","",INDEX(Daten!$E$2:$E$521,MATCH($K7,Daten!$A$2:$A$521,0))) -> 5 | N7: =IF($K7="","",INDEX(Daten!$F$2:$F$521,MATCH($K7,Daten!$A$2:$A$521,0))) -> 3 | O7: =IF($K7="","",INDEX(Daten!$G$2:$G$521,MATCH($K7,Daten!$A$2:$A$521,0))) -> 6
A8: =IF($K8="","",4) -> 4 | B8: =IF($K8="","",INDEX(Start!$B$11:$B$26,L8)) -> Spieler 1 | C8: =IF($K8="","",INDEX(Start!$B$11:$B$26,M8)) -> Spieler 2 | D8: =IF($K8="","","—") -> — | E8: =IF($K8="","",INDEX(Start!$B$11:$B$26,N8)) -> Spieler 4 | F8: =IF($K8="","",INDEX(Start!$B$11:$B$26,O8)) -> Spieler 5 | K8: =IF(4<=Start!$B$7,Start!$B$6*100+4,"") -> 604 | L8: =IF($K8="","",INDEX(Daten!$D$2:$D$521,MATCH($K8,Daten!$A$2:$A$521,0))) -> 1 | M8: =IF($K8="","",INDEX(Daten!$E$2:$E$521,MATCH($K8,Daten!$A$2:$A$521,0))) -> 2 | N8: =IF($K8="","",INDEX(Daten!$F$2:$F$521,MATCH($K8,Daten!$A$2:$A$521,0))) -> 4 | O8: =IF($K8="","",INDEX(Daten!$G$2:$G$521,MATCH($K8,Daten!$A$2:$A$521,0))) -> 5
A9: =IF($K9="","",5) -> 5 | B9: =IF($K9="","",INDEX(Start!$B$11:$B$26,L9)) -> Spieler 1 | C9: =IF($K9="","",INDEX(Start!$B$11:$B$26,M9)) -> Spieler 3 | D9: =IF($K9="","","—") -> — | E9: =IF($K9="","",INDEX(Start!$B$11:$B$26,N9)) -> Spieler 2 | F9: =IF($K9="","",INDEX(Start!$B$11:$B$26,O9)) -> Spieler 6 | K9: =IF(5<=Start!$B$7,Start!$B$6*100+5,"") -> 605 | L9: =IF($K9="","",INDEX(Daten!$D$2:$D$521,MATCH($K9,Daten!$A$2:$A$521,0))) -> 1 | M9: =IF($K9="","",INDEX(Daten!$E$2:$E$521,MATCH($K9,Daten!$A$2:$A$521,0))) -> 3 | N9: =IF($K9="","",INDEX(Daten!$F$2:$F$521,MATCH($K9,Daten!$A$2:$A$521,0))) -> 2 | O9: =IF($K9="","",INDEX(Daten!$G$2:$G$521,MATCH($K9,Daten!$A$2:$A$521,0))) -> 6
A10: =IF($K10="","",6) -> 6 | B10: =IF($K10="","",INDEX(Start!$B$11:$B$26,L10)) -> Spieler 3 | C10: =IF($K10="","",INDEX(Start!$B$11:$B$26,M10)) -> Spieler 5 | D10: =IF($K10="","","—") -> — | E10: =IF($K10="","",INDEX(Start!$B$11:$B$26,N10)) -> Spieler 4 | F10: =IF($K10="","",INDEX(Start!$B$11:$B$26,O10)) -> Spieler 6 | K10: =IF(6<=Start!$B$7,Start!$B$6*100+6,"") -> 606 | L10: =IF($K10="","",INDEX(Daten!$D$2:$D$521,MATCH($K10,Daten!$A$2:$A$521,0))) -> 3 | M10: =IF($K10="","",INDEX(Daten!$E$2:$E$521,MATCH($K10,Daten!$A$2:$A$521,0))) -> 5 | N10: =IF($K10="","",INDEX(Daten!$F$2:$F$521,MATCH($K10,Daten!$A$2:$A$521,0))) -> 4 | O10: =IF($K10="","",INDEX(Daten!$G$2:$G$521,MATCH($K10,Daten!$A$2:$A$521,0))) -> 6
A11: =IF($K11="","",7) -> 7 | B11: =IF($K11="","",INDEX(Start!$B$11:$B$26,L11)) -> Spieler 1 | C11: =IF($K11="","",INDEX(Start!$B$11:$B$26,M11)) -> Spieler 6 | D11: =IF($K11="","","—") -> — | E11: =IF($K11="","",INDEX(Start!$B$11:$B$26,N11)) -> Spieler 2 | F11: =IF($K11="","",INDEX(Start!$B$11:$B$26,O11)) -> Spieler 5 | K11: =IF(7<=Start!$B$7,Start!$B$6*100+7,"") -> 607 | L11: =IF($K11="","",INDEX(Daten!$D$2:$D$521,MATCH($K11,Daten!$A$2:$A$521,0))) -> 1 | M11: =IF($K11="","",INDEX(Daten!$E$2:$E$521,MATCH($K11,Daten!$A$2:$A$521,0))) -> 6 | N11: =IF($K11="","",INDEX(Daten!$F$2:$F$521,MATCH($K11,Daten!$A$2:$A$521,0))) -> 2 | O11: =IF($K11="","",INDEX(Daten!$G$2:$G$521,MATCH($K11,Daten!$A$2:$A$521,0))) -> 5
A12: =IF($K12="","",8) -> 8 | B12: =IF($K12="","",INDEX(Start!$B$11:$B$26,L12)) -> Spieler 2 | C12: =IF($K12="","",INDEX(Start!$B$11:$B$26,M12)) -> Spieler 6 | D12: =IF($K12="","","—") -> — | E12: =IF($K12="","",INDEX(Start!$B$11:$B$26,N12)) -> Spieler 3 | F12: =IF($K12="","",INDEX(Start!$B$11:$B$26,O12)) -> Spieler 4 | K12: =IF(8<=Start!$B$7,Start!$B$6*100+8,"") -> 608 | L12: =IF($K12="","",INDEX(Daten!$D$2:$D$521,MATCH($K12,Daten!$A$2:$A$521,0))) -> 2 | M12: =IF($K12="","",INDEX(Daten!$E$2:$E$521,MATCH($K12,Daten!$A$2:$A$521,0))) -> 6 | N12: =IF($K12="","",INDEX(Daten!$F$2:$F$521,MATCH($K12,Daten!$A$2:$A$521,0))) -> 3 | O12: =IF($K12="","",INDEX(Daten!$G$2:$G$521,MATCH($K12,Daten!$A$2:$A$521,0))) -> 4
A13: =IF($K13="","",9) -> 9 | B13: =IF($K13="","",INDEX(Start!$B$11:$B$26,L13)) -> Spieler 1 | C13: =IF($K13="","",INDEX(Start!$B$11:$B$26,M13)) -> Spieler 3 | D13: =IF($K13="","","—") -> — | E13: =IF($K13="","",INDEX(Start!$B$11:$B$26,N13)) -> Spieler 4 | F13: =IF($K13="","",INDEX(Start!$B$11:$B$26,O13)) -> Spieler 5 | K13: =IF(9<=Start!$B$7,Start!$B$6*100+9,"") -> 609 | L13: =IF($K13="","",INDEX(Daten!$D$2:$D$521,MATCH($K13,Daten!$A$2:$A$521,0))) -> 1 | M13: =IF($K13="","",INDEX(Daten!$E$2:$E$521,MATCH($K13,Daten!$A$2:$A$521,0))) -> 3 | N13: =IF($K13="","",INDEX(Daten!$F$2:$F$521,MATCH($K13,Daten!$A$2:$A$521,0))) -> 4 | O13: =IF($K13="","",INDEX(Daten!$G$2:$G$521,MATCH($K13,Daten!$A$2:$A$521,0))) -> 5
A14: =IF($K14="","",10) -> 10 | B14: =IF($K14="","",INDEX(Start!$B$11:$B$26,L14)) -> Spieler 1 | C14: =IF($K14="","",INDEX(Start!$B$11:$B$26,M14)) -> Spieler 2 | D14: =IF($K14="","","—") -> — | E14: =IF($K14="","",INDEX(Start!$B$11:$B$26,N14)) -> Spieler 3 | F14: =IF($K14="","",INDEX(Start!$B$11:$B$26,O14)) -> Spieler 6 | K14: =IF(10<=Start!$B$7,Start!$B$6*100+10,"") -> 610 | L14: =IF($K14="","",INDEX(Daten!$D$2:$D$521,MATCH($K14,Daten!$A$2:$A$521,0))) -> 1 | M14: =IF($K14="","",INDEX(Daten!$E$2:$E$521,MATCH($K14,Daten!$A$2:$A$521,0))) -> 2 | N14: =IF($K14="","",INDEX(Daten!$F$2:$F$521,MATCH($K14,Daten!$A$2:$A$521,0))) -> 3 | O14: =IF($K14="","",INDEX(Daten!$G$2:$G$521,MATCH($K14,Daten!$A$2:$A$521,0))) -> 6
A15: =IF($K15="","",11) -> 11 | B15: =IF($K15="","",INDEX(Start!$B$11:$B$26,L15)) -> Spieler 1 | C15: =IF($K15="","",INDEX(Start!$B$11:$B$26,M15)) -> Spieler 5 | D15: =IF($K15="","","—") -> — | E15: =IF($K15="","",INDEX(Start!$B$11:$B$26,N15)) -> Spieler 3 | F15: =IF($K15="","",INDEX(Start!$B$11:$B$26,O15)) -> Spieler 4 | K15: =IF(11<=Start!$B$7,Start!$B$6*100+11,"") -> 611 | L15: =IF($K15="","",INDEX(Daten!$D$2:$D$521,MATCH($K15,Daten!$A$2:$A$521,0))) -> 1 | M15: =IF($K15="","",INDEX(Daten!$E$2:$E$521,MATCH($K15,Daten!$A$2:$A$521,0))) -> 5 | N15: =IF($K15="","",INDEX(Daten!$F$2:$F$521,MATCH($K15,Daten!$A$2:$A$521,0))) -> 3 | O15: =IF($K15="","",INDEX(Daten!$G$2:$G$521,MATCH($K15,Daten!$A$2:$A$521,0))) -> 4
A16: =IF($K16="","",12) -> 12 | B16: =IF($K16="","",INDEX(Start!$B$11:$B$26,L16)) -> Spieler 2 | C16: =IF($K16="","",INDEX(Start!$B$11:$B$26,M16)) -> Spieler 4 | D16: =IF($K16="","","—") -> — | E16: =IF($K16="","",INDEX(Start!$B$11:$B$26,N16)) -> Spieler 5 | F16: =IF($K16="","",INDEX(Start!$B$11:$B$26,O16)) -> Spieler 6 | K16: =IF(12<=Start!$B$7,Start!$B$6*100+12,"") -> 612 | L16: =IF($K16="","",INDEX(Daten!$D$2:$D$521,MATCH($K16,Daten!$A$2:$A$521,0))) -> 2 | M16: =IF($K16="","",INDEX(Daten!$E$2:$E$521,MATCH($K16,Daten!$A$2:$A$521,0))) -> 4 | N16: =IF($K16="","",INDEX(Daten!$F$2:$F$521,MATCH($K16,Daten!$A$2:$A$521,0))) -> 5 | O16: =IF($K16="","",INDEX(Daten!$G$2:$G$521,MATCH($K16,Daten!$A$2:$A$521,0))) -> 6
A17: =IF($K17="","",13) -> 13 | B17: =IF($K17="","",INDEX(Start!$B$11:$B$26,L17)) -> Spieler 1 | C17: =IF($K17="","",INDEX(Start!$B$11:$B$26,M17)) -> Spieler 6 | D17: =IF($K17="","","—") -> — | E17: =IF($K17="","",INDEX(Start!$B$11:$B$26,N17)) -> Spieler 3 | F17: =IF($K17="","",INDEX(Start!$B$11:$B$26,O17)) -> Spieler 5 | K17: =IF(13<=Start!$B$7,Start!$B$6*100+13,"") -> 613 | L17: =IF($K17="","",INDEX(Daten!$D$2:$D$521,MATCH($K17,Daten!$A$2:$A$521,0))) -> 1 | M17: =IF($K17="","",INDEX(Daten!$E$2:$E$521,MATCH($K17,Daten!$A$2:$A$521,0))) -> 6 | N17: =IF($K17="","",INDEX(Daten!$F$2:$F$521,MATCH($K17,Daten!$A$2:$A$521,0))) -> 3 | O17: =IF($K17="","",INDEX(Daten!$G$2:$G$521,MATCH($K17,Daten!$A$2:$A$521,0))) -> 5
A18: =IF($K18="","",14) -> 14 | B18: =IF($K18="","",INDEX(Start!$B$11:$B$26,L18)) -> Spieler 1 | C18: =IF($K18="","",INDEX(Start!$B$11:$B$26,M18)) -> Spieler 4 | D18: =IF($K18="","","—") -> — | E18: =IF($K18="","",INDEX(Start!$B$11:$B$26,N18)) -> Spieler 2 | F18: =IF($K18="","",INDEX(Start!$B$11:$B$26,O18)) -> Spieler 5 | K18: =IF(14<=Start!$B$7,Start!$B$6*100+14,"") -> 614 | L18: =IF($K18="","",INDEX(Daten!$D$2:$D$521,MATCH($K18,Daten!$A$2:$A$521,0))) -> 1 | M18: =IF($K18="","",INDEX(Daten!$E$2:$E$521,MATCH($K18,Daten!$A$2:$A$521,0))) -> 4 | N18: =IF($K18="","",INDEX(Daten!$F$2:$F$521,MATCH($K18,Daten!$A$2:$A$521,0))) -> 2 | O18: =IF($K18="","",INDEX(Daten!$G$2:$G$521,MATCH($K18,Daten!$A$2:$A$521,0))) -> 5
A19: =IF($K19="","",15) -> 15 | B19: =IF($K19="","",INDEX(Start!$B$11:$B$26,L19)) -> Spieler 2 | C19: =IF($K19="","",INDEX(Start!$B$11:$B$26,M19)) -> Spieler 3 | D19: =IF($K19="","","—") -> — | E19: =IF($K19="","",INDEX(Start!$B$11:$B$26,N19)) -> Spieler 4 | F19: =IF($K19="","",INDEX(Start!$B$11:$B$26,O19)) -> Spieler 6 | K19: =IF(15<=Start!$B$7,Start!$B$6*100+15,"") -> 615 | L19: =IF($K19="","",INDEX(Daten!$D$2:$D$521,MATCH($K19,Daten!$A$2:$A$521,0))) -> 2 | M19: =IF($K19="","",INDEX(Daten!$E$2:$E$521,MATCH($K19,Daten!$A$2:$A$521,0))) -> 3 | N19: =IF($K19="","",INDEX(Daten!$F$2:$F$521,MATCH($K19,Daten!$A$2:$A$521,0))) -> 4 | O19: =IF($K19="","",INDEX(Daten!$G$2:$G$521,MATCH($K19,Daten!$A$2:$A$521,0))) -> 6
A20: =IF($K20="","",16) | B20: =IF($K20="","",INDEX(Start!$B$11:$B$26,L20)) | C20: =IF($K20="","",INDEX(Start!$B$11:$B$26,M20)) | D20: =IF($K20="","","—") | E20: =IF($K20="","",INDEX(Start!$B$11:$B$26,N20)) | F20: =IF($K20="","",INDEX(Start!$B$11:$B$26,O20)) | K20: =IF(16<=Start!$B$7,Start!$B$6*100+16,"") | L20: =IF($K20="","",INDEX(Daten!$D$2:$D$521,MATCH($K20,Daten!$A$2:$A$521,0))) | M20: =IF($K20="","",INDEX(Daten!$E$2:$E$521,MATCH($K20,Daten!$A$2:$A$521,0))) | N20: =IF($K20="","",INDEX(Daten!$F$2:$F$521,MATCH($K20,Daten!$A$2:$A$521,0))) | O20: =IF($K20="","",INDEX(Daten!$G$2:$G$521,MATCH($K20,Daten!$A$2:$A$521,0)))
A21: =IF($K21="","",17) | B21: =IF($K21="","",INDEX(Start!$B$11:$B$26,L21)) | C21: =IF($K21="","",INDEX(Start!$B$11:$B$26,M21)) | D21: =IF($K21="","","—") | E21: =IF($K21="","",INDEX(Start!$B$11:$B$26,N21)) | F21: =IF($K21="","",INDEX(Start!$B$11:$B$26,O21)) | K21: =IF(17<=Start!$B$7,Start!$B$6*100+17,"") | L21: =IF($K21="","",INDEX(Daten!$D$2:$D$521,MATCH($K21,Daten!$A$2:$A$521,0))) | M21: =IF($K21="","",INDEX(Daten!$E$2:$E$521,MATCH($K21,Daten!$A$2:$A$521,0))) | N21: =IF($K21="","",INDEX(Daten!$F$2:$F$521,MATCH($K21,Daten!$A$2:$A$521,0))) | O21: =IF($K21="","",INDEX(Daten!$G$2:$G$521,MATCH($K21,Daten!$A$2:$A$521,0)))
A22: =IF($K22="","",18) | B22: =IF($K22="","",INDEX(Start!$B$11:$B$26,L22)) | C22: =IF($K22="","",INDEX(Start!$B$11:$B$26,M22)) | D22: =IF($K22="","","—") | E22: =IF($K22="","",INDEX(Start!$B$11:$B$26,N22)) | F22: =IF($K22="","",INDEX(Start!$B$11:$B$26,O22)) | K22: =IF(18<=Start!$B$7,Start!$B$6*100+18,"") | L22: =IF($K22="","",INDEX(Daten!$D$2:$D$521,MATCH($K22,Daten!$A$2:$A$521,0))) | M22: =IF($K22="","",INDEX(Daten!$E$2:$E$521,MATCH($K22,Daten!$A$2:$A$521,0))) | N22: =IF($K22="","",INDEX(Daten!$F$2:$F$521,MATCH($K22,Daten!$A$2:$A$521,0))) | O22: =IF($K22="","",INDEX(Daten!$G$2:$G$521,MATCH($K22,Daten!$A$2:$A$521,0)))
A23: =IF($K23="","",19) | B23: =IF($K23="","",INDEX(Start!$B$11:$B$26,L23)) | C23: =IF($K23="","",INDEX(Start!$B$11:$B$26,M23)) | D23: =IF($K23="","","—") | E23: =IF($K23="","",INDEX(Start!$B$11:$B$26,N23)) | F23: =IF($K23="","",INDEX(Start!$B$11:$B$26,O23)) | K23: =IF(19<=Start!$B$7,Start!$B$6*100+19,"") | L23: =IF($K23="","",INDEX(Daten!$D$2:$D$521,MATCH($K23,Daten!$A$2:$A$521,0))) | M23: =IF($K23="","",INDEX(Daten!$E$2:$E$521,MATCH($K23,Daten!$A$2:$A$521,0))) | N23: =IF($K23="","",INDEX(Daten!$F$2:$F$521,MATCH($K23,Daten!$A$2:$A$521,0))) | O23: =IF($K23="","",INDEX(Daten!$G$2:$G$521,MATCH($K23,Daten!$A$2:$A$521,0)))
A24: =IF($K24="","",20) | B24: =IF($K24="","",INDEX(Start!$B$11:$B$26,L24)) | C24: =IF($K24="","",INDEX(Start!$B$11:$B$26,M24)) | D24: =IF($K24="","","—") | E24: =IF($K24="","",INDEX(Start!$B$11:$B$26,N24)) | F24: =IF($K24="","",INDEX(Start!$B$11:$B$26,O24)) | K24: =IF(20<=Start!$B$7,Start!$B$6*100+20,"") | L24: =IF($K24="","",INDEX(Daten!$D$2:$D$521,MATCH($K24,Daten!$A$2:$A$521,0))) | M24: =IF($K24="","",INDEX(Daten!$E$2:$E$521,MATCH($K24,Daten!$A$2:$A$521,0))) | N24: =IF($K24="","",INDEX(Daten!$F$2:$F$521,MATCH($K24,Daten!$A$2:$A$521,0))) | O24: =IF($K24="","",INDEX(Daten!$G$2:$G$521,MATCH($K24,Daten!$A$2:$A$521,0)))
A25: =IF($K25="","",21) | B25: =IF($K25="","",INDEX(Start!$B$11:$B$26,L25)) | C25: =IF($K25="","",INDEX(Start!$B$11:$B$26,M25)) | D25: =IF($K25="","","—") | E25: =IF($K25="","",INDEX(Start!$B$11:$B$26,N25)) | F25: =IF($K25="","",INDEX(Start!$B$11:$B$26,O25)) | K25: =IF(21<=Start!$B$7,Start!$B$6*100+21,"") | L25: =IF($K25="","",INDEX(Daten!$D$2:$D$521,MATCH($K25,Daten!$A$2:$A$521,0))) | M25: =IF($K25="","",INDEX(Daten!$E$2:$E$521,MATCH($K25,Daten!$A$2:$A$521,0))) | N25: =IF($K25="","",INDEX(Daten!$F$2:$F$521,MATCH($K25,Daten!$A$2:$A$521,0))) | O25: =IF($K25="","",INDEX(Daten!$G$2:$G$521,MATCH($K25,Daten!$A$2:$A$521,0)))
A26: =IF($K26="","",22) | B26: =IF($K26="","",INDEX(Start!$B$11:$B$26,L26)) | C26: =IF($K26="","",INDEX(Start!$B$11:$B$26,M26)) | D26: =IF($K26="","","—") | E26: =IF($K26="","",INDEX(Start!$B$11:$B$26,N26)) | F26: =IF($K26="","",INDEX(Start!$B$11:$B$26,O26)) | K26: =IF(22<=Start!$B$7,Start!$B$6*100+22,"") | L26: =IF($K26="","",INDEX(Daten!$D$2:$D$521,MATCH($K26,Daten!$A$2:$A$521,0))) | M26: =IF($K26="","",INDEX(Daten!$E$2:$E$521,MATCH($K26,Daten!$A$2:$A$521,0))) | N26: =IF($K26="","",INDEX(Daten!$F$2:$F$521,MATCH($K26,Daten!$A$2:$A$521,0))) | O26: =IF($K26="","",INDEX(Daten!$G$2:$G$521,MATCH($K26,Daten!$A$2:$A$521,0)))
A27: =IF($K27="","",23) | B27: =IF($K27="","",INDEX(Start!$B$11:$B$26,L27)) | C27: =IF($K27="","",INDEX(Start!$B$11:$B$26,M27)) | D27: =IF($K27="","","—") | E27: =IF($K27="","",INDEX(Start!$B$11:$B$26,N27)) | F27: =IF($K27="","",INDEX(Start!$B$11:$B$26,O27)) | K27: =IF(23<=Start!$B$7,Start!$B$6*100+23,"") | L27: =IF($K27="","",INDEX(Daten!$D$2:$D$521,MATCH($K27,Daten!$A$2:$A$521,0))) | M27: =IF($K27="","",INDEX(Daten!$E$2:$E$521,MATCH($K27,Daten!$A$2:$A$521,0))) | N27: =IF($K27="","",INDEX(Daten!$F$2:$F$521,MATCH($K27,Daten!$A$2:$A$521,0))) | O27: =IF($K27="","",INDEX(Daten!$G$2:$G$521,MATCH($K27,Daten!$A$2:$A$521,0)))
A28: =IF($K28="","",24) | B28: =IF($K28="","",INDEX(Start!$B$11:$B$26,L28)) | C28: =IF($K28="","",INDEX(Start!$B$11:$B$26,M28)) | D28: =IF($K28="","","—") | E28: =IF($K28="","",INDEX(Start!$B$11:$B$26,N28)) | F28: =IF($K28="","",INDEX(Start!$B$11:$B$26,O28)) | K28: =IF(24<=Start!$B$7,Start!$B$6*100+24,"") | L28: =IF($K28="","",INDEX(Daten!$D$2:$D$521,MATCH($K28,Daten!$A$2:$A$521,0))) | M28: =IF($K28="","",INDEX(Daten!$E$2:$E$521,MATCH($K28,Daten!$A$2:$A$521,0))) | N28: =IF($K28="","",INDEX(Daten!$F$2:$F$521,MATCH($K28,Daten!$A$2:$A$521,0))) | O28: =IF($K28="","",INDEX(Daten!$G$2:$G$521,MATCH($K28,Daten!$A$2:$A$521,0)))
A29: =IF($K29="","",25) | B29: =IF($K29="","",INDEX(Start!$B$11:$B$26,L29)) | C29: =IF($K29="","",INDEX(Start!$B$11:$B$26,M29)) | D29: =IF($K29="","","—") | E29: =IF($K29="","",INDEX(Start!$B$11:$B$26,N29)) | F29: =IF($K29="","",INDEX(Start!$B$11:$B$26,O29)) | K29: =IF(25<=Start!$B$7,Start!$B$6*100+25,"") | L29: =IF($K29="","",INDEX(Daten!$D$2:$D$521,MATCH($K29,Daten!$A$2:$A$521,0))) | M29: =IF($K29="","",INDEX(Daten!$E$2:$E$521,MATCH($K29,Daten!$A$2:$A$521,0))) | N29: =IF($K29="","",INDEX(Daten!$F$2:$F$521,MATCH($K29,Daten!$A$2:$A$521,0))) | O29: =IF($K29="","",INDEX(Daten!$G$2:$G$521,MATCH($K29,Daten!$A$2:$A$521,0)))
A30: =IF($K30="","",26) | B30: =IF($K30="","",INDEX(Start!$B$11:$B$26,L30)) | C30: =IF($K30="","",INDEX(Start!$B$11:$B$26,M30)) | D30: =IF($K30="","","—") | E30: =IF($K30="","",INDEX(Start!$B$11:$B$26,N30)) | F30: =IF($K30="","",INDEX(Start!$B$11:$B$26,O30)) | K30: =IF(26<=Start!$B$7,Start!$B$6*100+26,"") | L30: =IF($K30="","",INDEX(Daten!$D$2:$D$521,MATCH($K30,Daten!$A$2:$A$521,0))) | M30: =IF($K30="","",INDEX(Daten!$E$2:$E$521,MATCH($K30,Daten!$A$2:$A$521,0))) | N30: =IF($K30="","",INDEX(Daten!$F$2:$F$521,MATCH($K30,Daten!$A$2:$A$521,0))) | O30: =IF($K30="","",INDEX(Daten!$G$2:$G$521,MATCH($K30,Daten!$A$2:$A$521,0)))
A31: =IF($K31="","",27) | B31: =IF($K31="","",INDEX(Start!$B$11:$B$26,L31)) | C31: =IF($K31="","",INDEX(Start!$B$11:$B$26,M31)) | D31: =IF($K31="","","—") | E31: =IF($K31="","",INDEX(Start!$B$11:$B$26,N31)) | F31: =IF($K31="","",INDEX(Start!$B$11:$B$26,O31)) | K31: =IF(27<=Start!$B$7,Start!$B$6*100+27,"") | L31: =IF($K31="","",INDEX(Daten!$D$2:$D$521,MATCH($K31,Daten!$A$2:$A$521,0))) | M31: =IF($K31="","",INDEX(Daten!$E$2:$E$521,MATCH($K31,Daten!$A$2:$A$521,0))) | N31: =IF($K31="","",INDEX(Daten!$F$2:$F$521,MATCH($K31,Daten!$A$2:$A$521,0))) | O31: =IF($K31="","",INDEX(Daten!$G$2:$G$521,MATCH($K31,Daten!$A$2:$A$521,0)))
A32: =IF($K32="","",28) | B32: =IF($K32="","",INDEX(Start!$B$11:$B$26,L32)) | C32: =IF($K32="","",INDEX(Start!$B$11:$B$26,M32)) | D32: =IF($K32="","","—") | E32: =IF($K32="","",INDEX(Start!$B$11:$B$26,N32)) | F32: =IF($K32="","",INDEX(Start!$B$11:$B$26,O32)) | K32: =IF(28<=Start!$B$7,Start!$B$6*100+28,"") | L32: =IF($K32="","",INDEX(Daten!$D$2:$D$521,MATCH($K32,Daten!$A$2:$A$521,0))) | M32: =IF($K32="","",INDEX(Daten!$E$2:$E$521,MATCH($K32,Daten!$A$2:$A$521,0))) | N32: =IF($K32="","",INDEX(Daten!$F$2:$F$521,MATCH($K32,Daten!$A$2:$A$521,0))) | O32: =IF($K32="","",INDEX(Daten!$G$2:$G$521,MATCH($K32,Daten!$A$2:$A$521,0)))
A33: =IF($K33="","",29) | B33: =IF($K33="","",INDEX(Start!$B$11:$B$26,L33)) | C33: =IF($K33="","",INDEX(Start!$B$11:$B$26,M33)) | D33: =IF($K33="","","—") | E33: =IF($K33="","",INDEX(Start!$B$11:$B$26,N33)) | F33: =IF($K33="","",INDEX(Start!$B$11:$B$26,O33)) | K33: =IF(29<=Start!$B$7,Start!$B$6*100+29,"") | L33: =IF($K33="","",INDEX(Daten!$D$2:$D$521,MATCH($K33,Daten!$A$2:$A$521,0))) | M33: =IF($K33="","",INDEX(Daten!$E$2:$E$521,MATCH($K33,Daten!$A$2:$A$521,0))) | N33: =IF($K33="","",INDEX(Daten!$F$2:$F$521,MATCH($K33,Daten!$A$2:$A$521,0))) | O33: =IF($K33="","",INDEX(Daten!$G$2:$G$521,MATCH($K33,Daten!$A$2:$A$521,0)))
A34: =IF($K34="","",30) | B34: =IF($K34="","",INDEX(Start!$B$11:$B$26,L34)) | C34: =IF($K34="","",INDEX(Start!$B$11:$B$26,M34)) | D34: =IF($K34="","","—") | E34: =IF($K34="","",INDEX(Start!$B$11:$B$26,N34)) | F34: =IF($K34="","",INDEX(Start!$B$11:$B$26,O34)) | K34: =IF(30<=Start!$B$7,Start!$B$6*100+30,"") | L34: =IF($K34="","",INDEX(Daten!$D$2:$D$521,MATCH($K34,Daten!$A$2:$A$521,0))) | M34: =IF($K34="","",INDEX(Daten!$E$2:$E$521,MATCH($K34,Daten!$A$2:$A$521,0))) | N34: =IF($K34="","",INDEX(Daten!$F$2:$F$521,MATCH($K34,Daten!$A$2:$A$521,0))) | O34: =IF($K34="","",INDEX(Daten!$G$2:$G$521,MATCH($K34,Daten!$A$2:$A$521,0)))
A35: =IF($K35="","",31) | B35: =IF($K35="","",INDEX(Start!$B$11:$B$26,L35)) | C35: =IF($K35="","",INDEX(Start!$B$11:$B$26,M35)) | D35: =IF($K35="","","—") | E35: =IF($K35="","",INDEX(Start!$B$11:$B$26,N35)) | F35: =IF($K35="","",INDEX(Start!$B$11:$B$26,O35)) | K35: =IF(31<=Start!$B$7,Start!$B$6*100+31,"") | L35: =IF($K35="","",INDEX(Daten!$D$2:$D$521,MATCH($K35,Daten!$A$2:$A$521,0))) | M35: =IF($K35="","",INDEX(Daten!$E$2:$E$521,MATCH($K35,Daten!$A$2:$A$521,0))) | N35: =IF($K35="","",INDEX(Daten!$F$2:$F$521,MATCH($K35,Daten!$A$2:$A$521,0))) | O35: =IF($K35="","",INDEX(Daten!$G$2:$G$521,MATCH($K35,Daten!$A$2:$A$521,0)))
A36: =IF($K36="","",32) | B36: =IF($K36="","",INDEX(Start!$B$11:$B$26,L36)) | C36: =IF($K36="","",INDEX(Start!$B$11:$B$26,M36)) | D36: =IF($K36="","","—") | E36: =IF($K36="","",INDEX(Start!$B$11:$B$26,N36)) | F36: =IF($K36="","",INDEX(Start!$B$11:$B$26,O36)) | K36: =IF(32<=Start!$B$7,Start!$B$6*100+32,"") | L36: =IF($K36="","",INDEX(Daten!$D$2:$D$521,MATCH($K36,Daten!$A$2:$A$521,0))) | M36: =IF($K36="","",INDEX(Daten!$E$2:$E$521,MATCH($K36,Daten!$A$2:$A$521,0))) | N36: =IF($K36="","",INDEX(Daten!$F$2:$F$521,MATCH($K36,Daten!$A$2:$A$521,0))) | O36: =IF($K36="","",INDEX(Daten!$G$2:$G$521,MATCH($K36,Daten!$A$2:$A$521,0)))
A37: =IF($K37="","",33) | B37: =IF($K37="","",INDEX(Start!$B$11:$B$26,L37)) | C37: =IF($K37="","",INDEX(Start!$B$11:$B$26,M37)) | D37: =IF($K37="","","—") | E37: =IF($K37="","",INDEX(Start!$B$11:$B$26,N37)) | F37: =IF($K37="","",INDEX(Start!$B$11:$B$26,O37)) | K37: =IF(33<=Start!$B$7,Start!$B$6*100+33,"") | L37: =IF($K37="","",INDEX(Daten!$D$2:$D$521,MATCH($K37,Daten!$A$2:$A$521,0))) | M37: =IF($K37="","",INDEX(Daten!$E$2:$E$521,MATCH($K37,Daten!$A$2:$A$521,0))) | N37: =IF($K37="","",INDEX(Daten!$F$2:$F$521,MATCH($K37,Daten!$A$2:$A$521,0))) | O37: =IF($K37="","",INDEX(Daten!$G$2:$G$521,MATCH($K37,Daten!$A$2:$A$521,0)))
A38: =IF($K38="","",34) | B38: =IF($K38="","",INDEX(Start!$B$11:$B$26,L38)) | C38: =IF($K38="","",INDEX(Start!$B$11:$B$26,M38)) | D38: =IF($K38="","","—") | E38: =IF($K38="","",INDEX(Start!$B$11:$B$26,N38)) | F38: =IF($K38="","",INDEX(Start!$B$11:$B$26,O38)) | K38: =IF(34<=Start!$B$7,Start!$B$6*100+34,"") | L38: =IF($K38="","",INDEX(Daten!$D$2:$D$521,MATCH($K38,Daten!$A$2:$A$521,0))) | M38: =IF($K38="","",INDEX(Daten!$E$2:$E$521,MATCH($K38,Daten!$A$2:$A$521,0))) | N38: =IF($K38="","",INDEX(Daten!$F$2:$F$521,MATCH($K38,Daten!$A$2:$A$521,0))) | O38: =IF($K38="","",INDEX(Daten!$G$2:$G$521,MATCH($K38,Daten!$A$2:$A$521,0)))
A39: =IF($K39="","",35) | B39: =IF($K39="","",INDEX(Start!$B$11:$B$26,L39)) | C39: =IF($K39="","",INDEX(Start!$B$11:$B$26,M39)) | D39: =IF($K39="","","—") | E39: =IF($K39="","",INDEX(Start!$B$11:$B$26,N39)) | F39: =IF($K39="","",INDEX(Start!$B$11:$B$26,O39)) | K39: =IF(35<=Start!$B$7,Start!$B$6*100+35,"") | L39: =IF($K39="","",INDEX(Daten!$D$2:$D$521,MATCH($K39,Daten!$A$2:$A$521,0))) | M39: =IF($K39="","",INDEX(Daten!$E$2:$E$521,MATCH($K39,Daten!$A$2:$A$521,0))) | N39: =IF($K39="","",INDEX(Daten!$F$2:$F$521,MATCH($K39,Daten!$A$2:$A$521,0))) | O39: =IF($K39="","",INDEX(Daten!$G$2:$G$521,MATCH($K39,Daten!$A$2:$A$521,0)))
A40: =IF($K40="","",36) | B40: =IF($K40="","",INDEX(Start!$B$11:$B$26,L40)) | C40: =IF($K40="","",INDEX(Start!$B$11:$B$26,M40)) | D40: =IF($K40="","","—") | E40: =IF($K40="","",INDEX(Start!$B$11:$B$26,N40)) | F40: =IF($K40="","",INDEX(Start!$B$11:$B$26,O40)) | K40: =IF(36<=Start!$B$7,Start!$B$6*100+36,"") | L40: =IF($K40="","",INDEX(Daten!$D$2:$D$521,MATCH($K40,Daten!$A$2:$A$521,0))) | M40: =IF($K40="","",INDEX(Daten!$E$2:$E$521,MATCH($K40,Daten!$A$2:$A$521,0))) | N40: =IF($K40="","",INDEX(Daten!$F$2:$F$521,MATCH($K40,Daten!$A$2:$A$521,0))) | O40: =IF($K40="","",INDEX(Daten!$G$2:$G$521,MATCH($K40,Daten!$A$2:$A$521,0)))
A41: =IF($K41="","",37) | B41: =IF($K41="","",INDEX(Start!$B$11:$B$26,L41)) | C41: =IF($K41="","",INDEX(Start!$B$11:$B$26,M41)) | D41: =IF($K41="","","—") | E41: =IF($K41="","",INDEX(Start!$B$11:$B$26,N41)) | F41: =IF($K41="","",INDEX(Start!$B$11:$B$26,O41)) | K41: =IF(37<=Start!$B$7,Start!$B$6*100+37,"") | L41: =IF($K41="","",INDEX(Daten!$D$2:$D$521,MATCH($K41,Daten!$A$2:$A$521,0))) | M41: =IF($K41="","",INDEX(Daten!$E$2:$E$521,MATCH($K41,Daten!$A$2:$A$521,0))) | N41: =IF($K41="","",INDEX(Daten!$F$2:$F$521,MATCH($K41,Daten!$A$2:$A$521,0))) | O41: =IF($K41="","",INDEX(Daten!$G$2:$G$521,MATCH($K41,Daten!$A$2:$A$521,0)))
A42: =IF($K42="","",38) | B42: =IF($K42="","",INDEX(Start!$B$11:$B$26,L42)) | C42: =IF($K42="","",INDEX(Start!$B$11:$B$26,M42)) | D42: =IF($K42="","","—") | E42: =IF($K42="","",INDEX(Start!$B$11:$B$26,N42)) | F42: =IF($K42="","",INDEX(Start!$B$11:$B$26,O42)) | K42: =IF(38<=Start!$B$7,Start!$B$6*100+38,"") | L42: =IF($K42="","",INDEX(Daten!$D$2:$D$521,MATCH($K42,Daten!$A$2:$A$521,0))) | M42: =IF($K42="","",INDEX(Daten!$E$2:$E$521,MATCH($K42,Daten!$A$2:$A$521,0))) | N42: =IF($K42="","",INDEX(Daten!$F$2:$F$521,MATCH($K42,Daten!$A$2:$A$521,0))) | O42: =IF($K42="","",INDEX(Daten!$G$2:$G$521,MATCH($K42,Daten!$A$2:$A$521,0)))
A43: =IF($K43="","",39) | B43: =IF($K43="","",INDEX(Start!$B$11:$B$26,L43)) | C43: =IF($K43="","",INDEX(Start!$B$11:$B$26,M43)) | D43: =IF($K43="","","—") | E43: =IF($K43="","",INDEX(Start!$B$11:$B$26,N43)) | F43: =IF($K43="","",INDEX(Start!$B$11:$B$26,O43)) | K43: =IF(39<=Start!$B$7,Start!$B$6*100+39,"") | L43: =IF($K43="","",INDEX(Daten!$D$2:$D$521,MATCH($K43,Daten!$A$2:$A$521,0))) | M43: =IF($K43="","",INDEX(Daten!$E$2:$E$521,MATCH($K43,Daten!$A$2:$A$521,0))) | N43: =IF($K43="","",INDEX(Daten!$F$2:$F$521,MATCH($K43,Daten!$A$2:$A$521,0))) | O43: =IF($K43="","",INDEX(Daten!$G$2:$G$521,MATCH($K43,Daten!$A$2:$A$521,0)))
A44: =IF($K44="","",40) | B44: =IF($K44="","",INDEX(Start!$B$11:$B$26,L44)) | C44: =IF($K44="","",INDEX(Start!$B$11:$B$26,M44)) | D44: =IF($K44="","","—") | E44: =IF($K44="","",INDEX(Start!$B$11:$B$26,N44)) | F44: =IF($K44="","",INDEX(Start!$B$11:$B$26,O44)) | K44: =IF(40<=Start!$B$7,Start!$B$6*100+40,"") | L44: =IF($K44="","",INDEX(Daten!$D$2:$D$521,MATCH($K44,Daten!$A$2:$A$521,0))) | M44: =IF($K44="","",INDEX(Daten!$E$2:$E$521,MATCH($K44,Daten!$A$2:$A$521,0))) | N44: =IF($K44="","",INDEX(Daten!$F$2:$F$521,MATCH($K44,Daten!$A$2:$A$521,0))) | O44: =IF($K44="","",INDEX(Daten!$G$2:$G$521,MATCH($K44,Daten!$A$2:$A$521,0)))

Sheet Rangliste
A1: RANGLISTE
A4: Platz | B4: Spieler | C4: Spiele | D4: Siege | E4: Niederlagen | F4: Siegesquote | G4: Punktedifferenz | J4: Spieler | K4: Spiele | L4: Siege | M4: Niederlagen | N4: Quote | O4: Diff | P4: SortKey
A5: =IF(1<=Start!$B$6,1,"") -> 1 | B5: =IF($A5="","",INDEX($J$5:$J$20,MATCH(LARGE($P$5:$P$20,1),$P$5:$P$20,0))) -> Spieler 1 | C5: =IF($A5="","",INDEX($K$5:$K$20,MATCH(LARGE($P$5:$P$20,1),$P$5:$P$20,0))) -> 0 | D5: =IF($A5="","",INDEX($L$5:$L$20,MATCH(LARGE($P$5:$P$20,1),$P$5:$P$20,0))) -> 0 | E5: =IF($A5="","",INDEX($M$5:$M$20,MATCH(LARGE($P$5:$P$20,1),$P$5:$P$20,0))) -> 0 | F5: =IF($A5="","",INDEX($N$5:$N$20,MATCH(LARGE($P$5:$P$20,1),$P$5:$P$20,0))) -> 0 | G5: =IF($A5="","",INDEX($O$5:$O$20,MATCH(LARGE($P$5:$P$20,1),$P$5:$P$20,0))) -> 0 | J5: =IF(1<=Start!$B$6,INDEX(Start!$B$11:$B$26,1),"") -> Spieler 1 | K5: =IF(J5="","",COUNTIFS(Spielplan!$B$5:$B$44,J5,Spielplan!$G$5:$G$44,"<>")+COUNTIFS(Spielplan!$C$5:$C$44,J5,Spielplan!$G$5:$G$44,"<>")+COUNTIFS(Spielplan!$E$5:$E$44,J5,Spielplan!$G$5:$G$44,"<>")+COUNTIFS(Spielplan!$F$5:$F$44,J5,Spielplan!$G$5:$G$44,"<>")) -> 0 | L5: =IF(J5="","",COUNTIFS(Spielplan!$B$5:$B$44,J5,Spielplan!$G$5:$G$44,"Team 1")+COUNTIFS(Spielplan!$C$5:$C$44,J5,Spielplan!$G$5:$G$44,"Team 1")+COUNTIFS(Spielplan!$E$5:$E$44,J5,Spielplan!$G$5:$G$44,"Team 2")+COUNTIFS(Spielplan!$F$5:$F$44,J5,Spielplan!$G$5:$G$44,"Team 2")) -> 0 | M5: =IF(J5="","",K5-L5) -> 0 | N5: =IF(OR(J5="",K5=0),0,L5/K5) -> 0 | O5: =IF(J5="","",SUMPRODUCT((Spielplan!$B$5:$B$44=J5)+(Spielplan!$C$5:$C$44=J5),Spielplan!$H$5:$H$44-Spielplan!$I$5:$I$44)+SUMPRODUCT((Spielplan!$E$5:$E$44=J5)+(Spielplan!$F$5:$F$44=J5),Spielplan!$I$5:$I$44-Spielplan!$H$5:$H$44)) -> 0 | P5: =IF(J5="","",L5*1000000+N5*10000+O5*10+(100-ROW())) -> 95
A6: =IF(2<=Start!$B$6,2,"") -> 2 | B6: =IF($A6="","",INDEX($J$5:$J$20,MATCH(LARGE($P$5:$P$20,2),$P$5:$P$20,0))) -> Spieler 2 | C6: =IF($A6="","",INDEX($K$5:$K$20,MATCH(LARGE($P$5:$P$20,2),$P$5:$P$20,0))) -> 0 | D6: =IF($A6="","",INDEX($L$5:$L$20,MATCH(LARGE($P$5:$P$20,2),$P$5:$P$20,0))) -> 0 | E6: =IF($A6="","",INDEX($M$5:$M$20,MATCH(LARGE($P$5:$P$20,2),$P$5:$P$20,0))) -> 0 | F6: =IF($A6="","",INDEX($N$5:$N$20,MATCH(LARGE($P$5:$P$20,2),$P$5:$P$20,0))) -> 0 | G6: =IF($A6="","",INDEX($O$5:$O$20,MATCH(LARGE($P$5:$P$20,2),$P$5:$P$20,0))) -> 0 | J6: =IF(2<=Start!$B$6,INDEX(Start!$B$11:$B$26,2),"") -> Spieler 2 | K6: =IF(J6="","",COUNTIFS(Spielplan!$B$5:$B$44,J6,Spielplan!$G$5:$G$44,"<>")+COUNTIFS(Spielplan!$C$5:$C$44,J6,Spielplan!$G$5:$G$44,"<>")+COUNTIFS(Spielplan!$E$5:$E$44,J6,Spielplan!$G$5:$G$44,"<>")+COUNTIFS(Spielplan!$F$5:$F$44,J6,Spielplan!$G$5:$G$44,"<>")) -> 0 | L6: =IF(J6="","",COUNTIFS(Spielplan!$B$5:$B$44,J6,Spielplan!$G$5:$G$44,"Team 1")+COUNTIFS(Spielplan!$C$5:$C$44,J6,Spielplan!$G$5:$G$44,"Team 1")+COUNTIFS(Spielplan!$E$5:$E$44,J6,Spielplan!$G$5:$G$44,"Team 2")+COUNTIFS(Spielplan!$F$5:$F$44,J6,Spielplan!$G$5:$G$44,"Team 2")) -> 0 | M6: =IF(J6="","",K6-L6) -> 0 | N6: =IF(OR(J6="",K6=0),0,L6/K6) -> 0 | O6: =IF(J6="","",SUMPRODUCT((Spielplan!$B$5:$B$44=J6)+(Spielplan!$C$5:$C$44=J6),Spielplan!$H$5:$H$44-Spielplan!$I$5:$I$44)+SUMPRODUCT((Spielplan!$E$5:$E$44=J6)+(Spielplan!$F$5:$F$44=J6),Spielplan!$I$5:$I$44-Spielplan!$H$5:$H$44)) -> 0 | P6: =IF(J6="","",L6*1000000+N6*10000+O6*10+(100-ROW())) -> 94
A7: =IF(3<=Start!$B$6,3,"") -> 3 | B7: =IF($A7="","",INDEX($J$5:$J$20,MATCH(LARGE($P$5:$P$20,3),$P$5:$P$20,0))) -> Spieler 3 | C7: =IF($A7="","",INDEX($K$5:$K$20,MATCH(LARGE($P$5:$P$20,3),$P$5:$P$20,0))) -> 0 | D7: =IF($A7="","",INDEX($L$5:$L$20,MATCH(LARGE($P$5:$P$20,3),$P$5:$P$20,0))) -> 0 | E7: =IF($A7="","",INDEX($M$5:$M$20,MATCH(LARGE($P$5:$P$20,3),$P$5:$P$20,0))) -> 0 | F7: =IF($A7="","",INDEX($N$5:$N$20,MATCH(LARGE($P$5:$P$20,3),$P$5:$P$20,0))) -> 0 | G7: =IF($A7="","",INDEX($O$5:$O$20,MATCH(LARGE($P$5:$P$20,3),$P$5:$P$20,0))) -> 0 | J7: =IF(3<=Start!$B$6,INDEX(Start!$B$11:$B$26,3),"") -> Spieler 3 | K7: =IF(J7="","",COUNTIFS(Spielplan!$B$5:$B$44,J7,Spielplan!$G$5:$G$44,"<>")+COUNTIFS(Spielplan!$C$5:$C$44,J7,Spielplan!$G$5:$G$44,"<>")+COUNTIFS(Spielplan!$E$5:$E$44,J7,Spielplan!$G$5:$G$44,"<>")+COUNTIFS(Spielplan!$F$5:$F$44,J7,Spielplan!$G$5:$G$44,"<>")) -> 0 | L7: =IF(J7="","",COUNTIFS(Spielplan!$B$5:$B$44,J7,Spielplan!$G$5:$G$44,"Team 1")+COUNTIFS(Spielplan!$C$5:$C$44,J7,Spielplan!$G$5:$G$44,"Team 1")+COUNTIFS(Spielplan!$E$5:$E$44,J7,Spielplan!$G$5:$G$44,"Team 2")+COUNTIFS(Spielplan!$F$5:$F$44,J7,Spielplan!$G$5:$G$44,"Team 2")) -> 0 | M7: =IF(J7="","",K7-L7) -> 0 | N7: =IF(OR(J7="",K7=0),0,L7/K7) -> 0 | O7: =IF(J7="","",SUMPRODUCT((Spielplan!$B$5:$B$44=J7)+(Spielplan!$C$5:$C$44=J7),Spielplan!$H$5:$H$44-Spielplan!$I$5:$I$44)+SUMPRODUCT((Spielplan!$E$5:$E$44=J7)+(Spielplan!$F$5:$F$44=J7),Spielplan!$I$5:$I$44-Spielplan!$H$5:$H$44)) -> 0 | P7: =IF(J7="","",L7*1000000+N7*10000+O7*10+(100-ROW())) -> 93
A8: =IF(4<=Start!$B$6,4,"") -> 4 | B8: =IF($A8="","",INDEX($J$5:$J$20,MATCH(LARGE($P$5:$P$20,4),$P$5:$P$20,0))) -> Spieler 4 | C8: =IF($A8="","",INDEX($K$5:$K$20,MATCH(LARGE($P$5:$P$20,4),$P$5:$P$20,0))) -> 0 | D8: =IF($A8="","",INDEX($L$5:$L$20,MATCH(LARGE($P$5:$P$20,4),$P$5:$P$20,0))) -> 0 | E8: =IF($A8="","",INDEX($M$5:$M$20,MATCH(LARGE($P$5:$P$20,4),$P$5:$P$20,0))) -> 0 | F8: =IF($A8="","",INDEX($N$5:$N$20,MATCH(LARGE($P$5:$P$20,4),$P$5:$P$20,0))) -> 0 | G8: =IF($A8="","",INDEX($O$5:$O$20,MATCH(LARGE($P$5:$P$20,4),$P$5:$P$20,0))) -> 0 | J8: =IF(4<=Start!$B$6,INDEX(Start!$B$11:$B$26,4),"") -> Spieler 4 | K8: =IF(J8="","",COUNTIFS(Spielplan!$B$5:$B$44,J8,Spielplan!$G$5:$G$44,"<>")+COUNTIFS(Spielplan!$C$5:$C$44,J8,Spielplan!$G$5:$G$44,"<>")+COUNTIFS(Spielplan!$E$5:$E$44,J8,Spielplan!$G$5:$G$44,"<>")+COUNTIFS(Spielplan!$F$5:$F$44,J8,Spielplan!$G$5:$G$44,"<>")) -> 0 | L8: =IF(J8="","",COUNTIFS(Spielplan!$B$5:$B$44,J8,Spielplan!$G$5:$G$44,"Team 1")+COUNTIFS(Spielplan!$C$5:$C$44,J8,Spielplan!$G$5:$G$44,"Team 1")+COUNTIFS(Spielplan!$E$5:$E$44,J8,Spielplan!$G$5:$G$44,"Team 2")+COUNTIFS(Spielplan!$F$5:$F$44,J8,Spielplan!$G$5:$G$44,"Team 2")) -> 0 | M8: =IF(J8="","",K8-L8) -> 0 | N8: =IF(OR(J8="",K8=0),0,L8/K8) -> 0 | O8: =IF(J8="","",SUMPRODUCT((Spielplan!$B$5:$B$44=J8)+(Spielplan!$C$5:$C$44=J8),Spielplan!$H$5:$H$44-Spielplan!$I$5:$I$44)+SUMPRODUCT((Spielplan!$E$5:$E$44=J8)+(Spielplan!$F$5:$F$44=J8),Spielplan!$I$5:$I$44-Spielplan!$H$5:$H$44)) -> 0 | P8: =IF(J8="","",L8*1000000+N8*10000+O8*10+(100-ROW())) -> 92
A9: =IF(5<=Start!$B$6,5,"") -> 5 | B9: =IF($A9="","",INDEX($J$5:$J$20,MATCH(LARGE($P$5:$P$20,5),$P$5:$P$20,0))) -> Spieler 5 | C9: =IF($A9="","",INDEX($K$5:$K$20,MATCH(LARGE($P$5:$P$20,5),$P$5:$P$20,0))) -> 0 | D9: =IF($A9="","",INDEX($L$5:$L$20,MATCH(LARGE($P$5:$P$20,5),$P$5:$P$20,0))) -> 0 | E9: =IF($A9="","",INDEX($M$5:$M$20,MATCH(LARGE($P$5:$P$20,5),$P$5:$P$20,0))) -> 0 | F9: =IF($A9="","",INDEX($N$5:$N$20,MATCH(LARGE($P$5:$P$20,5),$P$5:$P$20,0))) -> 0 | G9: =IF($A9="","",INDEX($O$5:$O$20,MATCH(LARGE($P$5:$P$20,5),$P$5:$P$20,0))) -> 0 | J9: =IF(5<=Start!$B$6,INDEX(Start!$B$11:$B$26,5),"") -> Spieler 5 | K9: =IF(J9="","",COUNTIFS(Spielplan!$B$5:$B$44,J9,Spielplan!$G$5:$G$44,"<>")+COUNTIFS(Spielplan!$C$5:$C$44,J9,Spielplan!$G$5:$G$44,"<>")+COUNTIFS(Spielplan!$E$5:$E$44,J9,Spielplan!$G$5:$G$44,"<>")+COUNTIFS(Spielplan!$F$5:$F$44,J9,Spielplan!$G$5:$G$44,"<>")) -> 0 | L9: =IF(J9="","",COUNTIFS(Spielplan!$B$5:$B$44,J9,Spielplan!$G$5:$G$44,"Team 1")+COUNTIFS(Spielplan!$C$5:$C$44,J9,Spielplan!$G$5:$G$44,"Team 1")+COUNTIFS(Spielplan!$E$5:$E$44,J9,Spielplan!$G$5:$G$44,"Team 2")+COUNTIFS(Spielplan!$F$5:$F$44,J9,Spielplan!$G$5:$G$44,"Team 2")) -> 0 | M9: =IF(J9="","",K9-L9) -> 0 | N9: =IF(OR(J9="",K9=0),0,L9/K9) -> 0 | O9: =IF(J9="","",SUMPRODUCT((Spielplan!$B$5:$B$44=J9)+(Spielplan!$C$5:$C$44=J9),Spielplan!$H$5:$H$44-Spielplan!$I$5:$I$44)+SUMPRODUCT((Spielplan!$E$5:$E$44=J9)+(Spielplan!$F$5:$F$44=J9),Spielplan!$I$5:$I$44-Spielplan!$H$5:$H$44)) -> 0 | P9: =IF(J9="","",L9*1000000+N9*10000+O9*10+(100-ROW())) -> 91
A10: =IF(6<=Start!$B$6,6,"") -> 6 | B10: =IF($A10="","",INDEX($J$5:$J$20,MATCH(LARGE($P$5:$P$20,6),$P$5:$P$20,0))) -> Spieler 6 | C10: =IF($A10="","",INDEX($K$5:$K$20,MATCH(LARGE($P$5:$P$20,6),$P$5:$P$20,0))) -> 0 | D10: =IF($A10="","",INDEX($L$5:$L$20,MATCH(LARGE($P$5:$P$20,6),$P$5:$P$20,0))) -> 0 | E10: =IF($A10="","",INDEX($M$5:$M$20,MATCH(LARGE($P$5:$P$20,6),$P$5:$P$20,0))) -> 0 | F10: =IF($A10="","",INDEX($N$5:$N$20,MATCH(LARGE($P$5:$P$20,6),$P$5:$P$20,0))) -> 0 | G10: =IF($A10="","",INDEX($O$5:$O$20,MATCH(LARGE($P$5:$P$20,6),$P$5:$P$20,0))) -> 0 | J10: =IF(6<=Start!$B$6,INDEX(Start!$B$11:$B$26,6),"") -> Spieler 6 | K10: =IF(J10="","",COUNTIFS(Spielplan!$B$5:$B$44,J10,Spielplan!$G$5:$G$44,"<>")+COUNTIFS(Spielplan!$C$5:$C$44,J10,Spielplan!$G$5:$G$44,"<>")+COUNTIFS(Spielplan!$E$5:$E$44,J10,Spielplan!$G$5:$G$44,"<>")+COUNTIFS(Spielplan!$F$5:$F$44,J10,Spielplan!$G$5:$G$44,"<>")) -> 0 | L10: =IF(J10="","",COUNTIFS(Spielplan!$B$5:$B$44,J10,Spielplan!$G$5:$G$44,"Team 1")+COUNTIFS(Spielplan!$C$5:$C$44,J10,Spielplan!$G$5:$G$44,"Team 1")+COUNTIFS(Spielplan!$E$5:$E$44,J10,Spielplan!$G$5:$G$44,"Team 2")+COUNTIFS(Spielplan!$F$5:$F$44,J10,Spielplan!$G$5:$G$44,"Team 2")) -> 0 | M10: =IF(J10="","",K10-L10) -> 0 | N10: =IF(OR(J10="",K10=0),0,L10/K10) -> 0 | O10: =IF(J10="","",SUMPRODUCT((Spielplan!$B$5:$B$44=J10)+(Spielplan!$C$5:$C$44=J10),Spielplan!$H$5:$H$44-Spielplan!$I$5:$I$44)+SUMPRODUCT((Spielplan!$E$5:$E$44=J10)+(Spielplan!$F$5:$F$44=J10),Spielplan!$I$5:$I$44-Spielplan!$H$5:$H$44)) -> 0 | P10: =IF(J10="","",L10*1000000+N10*10000+O10*10+(100-ROW())) -> 90
A11: =IF(7<=Start!$B$6,7,"") | B11: =IF($A11="","",INDEX($J$5:$J$20,MATCH(LARGE($P$5:$P$20,7),$P$5:$P$20,0))) | C11: =IF($A11="","",INDEX($K$5:$K$20,MATCH(LARGE($P$5:$P$20,7),$P$5:$P$20,0))) | D11: =IF($A11="","",INDEX($L$5:$L$20,MATCH(LARGE($P$5:$P$20,7),$P$5:$P$20,0))) | E11: =IF($A11="","",INDEX($M$5:$M$20,MATCH(LARGE($P$5:$P$20,7),$P$5:$P$20,0))) | F11: =IF($A11="","",INDEX($N$5:$N$20,MATCH(LARGE($P$5:$P$20,7),$P$5:$P$20,0))) | G11: =IF($A11="","",INDEX($O$5:$O$20,MATCH(LARGE($P$5:$P$20,7),$P$5:$P$20,0))) | J11: =IF(7<=Start!$B$6,INDEX(Start!$B$11:$B$26,7),"") | K11: =IF(J11="","",COUNTIFS(Spielplan!$B$5:$B$44,J11,Spielplan!$G$5:$G$44,"<>")+COUNTIFS(Spielplan!$C$5:$C$44,J11,Spielplan!$G$5:$G$44,"<>")+COUNTIFS(Spielplan!$E$5:$E$44,J11,Spielplan!$G$5:$G$44,"<>")+COUNTIFS(Spielplan!$F$5:$F$44,J11,Spielplan!$G$5:$G$44,"<>")) | L11: =IF(J11="","",COUNTIFS(Spielplan!$B$5:$B$44,J11,Spielplan!$G$5:$G$44,"Team 1")+COUNTIFS(Spielplan!$C$5:$C$44,J11,Spielplan!$G$5:$G$44,"Team 1")+COUNTIFS(Spielplan!$E$5:$E$44,J11,Spielplan!$G$5:$G$44,"Team 2")+COUNTIFS(Spielplan!$F$5:$F$44,J11,Spielplan!$G$5:$G$44,"Team 2")) | M11: =IF(J11="","",K11-L11) | N11: =IF(OR(J11="",K11=0),0,L11/K11) -> 0 | O11: =IF(J11="","",SUMPRODUCT((Spielplan!$B$5:$B$44=J11)+(Spielplan!$C$5:$C$44=J11),Spielplan!$H$5:$H$44-Spielplan!$I$5:$I$44)+SUMPRODUCT((Spielplan!$E$5:$E$44=J11)+(Spielplan!$F$5:$F$44=J11),Spielplan!$I$5:$I$44-Spielplan!$H$5:$H$44)) | P11: =IF(J11="","",L11*1000000+N11*10000+O11*10+(100-ROW()))
A12: =IF(8<=Start!$B$6,8,"") | B12: =IF($A12="","",INDEX($J$5:$J$20,MATCH(LARGE($P$5:$P$20,8),$P$5:$P$20,0))) | C12: =IF($A12="","",INDEX($K$5:$K$20,MATCH(LARGE($P$5:$P$20,8),$P$5:$P$20,0))) | D12: =IF($A12="","",INDEX($L$5:$L$20,MATCH(LARGE($P$5:$P$20,8),$P$5:$P$20,0))) | E12: =IF($A12="","",INDEX($M$5:$M$20,MATCH(LARGE($P$5:$P$20,8),$P$5:$P$20,0))) | F12: =IF($A12="","",INDEX($N$5:$N$20,MATCH(LARGE($P$5:$P$20,8),$P$5:$P$20,0))) | G12: =IF($A12="","",INDEX($O$5:$O$20,MATCH(LARGE($P$5:$P$20,8),$P$5:$P$20,0))) | J12: =IF(8<=Start!$B$6,INDEX(Start!$B$11:$B$26,8),"") | K12: =IF(J12="","",COUNTIFS(Spielplan!$B$5:$B$44,J12,Spielplan!$G$5:$G$44,"<>")+COUNTIFS(Spielplan!$C$5:$C$44,J12,Spielplan!$G$5:$G$44,"<>")+COUNTIFS(Spielplan!$E$5:$E$44,J12,Spielplan!$G$5:$G$44,"<>")+COUNTIFS(Spielplan!$F$5:$F$44,J12,Spielplan!$G$5:$G$44,"<>")) | L12: =IF(J12="","",COUNTIFS(Spielplan!$B$5:$B$44,J12,Spielplan!$G$5:$G$44,"Team 1")+COUNTIFS(Spielplan!$C$5:$C$44,J12,Spielplan!$G$5:$G$44,"Team 1")+COUNTIFS(Spielplan!$E$5:$E$44,J12,Spielplan!$G$5:$G$44,"Team 2")+COUNTIFS(Spielplan!$F$5:$F$44,J12,Spielplan!$G$5:$G$44,"Team 2")) | M12: =IF(J12="","",K12-L12) | N12: =IF(OR(J12="",K12=0),0,L12/K12) -> 0 | O12: =IF(J12="","",SUMPRODUCT((Spielplan!$B$5:$B$44=J12)+(Spielplan!$C$5:$C$44=J12),Spielplan!$H$5:$H$44-Spielplan!$I$5:$I$44)+SUMPRODUCT((Spielplan!$E$5:$E$44=J12)+(Spielplan!$F$5:$F$44=J12),Spielplan!$I$5:$I$44-Spielplan!$H$5:$H$44)) | P12: =IF(J12="","",L12*1000000+N12*10000+O12*10+(100-ROW()))
A13: =IF(9<=Start!$B$6,9,"") | B13: =IF($A13="","",INDEX($J$5:$J$20,MATCH(LARGE($P$5:$P$20,9),$P$5:$P$20,0))) | C13: =IF($A13="","",INDEX($K$5:$K$20,MATCH(LARGE($P$5:$P$20,9),$P$5:$P$20,0))) | D13: =IF($A13="","",INDEX($L$5:$L$20,MATCH(LARGE($P$5:$P$20,9),$P$5:$P$20,0))) | E13: =IF($A13="","",INDEX($M$5:$M$20,MATCH(LARGE($P$5:$P$20,9),$P$5:$P$20,0))) | F13: =IF($A13="","",INDEX($N$5:$N$20,MATCH(LARGE($P$5:$P$20,9),$P$5:$P$20,0))) | G13: =IF($A13="","",INDEX($O$5:$O$20,MATCH(LARGE($P$5:$P$20,9),$P$5:$P$20,0))) | J13: =IF(9<=Start!$B$6,INDEX(Start!$B$11:$B$26,9),"") | K13: =IF(J13="","",COUNTIFS(Spielplan!$B$5:$B$44,J13,Spielplan!$G$5:$G$44,"<>")+COUNTIFS(Spielplan!$C$5:$C$44,J13,Spielplan!$G$5:$G$44,"<>")+COUNTIFS(Spielplan!$E$5:$E$44,J13,Spielplan!$G$5:$G$44,"<>")+COUNTIFS(Spielplan!$F$5:$F$44,J13,Spielplan!$G$5:$G$44,"<>")) | L13: =IF(J13="","",COUNTIFS(Spielplan!$B$5:$B$44,J13,Spielplan!$G$5:$G$44,"Team 1")+COUNTIFS(Spielplan!$C$5:$C$44,J13,Spielplan!$G$5:$G$44,"Team 1")+COUNTIFS(Spielplan!$E$5:$E$44,J13,Spielplan!$G$5:$G$44,"Team 2")+COUNTIFS(Spielplan!$F$5:$F$44,J13,Spielplan!$G$5:$G$44,"Team 2")) | M13: =IF(J13="","",K13-L13) | N13: =IF(OR(J13="",K13=0),0,L13/K13) -> 0 | O13: =IF(J13="","",SUMPRODUCT((Spielplan!$B$5:$B$44=J13)+(Spielplan!$C$5:$C$44=J13),Spielplan!$H$5:$H$44-Spielplan!$I$5:$I$44)+SUMPRODUCT((Spielplan!$E$5:$E$44=J13)+(Spielplan!$F$5:$F$44=J13),Spielplan!$I$5:$I$44-Spielplan!$H$5:$H$44)) | P13: =IF(J13="","",L13*1000000+N13*10000+O13*10+(100-ROW()))
A14: =IF(10<=Start!$B$6,10,"") | B14: =IF($A14="","",INDEX($J$5:$J$20,MATCH(LARGE($P$5:$P$20,10),$P$5:$P$20,0))) | C14: =IF($A14="","",INDEX($K$5:$K$20,MATCH(LARGE($P$5:$P$20,10),$P$5:$P$20,0))) | D14: =IF($A14="","",INDEX($L$5:$L$20,MATCH(LARGE($P$5:$P$20,10),$P$5:$P$20,0))) | E14: =IF($A14="","",INDEX($M$5:$M$20,MATCH(LARGE($P$5:$P$20,10),$P$5:$P$20,0))) | F14: =IF($A14="","",INDEX($N$5:$N$20,MATCH(LARGE($P$5:$P$20,10),$P$5:$P$20,0))) | G14: =IF($A14="","",INDEX($O$5:$O$20,MATCH(LARGE($P$5:$P$20,10),$P$5:$P$20,0))) | J14: =IF(10<=Start!$B$6,INDEX(Start!$B$11:$B$26,10),"") | K14: =IF(J14="","",COUNTIFS(Spielplan!$B$5:$B$44,J14,Spielplan!$G$5:$G$44,"<>")+COUNTIFS(Spielplan!$C$5:$C$44,J14,Spielplan!$G$5:$G$44,"<>")+COUNTIFS(Spielplan!$E$5:$E$44,J14,Spielplan!$G$5:$G$44,"<>")+COUNTIFS(Spielplan!$F$5:$F$44,J14,Spielplan!$G$5:$G$44,"<>")) | L14: =IF(J14="","",COUNTIFS(Spielplan!$B$5:$B$44,J14,Spielplan!$G$5:$G$44,"Team 1")+COUNTIFS(Spielplan!$C$5:$C$44,J14,Spielplan!$G$5:$G$44,"Team 1")+COUNTIFS(Spielplan!$E$5:$E$44,J14,Spielplan!$G$5:$G$44,"Team 2")+COUNTIFS(Spielplan!$F$5:$F$44,J14,Spielplan!$G$5:$G$44,"Team 2")) | M14: =IF(J14="","",K14-L14) | N14: =IF(OR(J14="",K14=0),0,L14/K14) -> 0 | O14: =IF(J14="","",SUMPRODUCT((Spielplan!$B$5:$B$44=J14)+(Spielplan!$C$5:$C$44=J14),Spielplan!$H$5:$H$44-Spielplan!$I$5:$I$44)+SUMPRODUCT((Spielplan!$E$5:$E$44=J14)+(Spielplan!$F$5:$F$44=J14),Spielplan!$I$5:$I$44-Spielplan!$H$5:$H$44)) | P14: =IF(J14="","",L14*1000000+N14*10000+O14*10+(100-ROW()))
A15: =IF(11<=Start!$B$6,11,"") | B15: =IF($A15="","",INDEX($J$5:$J$20,MATCH(LARGE($P$5:$P$20,11),$P$5:$P$20,0))) | C15: =IF($A15="","",INDEX($K$5:$K$20,MATCH(LARGE($P$5:$P$20,11),$P$5:$P$20,0))) | D15: =IF($A15="","",INDEX($L$5:$L$20,MATCH(LARGE($P$5:$P$20,11),$P$5:$P$20,0))) | E15: =IF($A15="","",INDEX($M$5:$M$20,MATCH(LARGE($P$5:$P$20,11),$P$5:$P$20,0))) | F15: =IF($A15="","",INDEX($N$5:$N$20,MATCH(LARGE($P$5:$P$20,11),$P$5:$P$20,0))) | G15: =IF($A15="","",INDEX($O$5:$O$20,MATCH(LARGE($P$5:$P$20,11),$P$5:$P$20,0))) | J15: =IF(11<=Start!$B$6,INDEX(Start!$B$11:$B$26,11),"") | K15: =IF(J15="","",COUNTIFS(Spielplan!$B$5:$B$44,J15,Spielplan!$G$5:$G$44,"<>")+COUNTIFS(Spielplan!$C$5:$C$44,J15,Spielplan!$G$5:$G$44,"<>")+COUNTIFS(Spielplan!$E$5:$E$44,J15,Spielplan!$G$5:$G$44,"<>")+COUNTIFS(Spielplan!$F$5:$F$44,J15,Spielplan!$G$5:$G$44,"<>")) | L15: =IF(J15="","",COUNTIFS(Spielplan!$B$5:$B$44,J15,Spielplan!$G$5:$G$44,"Team 1")+COUNTIFS(Spielplan!$C$5:$C$44,J15,Spielplan!$G$5:$G$44,"Team 1")+COUNTIFS(Spielplan!$E$5:$E$44,J15,Spielplan!$G$5:$G$44,"Team 2")+COUNTIFS(Spielplan!$F$5:$F$44,J15,Spielplan!$G$5:$G$44,"Team 2")) | M15: =IF(J15="","",K15-L15) | N15: =IF(OR(J15="",K15=0),0,L15/K15) -> 0 | O15: =IF(J15="","",SUMPRODUCT((Spielplan!$B$5:$B$44=J15)+(Spielplan!$C$5:$C$44=J15),Spielplan!$H$5:$H$44-Spielplan!$I$5:$I$44)+SUMPRODUCT((Spielplan!$E$5:$E$44=J15)+(Spielplan!$F$5:$F$44=J15),Spielplan!$I$5:$I$44-Spielplan!$H$5:$H$44)) | P15: =IF(J15="","",L15*1000000+N15*10000+O15*10+(100-ROW()))
A16: =IF(12<=Start!$B$6,12,"") | B16: =IF($A16="","",INDEX($J$5:$J$20,MATCH(LARGE($P$5:$P$20,12),$P$5:$P$20,0))) | C16: =IF($A16="","",INDEX($K$5:$K$20,MATCH(LARGE($P$5:$P$20,12),$P$5:$P$20,0))) | D16: =IF($A16="","",INDEX($L$5:$L$20,MATCH(LARGE($P$5:$P$20,12),$P$5:$P$20,0))) | E16: =IF($A16="","",INDEX($M$5:$M$20,MATCH(LARGE($P$5:$P$20,12),$P$5:$P$20,0))) | F16: =IF($A16="","",INDEX($N$5:$N$20,MATCH(LARGE($P$5:$P$20,12),$P$5:$P$20,0))) | G16: =IF($A16="","",INDEX($O$5:$O$20,MATCH(LARGE($P$5:$P$20,12),$P$5:$P$20,0))) | J16: =IF(12<=Start!$B$6,INDEX(Start!$B$11:$B$26,12),"") | K16: =IF(J16="","",COUNTIFS(Spielplan!$B$5:$B$44,J16,Spielplan!$G$5:$G$44,"<>")+COUNTIFS(Spielplan!$C$5:$C$44,J16,Spielplan!$G$5:$G$44,"<>")+COUNTIFS(Spielplan!$E$5:$E$44,J16,Spielplan!$G$5:$G$44,"<>")+COUNTIFS(Spielplan!$F$5:$F$44,J16,Spielplan!$G$5:$G$44,"<>")) | L16: =IF(J16="","",COUNTIFS(Spielplan!$B$5:$B$44,J16,Spielplan!$G$5:$G$44,"Team 1")+COUNTIFS(Spielplan!$C$5:$C$44,J16,Spielplan!$G$5:$G$44,"Team 1")+COUNTIFS(Spielplan!$E$5:$E$44,J16,Spielplan!$G$5:$G$44,"Team 2")+COUNTIFS(Spielplan!$F$5:$F$44,J16,Spielplan!$G$5:$G$44,"Team 2")) | M16: =IF(J16="","",K16-L16) | N16: =IF(OR(J16="",K16=0),0,L16/K16) -> 0 | O16: =IF(J16="","",SUMPRODUCT((Spielplan!$B$5:$B$44=J16)+(Spielplan!$C$5:$C$44=J16),Spielplan!$H$5:$H$44-Spielplan!$I$5:$I$44)+SUMPRODUCT((Spielplan!$E$5:$E$44=J16)+(Spielplan!$F$5:$F$44=J16),Spielplan!$I$5:$I$44-Spielplan!$H$5:$H$44)) | P16: =IF(J16="","",L16*1000000+N16*10000+O16*10+(100-ROW()))
A17: =IF(13<=Start!$B$6,13,"") | B17: =IF($A17="","",INDEX($J$5:$J$20,MATCH(LARGE($P$5:$P$20,13),$P$5:$P$20,0))) | C17: =IF($A17="","",INDEX($K$5:$K$20,MATCH(LARGE($P$5:$P$20,13),$P$5:$P$20,0))) | D17: =IF($A17="","",INDEX($L$5:$L$20,MATCH(LARGE($P$5:$P$20,13),$P$5:$P$20,0))) | E17: =IF($A17="","",INDEX($M$5:$M$20,MATCH(LARGE($P$5:$P$20,13),$P$5:$P$20,0))) | F17: =IF($A17="","",INDEX($N$5:$N$20,MATCH(LARGE($P$5:$P$20,13),$P$5:$P$20,0))) | G17: =IF($A17="","",INDEX($O$5:$O$20,MATCH(LARGE($P$5:$P$20,13),$P$5:$P$20,0))) | J17: =IF(13<=Start!$B$6,INDEX(Start!$B$11:$B$26,13),"") | K17: =IF(J17="","",COUNTIFS(Spielplan!$B$5:$B$44,J17,Spielplan!$G$5:$G$44,"<>")+COUNTIFS(Spielplan!$C$5:$C$44,J17,Spielplan!$G$5:$G$44,"<>")+COUNTIFS(Spielplan!$E$5:$E$44,J17,Spielplan!$G$5:$G$44,"<>")+COUNTIFS(Spielplan!$F$5:$F$44,J17,Spielplan!$G$5:$G$44,"<>")) | L17: =IF(J17="","",COUNTIFS(Spielplan!$B$5:$B$44,J17,Spielplan!$G$5:$G$44,"Team 1")+COUNTIFS(Spielplan!$C$5:$C$44,J17,Spielplan!$G$5:$G$44,"Team 1")+COUNTIFS(Spielplan!$E$5:$E$44,J17,Spielplan!$G$5:$G$44,"Team 2")+COUNTIFS(Spielplan!$F$5:$F$44,J17,Spielplan!$G$5:$G$44,"Team 2")) | M17: =IF(J17="","",K17-L17) | N17: =IF(OR(J17="",K17=0),0,L17/K17) -> 0 | O17: =IF(J17="","",SUMPRODUCT((Spielplan!$B$5:$B$44=J17)+(Spielplan!$C$5:$C$44=J17),Spielplan!$H$5:$H$44-Spielplan!$I$5:$I$44)+SUMPRODUCT((Spielplan!$E$5:$E$44=J17)+(Spielplan!$F$5:$F$44=J17),Spielplan!$I$5:$I$44-Spielplan!$H$5:$H$44)) | P17: =IF(J17="","",L17*1000000+N17*10000+O17*10+(100-ROW()))
A18: =IF(14<=Start!$B$6,14,"") | B18: =IF($A18="","",INDEX($J$5:$J$20,MATCH(LARGE($P$5:$P$20,14),$P$5:$P$20,0))) | C18: =IF($A18="","",INDEX($K$5:$K$20,MATCH(LARGE($P$5:$P$20,14),$P$5:$P$20,0))) | D18: =IF($A18="","",INDEX($L$5:$L$20,MATCH(LARGE($P$5:$P$20,14),$P$5:$P$20,0))) | E18: =IF($A18="","",INDEX($M$5:$M$20,MATCH(LARGE($P$5:$P$20,14),$P$5:$P$20,0))) | F18: =IF($A18="","",INDEX($N$5:$N$20,MATCH(LARGE($P$5:$P$20,14),$P$5:$P$20,0))) | G18: =IF($A18="","",INDEX($O$5:$O$20,MATCH(LARGE($P$5:$P$20,14),$P$5:$P$20,0))) | J18: =IF(14<=Start!$B$6,INDEX(Start!$B$11:$B$26,14),"") | K18: =IF(J18="","",COUNTIFS(Spielplan!$B$5:$B$44,J18,Spielplan!$G$5:$G$44,"<>")+COUNTIFS(Spielplan!$C$5:$C$44,J18,Spielplan!$G$5:$G$44,"<>")+COUNTIFS(Spielplan!$E$5:$E$44,J18,Spielplan!$G$5:$G$44,"<>")+COUNTIFS(Spielplan!$F$5:$F$44,J18,Spielplan!$G$5:$G$44,"<>")) | L18: =IF(J18="","",COUNTIFS(Spielplan!$B$5:$B$44,J18,Spielplan!$G$5:$G$44,"Team 1")+COUNTIFS(Spielplan!$C$5:$C$44,J18,Spielplan!$G$5:$G$44,"Team 1")+COUNTIFS(Spielplan!$E$5:$E$44,J18,Spielplan!$G$5:$G$44,"Team 2")+COUNTIFS(Spielplan!$F$5:$F$44,J18,Spielplan!$G$5:$G$44,"Team 2")) | M18: =IF(J18="","",K18-L18) | N18: =IF(OR(J18="",K18=0),0,L18/K18) -> 0 | O18: =IF(J18="","",SUMPRODUCT((Spielplan!$B$5:$B$44=J18)+(Spielplan!$C$5:$C$44=J18),Spielplan!$H$5:$H$44-Spielplan!$I$5:$I$44)+SUMPRODUCT((Spielplan!$E$5:$E$44=J18)+(Spielplan!$F$5:$F$44=J18),Spielplan!$I$5:$I$44-Spielplan!$H$5:$H$44)) | P18: =IF(J18="","",L18*1000000+N18*10000+O18*10+(100-ROW()))
A19: =IF(15<=Start!$B$6,15,"") | B19: =IF($A19="","",INDEX($J$5:$J$20,MATCH(LARGE($P$5:$P$20,15),$P$5:$P$20,0))) | C19: =IF($A19="","",INDEX($K$5:$K$20,MATCH(LARGE($P$5:$P$20,15),$P$5:$P$20,0))) | D19: =IF($A19="","",INDEX($L$5:$L$20,MATCH(LARGE($P$5:$P$20,15),$P$5:$P$20,0))) | E19: =IF($A19="","",INDEX($M$5:$M$20,MATCH(LARGE($P$5:$P$20,15),$P$5:$P$20,0))) | F19: =IF($A19="","",INDEX($N$5:$N$20,MATCH(LARGE($P$5:$P$20,15),$P$5:$P$20,0))) | G19: =IF($A19="","",INDEX($O$5:$O$20,MATCH(LARGE($P$5:$P$20,15),$P$5:$P$20,0))) | J19: =IF(15<=Start!$B$6,INDEX(Start!$B$11:$B$26,15),"") | K19: =IF(J19="","",COUNTIFS(Spielplan!$B$5:$B$44,J19,Spielplan!$G$5:$G$44,"<>")+COUNTIFS(Spielplan!$C$5:$C$44,J19,Spielplan!$G$5:$G$44,"<>")+COUNTIFS(Spielplan!$E$5:$E$44,J19,Spielplan!$G$5:$G$44,"<>")+COUNTIFS(Spielplan!$F$5:$F$44,J19,Spielplan!$G$5:$G$44,"<>")) | L19: =IF(J19="","",COUNTIFS(Spielplan!$B$5:$B$44,J19,Spielplan!$G$5:$G$44,"Team 1")+COUNTIFS(Spielplan!$C$5:$C$44,J19,Spielplan!$G$5:$G$44,"Team 1")+COUNTIFS(Spielplan!$E$5:$E$44,J19,Spielplan!$G$5:$G$44,"Team 2")+COUNTIFS(Spielplan!$F$5:$F$44,J19,Spielplan!$G$5:$G$44,"Team 2")) | M19: =IF(J19="","",K19-L19) | N19: =IF(OR(J19="",K19=0),0,L19/K19) -> 0 | O19: =IF(J19="","",SUMPRODUCT((Spielplan!$B$5:$B$44=J19)+(Spielplan!$C$5:$C$44=J19),Spielplan!$H$5:$H$44-Spielplan!$I$5:$I$44)+SUMPRODUCT((Spielplan!$E$5:$E$44=J19)+(Spielplan!$F$5:$F$44=J19),Spielplan!$I$5:$I$44-Spielplan!$H$5:$H$44)) | P19: =IF(J19="","",L19*1000000+N19*10000+O19*10+(100-ROW()))
A20: =IF(16<=Start!$B$6,16,"") | B20: =IF($A20="","",INDEX($J$5:$J$20,MATCH(LARGE($P$5:$P$20,16),$P$5:$P$20,0))) | C20: =IF($A20="","",INDEX($K$5:$K$20,MATCH(LARGE($P$5:$P$20,16),$P$5:$P$20,0))) | D20: =IF($A20="","",INDEX($L$5:$L$20,MATCH(LARGE($P$5:$P$20,16),$P$5:$P$20,0))) | E20: =IF($A20="","",INDEX($M$5:$M$20,MATCH(LARGE($P$5:$P$20,16),$P$5:$P$20,0))) | F20: =IF($A20="","",INDEX($N$5:$N$20,MATCH(LARGE($P$5:$P$20,16),$P$5:$P$20,0))) | G20: =IF($A20="","",INDEX($O$5:$O$20,MATCH(LARGE($P$5:$P$20,16),$P$5:$P$20,0))) | J20: =IF(16<=Start!$B$6,INDEX(Start!$B$11:$B$26,16),"") | K20: =IF(J20="","",COUNTIFS(Spielplan!$B$5:$B$44,J20,Spielplan!$G$5:$G$44,"<>")+COUNTIFS(Spielplan!$C$5:$C$44,J20,Spielplan!$G$5:$G$44,"<>")+COUNTIFS(Spielplan!$E$5:$E$44,J20,Spielplan!$G$5:$G$44,"<>")+COUNTIFS(Spielplan!$F$5:$F$44,J20,Spielplan!$G$5:$G$44,"<>")) | L20: =IF(J20="","",COUNTIFS(Spielplan!$B$5:$B$44,J20,Spielplan!$G$5:$G$44,"Team 1")+COUNTIFS(Spielplan!$C$5:$C$44,J20,Spielplan!$G$5:$G$44,"Team 1")+COUNTIFS(Spielplan!$E$5:$E$44,J20,Spielplan!$G$5:$G$44,"Team 2")+COUNTIFS(Spielplan!$F$5:$F$44,J20,Spielplan!$G$5:$G$44,"Team 2")) | M20: =IF(J20="","",K20-L20) | N20: =IF(OR(J20="",K20=0),0,L20/K20) -> 0 | O20: =IF(J20="","",SUMPRODUCT((Spielplan!$B$5:$B$44=J20)+(Spielplan!$C$5:$C$44=J20),Spielplan!$H$5:$H$44-Spielplan!$I$5:$I$44)+SUMPRODUCT((Spielplan!$E$5:$E$44=J20)+(Spielplan!$F$5:$F$44=J20),Spielplan!$I$5:$I$44-Spielplan!$H$5:$H$44)) | P20: =IF(J20="","",L20*1000000+N20*10000+O20*10+(100-ROW()))
A23: Sortierung: 1. Siege/Punkte · 2. Siegesquote · 3. Punktedifferenz. Nur Spiele mit eingetragenem Sieger werden als gespielt gewertet. Offene Begegnungen zählen weder als Sieg noch als Niederlage.

Sheet Statistiken
A1: STATISTIKEN
A4: Kennzahl | B4: Wert | C4: Kennzahl | D4: Wert
A5: Aktive Spieler | B5: =Start!B6 -> 6 | C5: Geplante Runden | D5: =Start!B7 -> 15
A6: Eingetragene Ergebnisse | B6: =COUNTIF(Spielplan!G5:G44,"Team 1")+COUNTIF(Spielplan!G5:G44,"Team 2") -> 0 | C6: Offene Ergebnisse | D6: =Start!B7-B6 -> 15
A7: Gesamtspiele pro Runde | B7: 1 | C7: Maximale Runden | D7: 40
A10: Spieler | B10: Spiele | C10: Siege | D10: Niederlagen | E10: Quote | F10: Punktedifferenz | G10: Verschiedene Partner
A11: =IF(1<=Start!$B$6,INDEX(Start!$B$11:$B$26,1),"") -> Spieler 1 | B11: =IF(A11="","",INDEX(Rangliste!$K$5:$K$20,1)) -> 0 | C11: =IF(A11="","",INDEX(Rangliste!$L$5:$L$20,1)) -> 0 | D11: =IF(A11="","",INDEX(Rangliste!$M$5:$M$20,1)) -> 0 | E11: =IF(A11="","",INDEX(Rangliste!$N$5:$N$20,1)) -> 0 | F11: =IF(A11="","",INDEX(Rangliste!$O$5:$O$20,1)) -> 0 | G11: =IF(A11="","",--((COUNTIFS(Spielplan!$B$5:$B$44,A11,Spielplan!$C$5:$C$44,A12)+COUNTIFS(Spielplan!$C$5:$C$44,A11,Spielplan!$B$5:$B$44,A12)+COUNTIFS(Spielplan!$E$5:$E$44,A11,Spielplan!$F$5:$F$44,A12)+COUNTIFS(Spielplan!$F$5:$F$44,A11,Spielplan!$E$5:$E$44,A12))>0) + --((COUNTIFS(Spielplan!$B$5:$B$44,A11,Spielplan!$C$5:$C$44,A13)+COUNTIFS(Spielplan!$C$5:$C$44,A11,Spielplan!$B$5:$B$44,A13)+COUNTIFS(Spielplan!$E$5:$E$44,A11,Spielplan!$F$5:$F$44,A13)+COUNTIFS(Spielplan!$F$5:$F$44,A11,Spielplan!$E$5:$E$44,A13))>0) + --((COUNTIFS(Spielplan!$B$5:$B$44,A11,Spielplan!$C$5:$C$44,A14)+COUNTIFS(Spielplan!$C$5:$C$44,A11,Spielplan!$B$5:$B$44,A14)+COUNTIFS(Spielplan!$E$5:$E$44,A11,Spielplan!$F$5:$F$44,A14)+COUNTIFS(Spielplan!$F$5:$F$44,A11,Spielplan!$E$5:$E$44,A14))>0) + --((COUNTIFS(Spielplan!$B$5:$B$44,A11,Spielplan!$C$5:$C$44,A15)+COUNTIFS(Spielplan!$C$5:$C$44,A11,Spielplan!$B$5:$B$44,A15)+COUNTIFS(Spielplan!$E$5:$E$44,A11,Spielplan!$F$5:$F$44,A15)+COUNTIFS(Spielplan!$F$5:$F$44,A11,Spielplan!$E$5:$E$44,A15))>0) + --((COUNTIFS(Spielplan!$B$5:$B$44,A11,Spielplan!$C$5:$C$44,A16)+COUNTIFS(Spielplan!$C$5:$C$44,A11,Spielplan!$B$5:$B$44,A16)+COUNTIFS(Spielplan!$E$5:$E$44,A11,Spielplan!$F$5:$F$44,A16)+COUNTIFS(Spielplan!$F$5:$F$44,A11,Spielplan!$E$5:$E$44,A16))>0) + --((COUNTIFS(Spielplan!$B$5:$B$44,A11,Spielplan!$C$5:$C$44,A17)+COUNTIFS(Spielplan!$C$5:$C$44,A11,Spielplan!$B$5:$B$44,A17)+COUNTIFS(Spielplan!$E$5:$E$44,A11,Spielplan!$F$5:$F$44,A17)+COUNTIFS(Spielplan!$F$5:$F$44,A11,Spielplan!$E$5:$E$44,A17))>0) + --((COUNTIFS(Spielplan!$B$5:$B$44,A11,Spielplan!$C$5:$C$44,A18)+COUNTIFS(Spielplan!$C$5:$C$44,A11,Spielplan!$B$5:$B$44,A18)+COUNTIFS(Spielplan!$E$5:$E$44,A11,Spielplan!$F$5:$F$44,A18)+COUNTIFS(Spielplan!$F$5:$F$44,A11,Spielplan!$E$5:$E$44,A18))>0) + --((COUNTIFS(Spielplan!$B$5:$B$44,A11,Spielplan!$C$5:$C$44,A19)+COUNTIFS(Spielplan!$C$5:$C$44,A11,Spielplan!$B$5:$B$44,A19)+COUNTIFS(Spielplan!$E$5:$E$44,A11,Spielplan!$F$5:$F$44,A19)+COUNTIFS(Spielplan!$F$5:$F$44,A11,Spielplan!$E$5:$E$44,A19))>0) + --((COUNTIFS(Spielplan!$B$5:$B$44,A11,Spielplan!$C$5:$C$44,A20)+COUNTIFS(Spielplan!$C$5:$C$44,A11,Spielplan!$B$5:$B$44,A20)+COUNTIFS(Spielplan!$E$5:$E$44,A11,Spielplan!$F$5:$F$44,A20)+COUNTIFS(Spielplan!$F$5:$F$44,A11,Spielplan!$E$5:$E$44,A20))>0) + --((COUNTIFS(Spielplan!$B$5:$B$44,A11,Spielplan!$C$5:$C$44,A21)+COUNTIFS(Spielplan!$C$5:$C$44,A11,Spielplan!$B$5:$B$44,A21)+COUNTIFS(Spielplan!$E$5:$E$44,A11,Spielplan!$F$5:$F$44,A21)+COUNTIFS(Spielplan!$F$5:$F$44,A11,Spielplan!$E$5:$E$44,A21))>0) + --((COUNTIFS(Spielplan!$B$5:$B$44,A11,Spielplan!$C$5:$C$44,A22)+COUNTIFS(Spielplan!$C$5:$C$44,A11,Spielplan!$B$5:$B$44,A22)+COUNTIFS(Spielplan!$E$5:$E$44,A11,Spielplan!$F$5:$F$44,A22)+COUNTIFS(Spielplan!$F$5:$F$44,A11,Spielplan!$E$5:$E$44,A22))>0) + --((COUNTIFS(Spielplan!$B$5:$B$44,A11,Spielplan!$C$5:$C$44,A23)+COUNTIFS(Spielplan!$C$5:$C$44,A11,Spielplan!$B$5:$B$44,A23)+COUNTIFS(Spielplan!$E$5:$E$44,A11,Spielplan!$F$5:$F$44,A23)+COUNTIFS(Spielplan!$F$5:$F$44,A11,Spielplan!$E$5:$E$44,A23))>0) + --((COUNTIFS(Spielplan!$B$5:$B$44,A11,Spielplan!$C$5:$C$44,A24)+COUNTIFS(Spielplan!$C$5:$C$44,A11,Spielplan!$B$5:$B$44,A24)+COUNTIFS(Spielplan!$E$5:$E$44,A11,Spielplan!$F$5:$F$44,A24)+COUNTIFS(Spielplan!$F$5:$F$44,A11,Spielplan!$E$5:$E$44,A24))>0) + --((COUNTIFS(Spielplan!$B$5:$B$44,A11,Spielplan!$C$5:$C$44,A25)+COUNTIFS(Spielplan!$C$5:$C$44,A11,Spielplan!$B$5:$B$44,A25)+COUNTIFS(Spielplan!$E$5:$E$44,A11,Spielplan!$F$5:$F$44,A25)+COUNTIFS(Spielplan!$F$5:$F$44,A11,Spielplan!$E$5:$E$44,A25))>0) + --((COUNTIFS(Spielplan!$B$5:$B$44,A11,Spielplan!$C$5:$C$44,A26)+COUNTIFS(Spielplan!$C$5:$C$44,A11,Spielplan!$B$5:$B$44,A26)+COUNTIFS(Spielplan!$E$5:$E$44,A11,Spielplan!$F$5:$F$44,A26)+COUNTIFS(Spielplan!$F$5:$F$44,A11,Spielplan!$E$5:$E$44,A26))>0)) -> 5
A12: =IF(2<=Start!$B$6,INDEX(Start!$B$11:$B$26,2),"") -> Spieler 2 | B12: =IF(A12="","",INDEX(Rangliste!$K$5:$K$20,2)) -> 0 | C12: =IF(A12="","",INDEX(Rangliste!$L$5:$L$20,2)) -> 0 | D12: =IF(A12="","",INDEX(Rangliste!$M$5:$M$20,2)) -> 0 | E12: =IF(A12="","",INDEX(Rangliste!$N$5:$N$20,2)) -> 0 | F12: =IF(A12="","",INDEX(Rangliste!$O$5:$O$20,2)) -> 0 | G12: =IF(A12="","",--((COUNTIFS(Spielplan!$B$5:$B$44,A12,Spielplan!$C$5:$C$44,A11)+COUNTIFS(Spielplan!$C$5:$C$44,A12,Spielplan!$B$5:$B$44,A11)+COUNTIFS(Spielplan!$E$5:$E$44,A12,Spielplan!$F$5:$F$44,A11)+COUNTIFS(Spielplan!$F$5:$F$44,A12,Spielplan!$E$5:$E$44,A11))>0) + --((COUNTIFS(Spielplan!$B$5:$B$44,A12,Spielplan!$C$5:$C$44,A13)+COUNTIFS(Spielplan!$C$5:$C$44,A12,Spielplan!$B$5:$B$44,A13)+COUNTIFS(Spielplan!$E$5:$E$44,A12,Spielplan!$F$5:$F$44,A13)+COUNTIFS(Spielplan!$F$5:$F$44,A12,Spielplan!$E$5:$E$44,A13))>0) + --((COUNTIFS(Spielplan!$B$5:$B$44,A12,Spielplan!$C$5:$C$44,A14)+COUNTIFS(Spielplan!$C$5:$C$44,A12,Spielplan!$B$5:$B$44,A14)+COUNTIFS(Spielplan!$E$5:$E$44,A12,Spielplan!$F$5:$F$44,A14)+COUNTIFS(Spielplan!$F$5:$F$44,A12,Spielplan!$E$5:$E$44,A14))>0) + --((COUNTIFS(Spielplan!$B$5:$B$44,A12,Spielplan!$C$5:$C$44,A15)+COUNTIFS(Spielplan!$C$5:$C$44,A12,Spielplan!$B$5:$B$44,A15)+COUNTIFS(Spielplan!$E$5:$E$44,A12,Spielplan!$F$5:$F$44,A15)+COUNTIFS(Spielplan!$F$5:$F$44,A12,Spielplan!$E$5:$E$44,A15))>0) + --((COUNTIFS(Spielplan!$B$5:$B$44,A12,Spielplan!$C$5:$C$44,A16)+COUNTIFS(Spielplan!$C$5:$C$44,A12,Spielplan!$B$5:$B$44,A16)+COUNTIFS(Spielplan!$E$5:$E$44,A12,Spielplan!$F$5:$F$44,A16)+COUNTIFS(Spielplan!$F$5:$F$44,A12,Spielplan!$E$5:$E$44,A16))>0) + --((COUNTIFS(Spielplan!$B$5:$B$44,A12,Spielplan!$C$5:$C$44,A17)+COUNTIFS(Spielplan!$C$5:$C$44,A12,Spielplan!$B$5:$B$44,A17)+COUNTIFS(Spielplan!$E$5:$E$44,A12,Spielplan!$F$5:$F$44,A17)+COUNTIFS(Spielplan!$F$5:$F$44,A12,Spielplan!$E$5:$E$44,A17))>0) + --((COUNTIFS(Spielplan!$B$5:$B$44,A12,Spielplan!$C$5:$C$44,A18)+COUNTIFS(Spielplan!$C$5:$C$44,A12,Spielplan!$B$5:$B$44,A18)+COUNTIFS(Spielplan!$E$5:$E$44,A12,Spielplan!$F$5:$F$44,A18)+COUNTIFS(Spielplan!$F$5:$F$44,A12,Spielplan!$E$5:$E$44,A18))>0) + --((COUNTIFS(Spielplan!$B$5:$B$44,A12,Spielplan!$C$5:$C$44,A19)+COUNTIFS(Spielplan!$C$5:$C$44,A12,Spielplan!$B$5:$B$44,A19)+COUNTIFS(Spielplan!$E$5:$E$44,A12,Spielplan!$F$5:$F$44,A19)+COUNTIFS(Spielplan!$F$5:$F$44,A12,Spielplan!$E$5:$E$44,A19))>0) + --((COUNTIFS(Spielplan!$B$5:$B$44,A12,Spielplan!$C$5:$C$44,A20)+COUNTIFS(Spielplan!$C$5:$C$44,A12,Spielplan!$B$5:$B$44,A20)+COUNTIFS(Spielplan!$E$5:$E$44,A12,Spielplan!$F$5:$F$44,A20)+COUNTIFS(Spielplan!$F$5:$F$44,A12,Spielplan!$E$5:$E$44,A20))>0) + --((COUNTIFS(Spielplan!$B$5:$B$44,A12,Spielplan!$C$5:$C$44,A21)+COUNTIFS(Spielplan!$C$5:$C$44,A12,Spielplan!$B$5:$B$44,A21)+COUNTIFS(Spielplan!$E$5:$E$44,A12,Spielplan!$F$5:$F$44,A21)+COUNTIFS(Spielplan!$F$5:$F$44,A12,Spielplan!$E$5:$E$44,A21))>0) + --((COUNTIFS(Spielplan!$B$5:$B$44,A12,Spielplan!$C$5:$C$44,A22)+COUNTIFS(Spielplan!$C$5:$C$44,A12,Spielplan!$B$5:$B$44,A22)+COUNTIFS(Spielplan!$E$5:$E$44,A12,Spielplan!$F$5:$F$44,A22)+COUNTIFS(Spielplan!$F$5:$F$44,A12,Spielplan!$E$5:$E$44,A22))>0) + --((COUNTIFS(Spielplan!$B$5:$B$44,A12,Spielplan!$C$5:$C$44,A23)+COUNTIFS(Spielplan!$C$5:$C$44,A12,Spielplan!$B$5:$B$44,A23)+COUNTIFS(Spielplan!$E$5:$E$44,A12,Spielplan!$F$5:$F$44,A23)+COUNTIFS(Spielplan!$F$5:$F$44,A12,Spielplan!$E$5:$E$44,A23))>0) + --((COUNTIFS(Spielplan!$B$5:$B$44,A12,Spielplan!$C$5:$C$44,A24)+COUNTIFS(Spielplan!$C$5:$C$44,A12,Spielplan!$B$5:$B$44,A24)+COUNTIFS(Spielplan!$E$5:$E$44,A12,Spielplan!$F$5:$F$44,A24)+COUNTIFS(Spielplan!$F$5:$F$44,A12,Spielplan!$E$5:$E$44,A24))>0) + --((COUNTIFS(Spielplan!$B$5:$B$44,A12,Spielplan!$C$5:$C$44,A25)+COUNTIFS(Spielplan!$C$5:$C$44,A12,Spielplan!$B$5:$B$44,A25)+COUNTIFS(Spielplan!$E$5:$E$44,A12,Spielplan!$F$5:$F$44,A25)+COUNTIFS(Spielplan!$F$5:$F$44,A12,Spielplan!$E$5:$E$44,A25))>0) + --((COUNTIFS(Spielplan!$B$5:$B$44,A12,Spielplan!$C$5:$C$44,A26)+COUNTIFS(Spielplan!$C$5:$C$44,A12,Spielplan!$B$5:$B$44,A26)+COUNTIFS(Spielplan!$E$5:$E$44,A12,Spielplan!$F$5:$F$44,A26)+COUNTIFS(Spielplan!$F$5:$F$44,A12,Spielplan!$E$5:$E$44,A26))>0)) -> 5
A13: =IF(3<=Start!$B$6,INDEX(Start!$B$11:$B$26,3),"") -> Spieler 3 | B13: =IF(A13="","",INDEX(Rangliste!$K$5:$K$20,3)) -> 0 | C13: =IF(A13="","",INDEX(Rangliste!$L$5:$L$20,3)) -> 0 | D13: =IF(A13="","",INDEX(Rangliste!$M$5:$M$20,3)) -> 0 | E13: =IF(A13="","",INDEX(Rangliste!$N$5:$N$20,3)) -> 0 | F13: =IF(A13="","",INDEX(Rangliste!$O$5:$O$20,3)) -> 0 | G13: =IF(A13="","",--((COUNTIFS(Spielplan!$B$5:$B$44,A13,Spielplan!$C$5:$C$44,A11)+COUNTIFS(Spielplan!$C$5:$C$44,A13,Spielplan!$B$5:$B$44,A11)+COUNTIFS(Spielplan!$E$5:$E$44,A13,Spielplan!$F$5:$F$44,A11)+COUNTIFS(Spielplan!$F$5:$F$44,A13,Spielplan!$E$5:$E$44,A11))>0) + --((COUNTIFS(Spielplan!$B$5:$B$44,A13,Spielplan!$C$5:$C$44,A12)+COUNTIFS(Spielplan!$C$5:$C$44,A13,Spielplan!$B$5:$B$44,A12)+COUNTIFS(Spielplan!$E$5:$E$44,A13,Spielplan!$F$5:$F$44,A12)+COUNTIFS(Spielplan!$F$5:$F$44,A13,Spielplan!$E$5:$E$44,A12))>0) + --((COUNTIFS(Spielplan!$B$5:$B$44,A13,Spielplan!$C$5:$C$44,A14)+COUNTIFS(Spielplan!$C$5:$C$44,A13,Spielplan!$B$5:$B$44,A14)+COUNTIFS(Spielplan!$E$5:$E$44,A13,Spielplan!$F$5:$F$44,A14)+COUNTIFS(Spielplan!$F$5:$F$44,A13,Spielplan!$E$5:$E$44,A14))>0) + --((COUNTIFS(Spielplan!$B$5:$B$44,A13,Spielplan!$C$5:$C$44,A15)+COUNTIFS(Spielplan!$C$5:$C$44,A13,Spielplan!$B$5:$B$44,A15)+COUNTIFS(Spielplan!$E$5:$E$44,A13,Spielplan!$F$5:$F$44,A15)+COUNTIFS(Spielplan!$F$5:$F$44,A13,Spielplan!$E$5:$E$44,A15))>0) + --((COUNTIFS(Spielplan!$B$5:$B$44,A13,Spielplan!$C$5:$C$44,A16)+COUNTIFS(Spielplan!$C$5:$C$44,A13,Spielplan!$B$5:$B$44,A16)+COUNTIFS(Spielplan!$E$5:$E$44,A13,Spielplan!$F$5:$F$44,A16)+COUNTIFS(Spielplan!$F$5:$F$44,A13,Spielplan!$E$5:$E$44,A16))>0) + --((COUNTIFS(Spielplan!$B$5:$B$44,A13,Spielplan!$C$5:$C$44,A17)+COUNTIFS(Spielplan!$C$5:$C$44,A13,Spielplan!$B$5:$B$44,A17)+COUNTIFS(Spielplan!$E$5:$E$44,A13,Spielplan!$F$5:$F$44,A17)+COUNTIFS(Spielplan!$F$5:$F$44,A13,Spielplan!$E$5:$E$44,A17))>0) + --((COUNTIFS(Spielplan!$B$5:$B$44,A13,Spielplan!$C$5:$C$44,A18)+COUNTIFS(Spielplan!$C$5:$C$44,A13,Spielplan!$B$5:$B$44,A18)+COUNTIFS(Spielplan!$E$5:$E$44,A13,Spielplan!$F$5:$F$44,A18)+COUNTIFS(Spielplan!$F$5:$F$44,A13,Spielplan!$E$5:$E$44,A18))>0) + --((COUNTIFS(Spielplan!$B$5:$B$44,A13,Spielplan!$C$5:$C$44,A19)+COUNTIFS(Spielplan!$C$5:$C$44,A13,Spielplan!$B$5:$B$44,A19)+COUNTIFS(Spielplan!$E$5:$E$44,A13,Spielplan!$F$5:$F$44,A19)+COUNTIFS(Spielplan!$F$5:$F$44,A13,Spielplan!$E$5:$E$44,A19))>0) + --((COUNTIFS(Spielplan!$B$5:$B$44,A13,Spielplan!$C$5:$C$44,A20)+COUNTIFS(Spielplan!$C$5:$C$44,A13,Spielplan!$B$5:$B$44,A20)+COUNTIFS(Spielplan!$E$5:$E$44,A13,Spielplan!$F$5:$F$44,A20)+COUNTIFS(Spielplan!$F$5:$F$44,A13,Spielplan!$E$5:$E$44,A20))>0) + --((COUNTIFS(Spielplan!$B$5:$B$44,A13,Spielplan!$C$5:$C$44,A21)+COUNTIFS(Spielplan!$C$5:$C$44,A13,Spielplan!$B$5:$B$44,A21)+COUNTIFS(Spielplan!$E$5:$E$44,A13,Spielplan!$F$5:$F$44,A21)+COUNTIFS(Spielplan!$F$5:$F$44,A13,Spielplan!$E$5:$E$44,A21))>0) + --((COUNTIFS(Spielplan!$B$5:$B$44,A13,Spielplan!$C$5:$C$44,A22)+COUNTIFS(Spielplan!$C$5:$C$44,A13,Spielplan!$B$5:$B$44,A22)+COUNTIFS(Spielplan!$E$5:$E$44,A13,Spielplan!$F$5:$F$44,A22)+COUNTIFS(Spielplan!$F$5:$F$44,A13,Spielplan!$E$5:$E$44,A22))>0) + --((COUNTIFS(Spielplan!$B$5:$B$44,A13,Spielplan!$C$5:$C$44,A23)+COUNTIFS(Spielplan!$C$5:$C$44,A13,Spielplan!$B$5:$B$44,A23)+COUNTIFS(Spielplan!$E$5:$E$44,A13,Spielplan!$F$5:$F$44,A23)+COUNTIFS(Spielplan!$F$5:$F$44,A13,Spielplan!$E$5:$E$44,A23))>0) + --((COUNTIFS(Spielplan!$B$5:$B$44,A13,Spielplan!$C$5:$C$44,A24)+COUNTIFS(Spielplan!$C$5:$C$44,A13,Spielplan!$B$5:$B$44,A24)+COUNTIFS(Spielplan!$E$5:$E$44,A13,Spielplan!$F$5:$F$44,A24)+COUNTIFS(Spielplan!$F$5:$F$44,A13,Spielplan!$E$5:$E$44,A24))>0) + --((COUNTIFS(Spielplan!$B$5:$B$44,A13,Spielplan!$C$5:$C$44,A25)+COUNTIFS(Spielplan!$C$5:$C$44,A13,Spielplan!$B$5:$B$44,A25)+COUNTIFS(Spielplan!$E$5:$E$44,A13,Spielplan!$F$5:$F$44,A25)+COUNTIFS(Spielplan!$F$5:$F$44,A13,Spielplan!$E$5:$E$44,A25))>0) + --((COUNTIFS(Spielplan!$B$5:$B$44,A13,Spielplan!$C$5:$C$44,A26)+COUNTIFS(Spielplan!$C$5:$C$44,A13,Spielplan!$B$5:$B$44,A26)+COUNTIFS(Spielplan!$E$5:$E$44,A13,Spielplan!$F$5:$F$44,A26)+COUNTIFS(Spielplan!$F$5:$F$44,A13,Spielplan!$E$5:$E$44,A26))>0)) -> 5
A14: =IF(4<=Start!$B$6,INDEX(Start!$B$11:$B$26,4),"") -> Spieler 4 | B14: =IF(A14="","",INDEX(Rangliste!$K$5:$K$20,4)) -> 0 | C14: =IF(A14="","",INDEX(Rangliste!$L$5:$L$20,4)) -> 0 | D14: =IF(A14="","",INDEX(Rangliste!$M$5:$M$20,4)) -> 0 | E14: =IF(A14="","",INDEX(Rangliste!$N$5:$N$20,4)) -> 0 | F14: =IF(A14="","",INDEX(Rangliste!$O$5:$O$20,4)) -> 0 | G14: =IF(A14="","",--((COUNTIFS(Spielplan!$B$5:$B$44,A14,Spielplan!$C$5:$C$44,A11)+COUNTIFS(Spielplan!$C$5:$C$44,A14,Spielplan!$B$5:$B$44,A11)+COUNTIFS(Spielplan!$E$5:$E$44,A14,Spielplan!$F$5:$F$44,A11)+COUNTIFS(Spielplan!$F$5:$F$44,A14,Spielplan!$E$5:$E$44,A11))>0) + --((COUNTIFS(Spielplan!$B$5:$B$44,A14,Spielplan!$C$5:$C$44,A12)+COUNTIFS(Spielplan!$C$5:$C$44,A14,Spielplan!$B$5:$B$44,A12)+COUNTIFS(Spielplan!$E$5:$E$44,A14,Spielplan!$F$5:$F$44,A12)+COUNTIFS(Spielplan!$F$5:$F$44,A14,Spielplan!$E$5:$E$44,A12))>0) + --((COUNTIFS(Spielplan!$B$5:$B$44,A14,Spielplan!$C$5:$C$44,A13)+COUNTIFS(Spielplan!$C$5:$C$44,A14,Spielplan!$B$5:$B$44,A13)+COUNTIFS(Spielplan!$E$5:$E$44,A14,Spielplan!$F$5:$F$44,A13)+COUNTIFS(Spielplan!$F$5:$F$44,A14,Spielplan!$E$5:$E$44,A13))>0) + --((COUNTIFS(Spielplan!$B$5:$B$44,A14,Spielplan!$C$5:$C$44,A15)+COUNTIFS(Spielplan!$C$5:$C$44,A14,Spielplan!$B$5:$B$44,A15)+COUNTIFS(Spielplan!$E$5:$E$44,A14,Spielplan!$F$5:$F$44,A15)+COUNTIFS(Spielplan!$F$5:$F$44,A14,Spielplan!$E$5:$E$44,A15))>0) + --((COUNTIFS(Spielplan!$B$5:$B$44,A14,Spielplan!$C$5:$C$44,A16)+COUNTIFS(Spielplan!$C$5:$C$44,A14,Spielplan!$B$5:$B$44,A16)+COUNTIFS(Spielplan!$E$5:$E$44,A14,Spielplan!$F$5:$F$44,A16)+COUNTIFS(Spielplan!$F$5:$F$44,A14,Spielplan!$E$5:$E$44,A16))>0) + --((COUNTIFS(Spielplan!$B$5:$B$44,A14,Spielplan!$C$5:$C$44,A17)+COUNTIFS(Spielplan!$C$5:$C$44,A14,Spielplan!$B$5:$B$44,A17)+COUNTIFS(Spielplan!$E$5:$E$44,A14,Spielplan!$F$5:$F$44,A17)+COUNTIFS(Spielplan!$F$5:$F$44,A14,Spielplan!$E$5:$E$44,A17))>0) + --((COUNTIFS(Spielplan!$B$5:$B$44,A14,Spielplan!$C$5:$C$44,A18)+COUNTIFS(Spielplan!$C$5:$C$44,A14,Spielplan!$B$5:$B$44,A18)+COUNTIFS(Spielplan!$E$5:$E$44,A14,Spielplan!$F$5:$F$44,A18)+COUNTIFS(Spielplan!$F$5:$F$44,A14,Spielplan!$E$5:$E$44,A18))>0) + --((COUNTIFS(Spielplan!$B$5:$B$44,A14,Spielplan!$C$5:$C$44,A19)+COUNTIFS(Spielplan!$C$5:$C$44,A14,Spielplan!$B$5:$B$44,A19)+COUNTIFS(Spielplan!$E$5:$E$44,A14,Spielplan!$F$5:$F$44,A19)+COUNTIFS(Spielplan!$F$5:$F$44,A14,Spielplan!$E$5:$E$44,A19))>0) + --((COUNTIFS(Spielplan!$B$5:$B$44,A14,Spielplan!$C$5:$C$44,A20)+COUNTIFS(Spielplan!$C$5:$C$44,A14,Spielplan!$B$5:$B$44,A20)+COUNTIFS(Spielplan!$E$5:$E$44,A14,Spielplan!$F$5:$F$44,A20)+COUNTIFS(Spielplan!$F$5:$F$44,A14,Spielplan!$E$5:$E$44,A20))>0) + --((COUNTIFS(Spielplan!$B$5:$B$44,A14,Spielplan!$C$5:$C$44,A21)+COUNTIFS(Spielplan!$C$5:$C$44,A14,Spielplan!$B$5:$B$44,A21)+COUNTIFS(Spielplan!$E$5:$E$44,A14,Spielplan!$F$5:$F$44,A21)+COUNTIFS(Spielplan!$F$5:$F$44,A14,Spielplan!$E$5:$E$44,A21))>0) + --((COUNTIFS(Spielplan!$B$5:$B$44,A14,Spielplan!$C$5:$C$44,A22)+COUNTIFS(Spielplan!$C$5:$C$44,A14,Spielplan!$B$5:$B$44,A22)+COUNTIFS(Spielplan!$E$5:$E$44,A14,Spielplan!$F$5:$F$44,A22)+COUNTIFS(Spielplan!$F$5:$F$44,A14,Spielplan!$E$5:$E$44,A22))>0) + --((COUNTIFS(Spielplan!$B$5:$B$44,A14,Spielplan!$C$5:$C$44,A23)+COUNTIFS(Spielplan!$C$5:$C$44,A14,Spielplan!$B$5:$B$44,A23)+COUNTIFS(Spielplan!$E$5:$E$44,A14,Spielplan!$F$5:$F$44,A23)+COUNTIFS(Spielplan!$F$5:$F$44,A14,Spielplan!$E$5:$E$44,A23))>0) + --((COUNTIFS(Spielplan!$B$5:$B$44,A14,Spielplan!$C$5:$C$44,A24)+COUNTIFS(Spielplan!$C$5:$C$44,A14,Spielplan!$B$5:$B$44,A24)+COUNTIFS(Spielplan!$E$5:$E$44,A14,Spielplan!$F$5:$F$44,A24)+COUNTIFS(Spielplan!$F$5:$F$44,A14,Spielplan!$E$5:$E$44,A24))>0) + --((COUNTIFS(Spielplan!$B$5:$B$44,A14,Spielplan!$C$5:$C$44,A25)+COUNTIFS(Spielplan!$C$5:$C$44,A14,Spielplan!$B$5:$B$44,A25)+COUNTIFS(Spielplan!$E$5:$E$44,A14,Spielplan!$F$5:$F$44,A25)+COUNTIFS(Spielplan!$F$5:$F$44,A14,Spielplan!$E$5:$E$44,A25))>0) + --((COUNTIFS(Spielplan!$B$5:$B$44,A14,Spielplan!$C$5:$C$44,A26)+COUNTIFS(Spielplan!$C$5:$C$44,A14,Spielplan!$B$5:$B$44,A26)+COUNTIFS(Spielplan!$E$5:$E$44,A14,Spielplan!$F$5:$F$44,A26)+COUNTIFS(Spielplan!$F$5:$F$44,A14,Spielplan!$E$5:$E$44,A26))>0)) -> 5
A15: =IF(5<=Start!$B$6,INDEX(Start!$B$11:$B$26,5),"") -> Spieler 5 | B15: =IF(A15="","",INDEX(Rangliste!$K$5:$K$20,5)) -> 0 | C15: =IF(A15="","",INDEX(Rangliste!$L$5:$L$20,5)) -> 0 | D15: =IF(A15="","",INDEX(Rangliste!$M$5:$M$20,5)) -> 0 | E15: =IF(A15="","",INDEX(Rangliste!$N$5:$N$20,5)) -> 0 | F15: =IF(A15="","",INDEX(Rangliste!$O$5:$O$20,5)) -> 0 | G15: =IF(A15="","",--((COUNTIFS(Spielplan!$B$5:$B$44,A15,Spielplan!$C$5:$C$44,A11)+COUNTIFS(Spielplan!$C$5:$C$44,A15,Spielplan!$B$5:$B$44,A11)+COUNTIFS(Spielplan!$E$5:$E$44,A15,Spielplan!$F$5:$F$44,A11)+COUNTIFS(Spielplan!$F$5:$F$44,A15,Spielplan!$E$5:$E$44,A11))>0) + --((COUNTIFS(Spielplan!$B$5:$B$44,A15,Spielplan!$C$5:$C$44,A12)+COUNTIFS(Spielplan!$C$5:$C$44,A15,Spielplan!$B$5:$B$44,A12)+COUNTIFS(Spielplan!$E$5:$E$44,A15,Spielplan!$F$5:$F$44,A12)+COUNTIFS(Spielplan!$F$5:$F$44,A15,Spielplan!$E$5:$E$44,A12))>0) + --((COUNTIFS(Spielplan!$B$5:$B$44,A15,Spielplan!$C$5:$C$44,A13)+COUNTIFS(Spielplan!$C$5:$C$44,A15,Spielplan!$B$5:$B$44,A13)+COUNTIFS(Spielplan!$E$5:$E$44,A15,Spielplan!$F$5:$F$44,A13)+COUNTIFS(Spielplan!$F$5:$F$44,A15,Spielplan!$E$5:$E$44,A13))>0) + --((COUNTIFS(Spielplan!$B$5:$B$44,A15,Spielplan!$C$5:$C$44,A14)+COUNTIFS(Spielplan!$C$5:$C$44,A15,Spielplan!$B$5:$B$44,A14)+COUNTIFS(Spielplan!$E$5:$E$44,A15,Spielplan!$F$5:$F$44,A14)+COUNTIFS(Spielplan!$F$5:$F$44,A15,Spielplan!$E$5:$E$44,A14))>0) + --((COUNTIFS(Spielplan!$B$5:$B$44,A15,Spielplan!$C$5:$C$44,A16)+COUNTIFS(Spielplan!$C$5:$C$44,A15,Spielplan!$B$5:$B$44,A16)+COUNTIFS(Spielplan!$E$5:$E$44,A15,Spielplan!$F$5:$F$44,A16)+COUNTIFS(Spielplan!$F$5:$F$44,A15,Spielplan!$E$5:$E$44,A16))>0) + --((COUNTIFS(Spielplan!$B$5:$B$44,A15,Spielplan!$C$5:$C$44,A17)+COUNTIFS(Spielplan!$C$5:$C$44,A15,Spielplan!$B$5:$B$44,A17)+COUNTIFS(Spielplan!$E$5:$E$44,A15,Spielplan!$F$5:$F$44,A17)+COUNTIFS(Spielplan!$F$5:$F$44,A15,Spielplan!$E$5:$E$44,A17))>0) + --((COUNTIFS(Spielplan!$B$5:$B$44,A15,Spielplan!$C$5:$C$44,A18)+COUNTIFS(Spielplan!$C$5:$C$44,A15,Spielplan!$B$5:$B$44,A18)+COUNTIFS(Spielplan!$E$5:$E$44,A15,Spielplan!$F$5:$F$44,A18)+COUNTIFS(Spielplan!$F$5:$F$44,A15,Spielplan!$E$5:$E$44,A18))>0) + --((COUNTIFS(Spielplan!$B$5:$B$44,A15,Spielplan!$C$5:$C$44,A19)+COUNTIFS(Spielplan!$C$5:$C$44,A15,Spielplan!$B$5:$B$44,A19)+COUNTIFS(Spielplan!$E$5:$E$44,A15,Spielplan!$F$5:$F$44,A19)+COUNTIFS(Spielplan!$F$5:$F$44,A15,Spielplan!$E$5:$E$44,A19))>0) + --((COUNTIFS(Spielplan!$B$5:$B$44,A15,Spielplan!$C$5:$C$44,A20)+COUNTIFS(Spielplan!$C$5:$C$44,A15,Spielplan!$B$5:$B$44,A20)+COUNTIFS(Spielplan!$E$5:$E$44,A15,Spielplan!$F$5:$F$44,A20)+COUNTIFS(Spielplan!$F$5:$F$44,A15,Spielplan!$E$5:$E$44,A20))>0) + --((COUNTIFS(Spielplan!$B$5:$B$44,A15,Spielplan!$C$5:$C$44,A21)+COUNTIFS(Spielplan!$C$5:$C$44,A15,Spielplan!$B$5:$B$44,A21)+COUNTIFS(Spielplan!$E$5:$E$44,A15,Spielplan!$F$5:$F$44,A21)+COUNTIFS(Spielplan!$F$5:$F$44,A15,Spielplan!$E$5:$E$44,A21))>0) + --((COUNTIFS(Spielplan!$B$5:$B$44,A15,Spielplan!$C$5:$C$44,A22)+COUNTIFS(Spielplan!$C$5:$C$44,A15,Spielplan!$B$5:$B$44,A22)+COUNTIFS(Spielplan!$E$5:$E$44,A15,Spielplan!$F$5:$F$44,A22)+COUNTIFS(Spielplan!$F$5:$F$44,A15,Spielplan!$E$5:$E$44,A22))>0) + --((COUNTIFS(Spielplan!$B$5:$B$44,A15,Spielplan!$C$5:$C$44,A23)+COUNTIFS(Spielplan!$C$5:$C$44,A15,Spielplan!$B$5:$B$44,A23)+COUNTIFS(Spielplan!$E$5:$E$44,A15,Spielplan!$F$5:$F$44,A23)+COUNTIFS(Spielplan!$F$5:$F$44,A15,Spielplan!$E$5:$E$44,A23))>0) + --((COUNTIFS(Spielplan!$B$5:$B$44,A15,Spielplan!$C$5:$C$44,A24)+COUNTIFS(Spielplan!$C$5:$C$44,A15,Spielplan!$B$5:$B$44,A24)+COUNTIFS(Spielplan!$E$5:$E$44,A15,Spielplan!$F$5:$F$44,A24)+COUNTIFS(Spielplan!$F$5:$F$44,A15,Spielplan!$E$5:$E$44,A24))>0) + --((COUNTIFS(Spielplan!$B$5:$B$44,A15,Spielplan!$C$5:$C$44,A25)+COUNTIFS(Spielplan!$C$5:$C$44,A15,Spielplan!$B$5:$B$44,A25)+COUNTIFS(Spielplan!$E$5:$E$44,A15,Spielplan!$F$5:$F$44,A25)+COUNTIFS(Spielplan!$F$5:$F$44,A15,Spielplan!$E$5:$E$44,A25))>0) + --((COUNTIFS(Spielplan!$B$5:$B$44,A15,Spielplan!$C$5:$C$44,A26)+COUNTIFS(Spielplan!$C$5:$C$44,A15,Spielplan!$B$5:$B$44,A26)+COUNTIFS(Spielplan!$E$5:$E$44,A15,Spielplan!$F$5:$F$44,A26)+COUNTIFS(Spielplan!$F$5:$F$44,A15,Spielplan!$E$5:$E$44,A26))>0)) -> 5
A16: =IF(6<=Start!$B$6,INDEX(Start!$B$11:$B$26,6),"") -> Spieler 6 | B16: =IF(A16="","",INDEX(Rangliste!$K$5:$K$20,6)) -> 0 | C16: =IF(A16="","",INDEX(Rangliste!$L$5:$L$20,6)) -> 0 | D16: =IF(A16="","",INDEX(Rangliste!$M$5:$M$20,6)) -> 0 | E16: =IF(A16="","",INDEX(Rangliste!$N$5:$N$20,6)) -> 0 | F16: =IF(A16="","",INDEX(Rangliste!$O$5:$O$20,6)) -> 0 | G16: =IF(A16="","",--((COUNTIFS(Spielplan!$B$5:$B$44,A16,Spielplan!$C$5:$C$44,A11)+COUNTIFS(Spielplan!$C$5:$C$44,A16,Spielplan!$B$5:$B$44,A11)+COUNTIFS(Spielplan!$E$5:$E$44,A16,Spielplan!$F$5:$F$44,A11)+COUNTIFS(Spielplan!$F$5:$F$44,A16,Spielplan!$E$5:$E$44,A11))>0) + --((COUNTIFS(Spielplan!$B$5:$B$44,A16,Spielplan!$C$5:$C$44,A12)+COUNTIFS(Spielplan!$C$5:$C$44,A16,Spielplan!$B$5:$B$44,A12)+COUNTIFS(Spielplan!$E$5:$E$44,A16,Spielplan!$F$5:$F$44,A12)+COUNTIFS(Spielplan!$F$5:$F$44,A16,Spielplan!$E$5:$E$44,A12))>0) + --((COUNTIFS(Spielplan!$B$5:$B$44,A16,Spielplan!$C$5:$C$44,A13)+COUNTIFS(Spielplan!$C$5:$C$44,A16,Spielplan!$B$5:$B$44,A13)+COUNTIFS(Spielplan!$E$5:$E$44,A16,Spielplan!$F$5:$F$44,A13)+COUNTIFS(Spielplan!$F$5:$F$44,A16,Spielplan!$E$5:$E$44,A13))>0) + --((COUNTIFS(Spielplan!$B$5:$B$44,A16,Spielplan!$C$5:$C$44,A14)+COUNTIFS(Spielplan!$C$5:$C$44,A16,Spielplan!$B$5:$B$44,A14)+COUNTIFS(Spielplan!$E$5:$E$44,A16,Spielplan!$F$5:$F$44,A14)+COUNTIFS(Spielplan!$F$5:$F$44,A16,Spielplan!$E$5:$E$44,A14))>0) + --((COUNTIFS(Spielplan!$B$5:$B$44,A16,Spielplan!$C$5:$C$44,A15)+COUNTIFS(Spielplan!$C$5:$C$44,A16,Spielplan!$B$5:$B$44,A15)+COUNTIFS(Spielplan!$E$5:$E$44,A16,Spielplan!$F$5:$F$44,A15)+COUNTIFS(Spielplan!$F$5:$F$44,A16,Spielplan!$E$5:$E$44,A15))>0) + --((COUNTIFS(Spielplan!$B$5:$B$44,A16,Spielplan!$C$5:$C$44,A17)+COUNTIFS(Spielplan!$C$5:$C$44,A16,Spielplan!$B$5:$B$44,A17)+COUNTIFS(Spielplan!$E$5:$E$44,A16,Spielplan!$F$5:$F$44,A17)+COUNTIFS(Spielplan!$F$5:$F$44,A16,Spielplan!$E$5:$E$44,A17))>0) + --((COUNTIFS(Spielplan!$B$5:$B$44,A16,Spielplan!$C$5:$C$44,A18)+COUNTIFS(Spielplan!$C$5:$C$44,A16,Spielplan!$B$5:$B$44,A18)+COUNTIFS(Spielplan!$E$5:$E$44,A16,Spielplan!$F$5:$F$44,A18)+COUNTIFS(Spielplan!$F$5:$F$44,A16,Spielplan!$E$5:$E$44,A18))>0) + --((COUNTIFS(Spielplan!$B$5:$B$44,A16,Spielplan!$C$5:$C$44,A19)+COUNTIFS(Spielplan!$C$5:$C$44,A16,Spielplan!$B$5:$B$44,A19)+COUNTIFS(Spielplan!$E$5:$E$44,A16,Spielplan!$F$5:$F$44,A19)+COUNTIFS(Spielplan!$F$5:$F$44,A16,Spielplan!$E$5:$E$44,A19))>0) + --((COUNTIFS(Spielplan!$B$5:$B$44,A16,Spielplan!$C$5:$C$44,A20)+COUNTIFS(Spielplan!$C$5:$C$44,A16,Spielplan!$B$5:$B$44,A20)+COUNTIFS(Spielplan!$E$5:$E$44,A16,Spielplan!$F$5:$F$44,A20)+COUNTIFS(Spielplan!$F$5:$F$44,A16,Spielplan!$E$5:$E$44,A20))>0) + --((COUNTIFS(Spielplan!$B$5:$B$44,A16,Spielplan!$C$5:$C$44,A21)+COUNTIFS(Spielplan!$C$5:$C$44,A16,Spielplan!$B$5:$B$44,A21)+COUNTIFS(Spielplan!$E$5:$E$44,A16,Spielplan!$F$5:$F$44,A21)+COUNTIFS(Spielplan!$F$5:$F$44,A16,Spielplan!$E$5:$E$44,A21))>0) + --((COUNTIFS(Spielplan!$B$5:$B$44,A16,Spielplan!$C$5:$C$44,A22)+COUNTIFS(Spielplan!$C$5:$C$44,A16,Spielplan!$B$5:$B$44,A22)+COUNTIFS(Spielplan!$E$5:$E$44,A16,Spielplan!$F$5:$F$44,A22)+COUNTIFS(Spielplan!$F$5:$F$44,A16,Spielplan!$E$5:$E$44,A22))>0) + --((COUNTIFS(Spielplan!$B$5:$B$44,A16,Spielplan!$C$5:$C$44,A23)+COUNTIFS(Spielplan!$C$5:$C$44,A16,Spielplan!$B$5:$B$44,A23)+COUNTIFS(Spielplan!$E$5:$E$44,A16,Spielplan!$F$5:$F$44,A23)+COUNTIFS(Spielplan!$F$5:$F$44,A16,Spielplan!$E$5:$E$44,A23))>0) + --((COUNTIFS(Spielplan!$B$5:$B$44,A16,Spielplan!$C$5:$C$44,A24)+COUNTIFS(Spielplan!$C$5:$C$44,A16,Spielplan!$B$5:$B$44,A24)+COUNTIFS(Spielplan!$E$5:$E$44,A16,Spielplan!$F$5:$F$44,A24)+COUNTIFS(Spielplan!$F$5:$F$44,A16,Spielplan!$E$5:$E$44,A24))>0) + --((COUNTIFS(Spielplan!$B$5:$B$44,A16,Spielplan!$C$5:$C$44,A25)+COUNTIFS(Spielplan!$C$5:$C$44,A16,Spielplan!$B$5:$B$44,A25)+COUNTIFS(Spielplan!$E$5:$E$44,A16,Spielplan!$F$5:$F$44,A25)+COUNTIFS(Spielplan!$F$5:$F$44,A16,Spielplan!$E$5:$E$44,A25))>0) + --((COUNTIFS(Spielplan!$B$5:$B$44,A16,Spielplan!$C$5:$C$44,A26)+COUNTIFS(Spielplan!$C$5:$C$44,A16,Spielplan!$B$5:$B$44,A26)+COUNTIFS(Spielplan!$E$5:$E$44,A16,Spielplan!$F$5:$F$44,A26)+COUNTIFS(Spielplan!$F$5:$F$44,A16,Spielplan!$E$5:$E$44,A26))>0)) -> 5
A17: =IF(7<=Start!$B$6,INDEX(Start!$B$11:$B$26,7),"") | B17: =IF(A17="","",INDEX(Rangliste!$K$5:$K$20,7)) | C17: =IF(A17="","",INDEX(Rangliste!$L$5:$L$20,7)) | D17: =IF(A17="","",INDEX(Rangliste!$M$5:$M$20,7)) | E17: =IF(A17="","",INDEX(Rangliste!$N$5:$N$20,7)) | F17: =IF(A17="","",INDEX(Rangliste!$O$5:$O$20,7)) | G17: =IF(A17="","",--((COUNTIFS(Spielplan!$B$5:$B$44,A17,Spielplan!$C$5:$C$44,A11)+COUNTIFS(Spielplan!$C$5:$C$44,A17,Spielplan!$B$5:$B$44,A11)+COUNTIFS(Spielplan!$E$5:$E$44,A17,Spielplan!$F$5:$F$44,A11)+COUNTIFS(Spielplan!$F$5:$F$44,A17,Spielplan!$E$5:$E$44,A11))>0) + --((COUNTIFS(Spielplan!$B$5:$B$44,A17,Spielplan!$C$5:$C$44,A12)+COUNTIFS(Spielplan!$C$5:$C$44,A17,Spielplan!$B$5:$B$44,A12)+COUNTIFS(Spielplan!$E$5:$E$44,A17,Spielplan!$F$5:$F$44,A12)+COUNTIFS(Spielplan!$F$5:$F$44,A17,Spielplan!$E$5:$E$44,A12))>0) + --((COUNTIFS(Spielplan!$B$5:$B$44,A17,Spielplan!$C$5:$C$44,A13)+COUNTIFS(Spielplan!$C$5:$C$44,A17,Spielplan!$B$5:$B$44,A13)+COUNTIFS(Spielplan!$E$5:$E$44,A17,Spielplan!$F$5:$F$44,A13)+COUNTIFS(Spielplan!$F$5:$F$44,A17,Spielplan!$E$5:$E$44,A13))>0) + --((COUNTIFS(Spielplan!$B$5:$B$44,A17,Spielplan!$C$5:$C$44,A14)+COUNTIFS(Spielplan!$C$5:$C$44,A17,Spielplan!$B$5:$B$44,A14)+COUNTIFS(Spielplan!$E$5:$E$44,A17,Spielplan!$F$5:$F$44,A14)+COUNTIFS(Spielplan!$F$5:$F$44,A17,Spielplan!$E$5:$E$44,A14))>0) + --((COUNTIFS(Spielplan!$B$5:$B$44,A17,Spielplan!$C$5:$C$44,A15)+COUNTIFS(Spielplan!$C$5:$C$44,A17,Spielplan!$B$5:$B$44,A15)+COUNTIFS(Spielplan!$E$5:$E$44,A17,Spielplan!$F$5:$F$44,A15)+COUNTIFS(Spielplan!$F$5:$F$44,A17,Spielplan!$E$5:$E$44,A15))>0) + --((COUNTIFS(Spielplan!$B$5:$B$44,A17,Spielplan!$C$5:$C$44,A16)+COUNTIFS(Spielplan!$C$5:$C$44,A17,Spielplan!$B$5:$B$44,A16)+COUNTIFS(Spielplan!$E$5:$E$44,A17,Spielplan!$F$5:$F$44,A16)+COUNTIFS(Spielplan!$F$5:$F$44,A17,Spielplan!$E$5:$E$44,A16))>0) + --((COUNTIFS(Spielplan!$B$5:$B$44,A17,Spielplan!$C$5:$C$44,A18)+COUNTIFS(Spielplan!$C$5:$C$44,A17,Spielplan!$B$5:$B$44,A18)+COUNTIFS(Spielplan!$E$5:$E$44,A17,Spielplan!$F$5:$F$44,A18)+COUNTIFS(Spielplan!$F$5:$F$44,A17,Spielplan!$E$5:$E$44,A18))>0) + --((COUNTIFS(Spielplan!$B$5:$B$44,A17,Spielplan!$C$5:$C$44,A19)+COUNTIFS(Spielplan!$C$5:$C$44,A17,Spielplan!$B$5:$B$44,A19)+COUNTIFS(Spielplan!$E$5:$E$44,A17,Spielplan!$F$5:$F$44,A19)+COUNTIFS(Spielplan!$F$5:$F$44,A17,Spielplan!$E$5:$E$44,A19))>0) + --((COUNTIFS(Spielplan!$B$5:$B$44,A17,Spielplan!$C$5:$C$44,A20)+COUNTIFS(Spielplan!$C$5:$C$44,A17,Spielplan!$B$5:$B$44,A20)+COUNTIFS(Spielplan!$E$5:$E$44,A17,Spielplan!$F$5:$F$44,A20)+COUNTIFS(Spielplan!$F$5:$F$44,A17,Spielplan!$E$5:$E$44,A20))>0) + --((COUNTIFS(Spielplan!$B$5:$B$44,A17,Spielplan!$C$5:$C$44,A21)+COUNTIFS(Spielplan!$C$5:$C$44,A17,Spielplan!$B$5:$B$44,A21)+COUNTIFS(Spielplan!$E$5:$E$44,A17,Spielplan!$F$5:$F$44,A21)+COUNTIFS(Spielplan!$F$5:$F$44,A17,Spielplan!$E$5:$E$44,A21))>0) + --((COUNTIFS(Spielplan!$B$5:$B$44,A17,Spielplan!$C$5:$C$44,A22)+COUNTIFS(Spielplan!$C$5:$C$44,A17,Spielplan!$B$5:$B$44,A22)+COUNTIFS(Spielplan!$E$5:$E$44,A17,Spielplan!$F$5:$F$44,A22)+COUNTIFS(Spielplan!$F$5:$F$44,A17,Spielplan!$E$5:$E$44,A22))>0) + --((COUNTIFS(Spielplan!$B$5:$B$44,A17,Spielplan!$C$5:$C$44,A23)+COUNTIFS(Spielplan!$C$5:$C$44,A17,Spielplan!$B$5:$B$44,A23)+COUNTIFS(Spielplan!$E$5:$E$44,A17,Spielplan!$F$5:$F$44,A23)+COUNTIFS(Spielplan!$F$5:$F$44,A17,Spielplan!$E$5:$E$44,A23))>0) + --((COUNTIFS(Spielplan!$B$5:$B$44,A17,Spielplan!$C$5:$C$44,A24)+COUNTIFS(Spielplan!$C$5:$C$44,A17,Spielplan!$B$5:$B$44,A24)+COUNTIFS(Spielplan!$E$5:$E$44,A17,Spielplan!$F$5:$F$44,A24)+COUNTIFS(Spielplan!$F$5:$F$44,A17,Spielplan!$E$5:$E$44,A24))>0) + --((COUNTIFS(Spielplan!$B$5:$B$44,A17,Spielplan!$C$5:$C$44,A25)+COUNTIFS(Spielplan!$C$5:$C$44,A17,Spielplan!$B$5:$B$44,A25)+COUNTIFS(Spielplan!$E$5:$E$44,A17,Spielplan!$F$5:$F$44,A25)+COUNTIFS(Spielplan!$F$5:$F$44,A17,Spielplan!$E$5:$E$44,A25))>0) + --((COUNTIFS(Spielplan!$B$5:$B$44,A17,Spielplan!$C$5:$C$44,A26)+COUNTIFS(Spielplan!$C$5:$C$44,A17,Spielplan!$B$5:$B$44,A26)+COUNTIFS(Spielplan!$E$5:$E$44,A17,Spielplan!$F$5:$F$44,A26)+COUNTIFS(Spielplan!$F$5:$F$44,A17,Spielplan!$E$5:$E$44,A26))>0))
A18: =IF(8<=Start!$B$6,INDEX(Start!$B$11:$B$26,8),"") | B18: =IF(A18="","",INDEX(Rangliste!$K$5:$K$20,8)) | C18: =IF(A18="","",INDEX(Rangliste!$L$5:$L$20,8)) | D18: =IF(A18="","",INDEX(Rangliste!$M$5:$M$20,8)) | E18: =IF(A18="","",INDEX(Rangliste!$N$5:$N$20,8)) | F18: =IF(A18="","",INDEX(Rangliste!$O$5:$O$20,8)) | G18: =IF(A18="","",--((COUNTIFS(Spielplan!$B$5:$B$44,A18,Spielplan!$C$5:$C$44,A11)+COUNTIFS(Spielplan!$C$5:$C$44,A18,Spielplan!$B$5:$B$44,A11)+COUNTIFS(Spielplan!$E$5:$E$44,A18,Spielplan!$F$5:$F$44,A11)+COUNTIFS(Spielplan!$F$5:$F$44,A18,Spielplan!$E$5:$E$44,A11))>0) + --((COUNTIFS(Spielplan!$B$5:$B$44,A18,Spielplan!$C$5:$C$44,A12)+COUNTIFS(Spielplan!$C$5:$C$44,A18,Spielplan!$B$5:$B$44,A12)+COUNTIFS(Spielplan!$E$5:$E$44,A18,Spielplan!$F$5:$F$44,A12)+COUNTIFS(Spielplan!$F$5:$F$44,A18,Spielplan!$E$5:$E$44,A12))>0) + --((COUNTIFS(Spielplan!$B$5:$B$44,A18,Spielplan!$C$5:$C$44,A13)+COUNTIFS(Spielplan!$C$5:$C$44,A18,Spielplan!$B$5:$B$44,A13)+COUNTIFS(Spielplan!$E$5:$E$44,A18,Spielplan!$F$5:$F$44,A13)+COUNTIFS(Spielplan!$F$5:$F$44,A18,Spielplan!$E$5:$E$44,A13))>0) + --((COUNTIFS(Spielplan!$B$5:$B$44,A18,Spielplan!$C$5:$C$44,A14)+COUNTIFS(Spielplan!$C$5:$C$44,A18,Spielplan!$B$5:$B$44,A14)+COUNTIFS(Spielplan!$E$5:$E$44,A18,Spielplan!$F$5:$F$44,A14)+COUNTIFS(Spielplan!$F$5:$F$44,A18,Spielplan!$E$5:$E$44,A14))>0) + --((COUNTIFS(Spielplan!$B$5:$B$44,A18,Spielplan!$C$5:$C$44,A15)+COUNTIFS(Spielplan!$C$5:$C$44,A18,Spielplan!$B$5:$B$44,A15)+COUNTIFS(Spielplan!$E$5:$E$44,A18,Spielplan!$F$5:$F$44,A15)+COUNTIFS(Spielplan!$F$5:$F$44,A18,Spielplan!$E$5:$E$44,A15))>0) + --((COUNTIFS(Spielplan!$B$5:$B$44,A18,Spielplan!$C$5:$C$44,A16)+COUNTIFS(Spielplan!$C$5:$C$44,A18,Spielplan!$B$5:$B$44,A16)+COUNTIFS(Spielplan!$E$5:$E$44,A18,Spielplan!$F$5:$F$44,A16)+COUNTIFS(Spielplan!$F$5:$F$44,A18,Spielplan!$E$5:$E$44,A16))>0) + --((COUNTIFS(Spielplan!$B$5:$B$44,A18,Spielplan!$C$5:$C$44,A17)+COUNTIFS(Spielplan!$C$5:$C$44,A18,Spielplan!$B$5:$B$44,A17)+COUNTIFS(Spielplan!$E$5:$E$44,A18,Spielplan!$F$5:$F$44,A17)+COUNTIFS(Spielplan!$F$5:$F$44,A18,Spielplan!$E$5:$E$44,A17))>0) + --((COUNTIFS(Spielplan!$B$5:$B$44,A18,Spielplan!$C$5:$C$44,A19)+COUNTIFS(Spielplan!$C$5:$C$44,A18,Spielplan!$B$5:$B$44,A19)+COUNTIFS(Spielplan!$E$5:$E$44,A18,Spielplan!$F$5:$F$44,A19)+COUNTIFS(Spielplan!$F$5:$F$44,A18,Spielplan!$E$5:$E$44,A19))>0) + --((COUNTIFS(Spielplan!$B$5:$B$44,A18,Spielplan!$C$5:$C$44,A20)+COUNTIFS(Spielplan!$C$5:$C$44,A18,Spielplan!$B$5:$B$44,A20)+COUNTIFS(Spielplan!$E$5:$E$44,A18,Spielplan!$F$5:$F$44,A20)+COUNTIFS(Spielplan!$F$5:$F$44,A18,Spielplan!$E$5:$E$44,A20))>0) + --((COUNTIFS(Spielplan!$B$5:$B$44,A18,Spielplan!$C$5:$C$44,A21)+COUNTIFS(Spielplan!$C$5:$C$44,A18,Spielplan!$B$5:$B$44,A21)+COUNTIFS(Spielplan!$E$5:$E$44,A18,Spielplan!$F$5:$F$44,A21)+COUNTIFS(Spielplan!$F$5:$F$44,A18,Spielplan!$E$5:$E$44,A21))>0) + --((COUNTIFS(Spielplan!$B$5:$B$44,A18,Spielplan!$C$5:$C$44,A22)+COUNTIFS(Spielplan!$C$5:$C$44,A18,Spielplan!$B$5:$B$44,A22)+COUNTIFS(Spielplan!$E$5:$E$44,A18,Spielplan!$F$5:$F$44,A22)+COUNTIFS(Spielplan!$F$5:$F$44,A18,Spielplan!$E$5:$E$44,A22))>0) + --((COUNTIFS(Spielplan!$B$5:$B$44,A18,Spielplan!$C$5:$C$44,A23)+COUNTIFS(Spielplan!$C$5:$C$44,A18,Spielplan!$B$5:$B$44,A23)+COUNTIFS(Spielplan!$E$5:$E$44,A18,Spielplan!$F$5:$F$44,A23)+COUNTIFS(Spielplan!$F$5:$F$44,A18,Spielplan!$E$5:$E$44,A23))>0) + --((COUNTIFS(Spielplan!$B$5:$B$44,A18,Spielplan!$C$5:$C$44,A24)+COUNTIFS(Spielplan!$C$5:$C$44,A18,Spielplan!$B$5:$B$44,A24)+COUNTIFS(Spielplan!$E$5:$E$44,A18,Spielplan!$F$5:$F$44,A24)+COUNTIFS(Spielplan!$F$5:$F$44,A18,Spielplan!$E$5:$E$44,A24))>0) + --((COUNTIFS(Spielplan!$B$5:$B$44,A18,Spielplan!$C$5:$C$44,A25)+COUNTIFS(Spielplan!$C$5:$C$44,A18,Spielplan!$B$5:$B$44,A25)+COUNTIFS(Spielplan!$E$5:$E$44,A18,Spielplan!$F$5:$F$44,A25)+COUNTIFS(Spielplan!$F$5:$F$44,A18,Spielplan!$E$5:$E$44,A25))>0) + --((COUNTIFS(Spielplan!$B$5:$B$44,A18,Spielplan!$C$5:$C$44,A26)+COUNTIFS(Spielplan!$C$5:$C$44,A18,Spielplan!$B$5:$B$44,A26)+COUNTIFS(Spielplan!$E$5:$E$44,A18,Spielplan!$F$5:$F$44,A26)+COUNTIFS(Spielplan!$F$5:$F$44,A18,Spielplan!$E$5:$E$44,A26))>0))
A19: =IF(9<=Start!$B$6,INDEX(Start!$B$11:$B$26,9),"") | B19: =IF(A19="","",INDEX(Rangliste!$K$5:$K$20,9)) | C19: =IF(A19="","",INDEX(Rangliste!$L$5:$L$20,9)) | D19: =IF(A19="","",INDEX(Rangliste!$M$5:$M$20,9)) | E19: =IF(A19="","",INDEX(Rangliste!$N$5:$N$20,9)) | F19: =IF(A19="","",INDEX(Rangliste!$O$5:$O$20,9)) | G19: =IF(A19="","",--((COUNTIFS(Spielplan!$B$5:$B$44,A19,Spielplan!$C$5:$C$44,A11)+COUNTIFS(Spielplan!$C$5:$C$44,A19,Spielplan!$B$5:$B$44,A11)+COUNTIFS(Spielplan!$E$5:$E$44,A19,Spielplan!$F$5:$F$44,A11)+COUNTIFS(Spielplan!$F$5:$F$44,A19,Spielplan!$E$5:$E$44,A11))>0) + --((COUNTIFS(Spielplan!$B$5:$B$44,A19,Spielplan!$C$5:$C$44,A12)+COUNTIFS(Spielplan!$C$5:$C$44,A19,Spielplan!$B$5:$B$44,A12)+COUNTIFS(Spielplan!$E$5:$E$44,A19,Spielplan!$F$5:$F$44,A12)+COUNTIFS(Spielplan!$F$5:$F$44,A19,Spielplan!$E$5:$E$44,A12))>0) + --((COUNTIFS(Spielplan!$B$5:$B$44,A19,Spielplan!$C$5:$C$44,A13)+COUNTIFS(Spielplan!$C$5:$C$44,A19,Spielplan!$B$5:$B$44,A13)+COUNTIFS(Spielplan!$E$5:$E$44,A19,Spielplan!$F$5:$F$44,A13)+COUNTIFS(Spielplan!$F$5:$F$44,A19,Spielplan!$E$5:$E$44,A13))>0) + --((COUNTIFS(Spielplan!$B$5:$B$44,A19,Spielplan!$C$5:$C$44,A14)+COUNTIFS(Spielplan!$C$5:$C$44,A19,Spielplan!$B$5:$B$44,A14)+COUNTIFS(Spielplan!$E$5:$E$44,A19,Spielplan!$F$5:$F$44,A14)+COUNTIFS(Spielplan!$F$5:$F$44,A19,Spielplan!$E$5:$E$44,A14))>0) + --((COUNTIFS(Spielplan!$B$5:$B$44,A19,Spielplan!$C$5:$C$44,A15)+COUNTIFS(Spielplan!$C$5:$C$44,A19,Spielplan!$B$5:$B$44,A15)+COUNTIFS(Spielplan!$E$5:$E$44,A19,Spielplan!$F$5:$F$44,A15)+COUNTIFS(Spielplan!$F$5:$F$44,A19,Spielplan!$E$5:$E$44,A15))>0) + --((COUNTIFS(Spielplan!$B$5:$B$44,A19,Spielplan!$C$5:$C$44,A16)+COUNTIFS(Spielplan!$C$5:$C$44,A19,Spielplan!$B$5:$B$44,A16)+COUNTIFS(Spielplan!$E$5:$E$44,A19,Spielplan!$F$5:$F$44,A16)+COUNTIFS(Spielplan!$F$5:$F$44,A19,Spielplan!$E$5:$E$44,A16))>0) + --((COUNTIFS(Spielplan!$B$5:$B$44,A19,Spielplan!$C$5:$C$44,A17)+COUNTIFS(Spielplan!$C$5:$C$44,A19,Spielplan!$B$5:$B$44,A17)+COUNTIFS(Spielplan!$E$5:$E$44,A19,Spielplan!$F$5:$F$44,A17)+COUNTIFS(Spielplan!$F$5:$F$44,A19,Spielplan!$E$5:$E$44,A17))>0) + --((COUNTIFS(Spielplan!$B$5:$B$44,A19,Spielplan!$C$5:$C$44,A18)+COUNTIFS(Spielplan!$C$5:$C$44,A19,Spielplan!$B$5:$B$44,A18)+COUNTIFS(Spielplan!$E$5:$E$44,A19,Spielplan!$F$5:$F$44,A18)+COUNTIFS(Spielplan!$F$5:$F$44,A19,Spielplan!$E$5:$E$44,A18))>0) + --((COUNTIFS(Spielplan!$B$5:$B$44,A19,Spielplan!$C$5:$C$44,A20)+COUNTIFS(Spielplan!$C$5:$C$44,A19,Spielplan!$B$5:$B$44,A20)+COUNTIFS(Spielplan!$E$5:$E$44,A19,Spielplan!$F$5:$F$44,A20)+COUNTIFS(Spielplan!$F$5:$F$44,A19,Spielplan!$E$5:$E$44,A20))>0) + --((COUNTIFS(Spielplan!$B$5:$B$44,A19,Spielplan!$C$5:$C$44,A21)+COUNTIFS(Spielplan!$C$5:$C$44,A19,Spielplan!$B$5:$B$44,A21)+COUNTIFS(Spielplan!$E$5:$E$44,A19,Spielplan!$F$5:$F$44,A21)+COUNTIFS(Spielplan!$F$5:$F$44,A19,Spielplan!$E$5:$E$44,A21))>0) + --((COUNTIFS(Spielplan!$B$5:$B$44,A19,Spielplan!$C$5:$C$44,A22)+COUNTIFS(Spielplan!$C$5:$C$44,A19,Spielplan!$B$5:$B$44,A22)+COUNTIFS(Spielplan!$E$5:$E$44,A19,Spielplan!$F$5:$F$44,A22)+COUNTIFS(Spielplan!$F$5:$F$44,A19,Spielplan!$E$5:$E$44,A22))>0) + --((COUNTIFS(Spielplan!$B$5:$B$44,A19,Spielplan!$C$5:$C$44,A23)+COUNTIFS(Spielplan!$C$5:$C$44,A19,Spielplan!$B$5:$B$44,A23)+COUNTIFS(Spielplan!$E$5:$E$44,A19,Spielplan!$F$5:$F$44,A23)+COUNTIFS(Spielplan!$F$5:$F$44,A19,Spielplan!$E$5:$E$44,A23))>0) + --((COUNTIFS(Spielplan!$B$5:$B$44,A19,Spielplan!$C$5:$C$44,A24)+COUNTIFS(Spielplan!$C$5:$C$44,A19,Spielplan!$B$5:$B$44,A24)+COUNTIFS(Spielplan!$E$5:$E$44,A19,Spielplan!$F$5:$F$44,A24)+COUNTIFS(Spielplan!$F$5:$F$44,A19,Spielplan!$E$5:$E$44,A24))>0) + --((COUNTIFS(Spielplan!$B$5:$B$44,A19,Spielplan!$C$5:$C$44,A25)+COUNTIFS(Spielplan!$C$5:$C$44,A19,Spielplan!$B$5:$B$44,A25)+COUNTIFS(Spielplan!$E$5:$E$44,A19,Spielplan!$F$5:$F$44,A25)+COUNTIFS(Spielplan!$F$5:$F$44,A19,Spielplan!$E$5:$E$44,A25))>0) + --((COUNTIFS(Spielplan!$B$5:$B$44,A19,Spielplan!$C$5:$C$44,A26)+COUNTIFS(Spielplan!$C$5:$C$44,A19,Spielplan!$B$5:$B$44,A26)+COUNTIFS(Spielplan!$E$5:$E$44,A19,Spielplan!$F$5:$F$44,A26)+COUNTIFS(Spielplan!$F$5:$F$44,A19,Spielplan!$E$5:$E$44,A26))>0))
A20: =IF(10<=Start!$B$6,INDEX(Start!$B$11:$B$26,10),"") | B20: =IF(A20="","",INDEX(Rangliste!$K$5:$K$20,10)) | C20: =IF(A20="","",INDEX(Rangliste!$L$5:$L$20,10)) | D20: =IF(A20="","",INDEX(Rangliste!$M$5:$M$20,10)) | E20: =IF(A20="","",INDEX(Rangliste!$N$5:$N$20,10)) | F20: =IF(A20="","",INDEX(Rangliste!$O$5:$O$20,10)) | G20: =IF(A20="","",--((COUNTIFS(Spielplan!$B$5:$B$44,A20,Spielplan!$C$5:$C$44,A11)+COUNTIFS(Spielplan!$C$5:$C$44,A20,Spielplan!$B$5:$B$44,A11)+COUNTIFS(Spielplan!$E$5:$E$44,A20,Spielplan!$F$5:$F$44,A11)+COUNTIFS(Spielplan!$F$5:$F$44,A20,Spielplan!$E$5:$E$44,A11))>0) + --((COUNTIFS(Spielplan!$B$5:$B$44,A20,Spielplan!$C$5:$C$44,A12)+COUNTIFS(Spielplan!$C$5:$C$44,A20,Spielplan!$B$5:$B$44,A12)+COUNTIFS(Spielplan!$E$5:$E$44,A20,Spielplan!$F$5:$F$44,A12)+COUNTIFS(Spielplan!$F$5:$F$44,A20,Spielplan!$E$5:$E$44,A12))>0) + --((COUNTIFS(Spielplan!$B$5:$B$44,A20,Spielplan!$C$5:$C$44,A13)+COUNTIFS(Spielplan!$C$5:$C$44,A20,Spielplan!$B$5:$B$44,A13)+COUNTIFS(Spielplan!$E$5:$E$44,A20,Spielplan!$F$5:$F$44,A13)+COUNTIFS(Spielplan!$F$5:$F$44,A20,Spielplan!$E$5:$E$44,A13))>0) + --((COUNTIFS(Spielplan!$B$5:$B$44,A20,Spielplan!$C$5:$C$44,A14)+COUNTIFS(Spielplan!$C$5:$C$44,A20,Spielplan!$B$5:$B$44,A14)+COUNTIFS(Spielplan!$E$5:$E$44,A20,Spielplan!$F$5:$F$44,A14)+COUNTIFS(Spielplan!$F$5:$F$44,A20,Spielplan!$E$5:$E$44,A14))>0) + --((COUNTIFS(Spielplan!$B$5:$B$44,A20,Spielplan!$C$5:$C$44,A15)+COUNTIFS(Spielplan!$C$5:$C$44,A20,Spielplan!$B$5:$B$44,A15)+COUNTIFS(Spielplan!$E$5:$E$44,A20,Spielplan!$F$5:$F$44,A15)+COUNTIFS(Spielplan!$F$5:$F$44,A20,Spielplan!$E$5:$E$44,A15))>0) + --((COUNTIFS(Spielplan!$B$5:$B$44,A20,Spielplan!$C$5:$C$44,A16)+COUNTIFS(Spielplan!$C$5:$C$44,A20,Spielplan!$B$5:$B$44,A16)+COUNTIFS(Spielplan!$E$5:$E$44,A20,Spielplan!$F$5:$F$44,A16)+COUNTIFS(Spielplan!$F$5:$F$44,A20,Spielplan!$E$5:$E$44,A16))>0) + --((COUNTIFS(Spielplan!$B$5:$B$44,A20,Spielplan!$C$5:$C$44,A17)+COUNTIFS(Spielplan!$C$5:$C$44,A20,Spielplan!$B$5:$B$44,A17)+COUNTIFS(Spielplan!$E$5:$E$44,A20,Spielplan!$F$5:$F$44,A17)+COUNTIFS(Spielplan!$F$5:$F$44,A20,Spielplan!$E$5:$E$44,A17))>0) + --((COUNTIFS(Spielplan!$B$5:$B$44,A20,Spielplan!$C$5:$C$44,A18)+COUNTIFS(Spielplan!$C$5:$C$44,A20,Spielplan!$B$5:$B$44,A18)+COUNTIFS(Spielplan!$E$5:$E$44,A20,Spielplan!$F$5:$F$44,A18)+COUNTIFS(Spielplan!$F$5:$F$44,A20,Spielplan!$E$5:$E$44,A18))>0) + --((COUNTIFS(Spielplan!$B$5:$B$44,A20,Spielplan!$C$5:$C$44,A19)+COUNTIFS(Spielplan!$C$5:$C$44,A20,Spielplan!$B$5:$B$44,A19)+COUNTIFS(Spielplan!$E$5:$E$44,A20,Spielplan!$F$5:$F$44,A19)+COUNTIFS(Spielplan!$F$5:$F$44,A20,Spielplan!$E$5:$E$44,A19))>0) + --((COUNTIFS(Spielplan!$B$5:$B$44,A20,Spielplan!$C$5:$C$44,A21)+COUNTIFS(Spielplan!$C$5:$C$44,A20,Spielplan!$B$5:$B$44,A21)+COUNTIFS(Spielplan!$E$5:$E$44,A20,Spielplan!$F$5:$F$44,A21)+COUNTIFS(Spielplan!$F$5:$F$44,A20,Spielplan!$E$5:$E$44,A21))>0) + --((COUNTIFS(Spielplan!$B$5:$B$44,A20,Spielplan!$C$5:$C$44,A22)+COUNTIFS(Spielplan!$C$5:$C$44,A20,Spielplan!$B$5:$B$44,A22)+COUNTIFS(Spielplan!$E$5:$E$44,A20,Spielplan!$F$5:$F$44,A22)+COUNTIFS(Spielplan!$F$5:$F$44,A20,Spielplan!$E$5:$E$44,A22))>0) + --((COUNTIFS(Spielplan!$B$5:$B$44,A20,Spielplan!$C$5:$C$44,A23)+COUNTIFS(Spielplan!$C$5:$C$44,A20,Spielplan!$B$5:$B$44,A23)+COUNTIFS(Spielplan!$E$5:$E$44,A20,Spielplan!$F$5:$F$44,A23)+COUNTIFS(Spielplan!$F$5:$F$44,A20,Spielplan!$E$5:$E$44,A23))>0) + --((COUNTIFS(Spielplan!$B$5:$B$44,A20,Spielplan!$C$5:$C$44,A24)+COUNTIFS(Spielplan!$C$5:$C$44,A20,Spielplan!$B$5:$B$44,A24)+COUNTIFS(Spielplan!$E$5:$E$44,A20,Spielplan!$F$5:$F$44,A24)+COUNTIFS(Spielplan!$F$5:$F$44,A20,Spielplan!$E$5:$E$44,A24))>0) + --((COUNTIFS(Spielplan!$B$5:$B$44,A20,Spielplan!$C$5:$C$44,A25)+COUNTIFS(Spielplan!$C$5:$C$44,A20,Spielplan!$B$5:$B$44,A25)+COUNTIFS(Spielplan!$E$5:$E$44,A20,Spielplan!$F$5:$F$44,A25)+COUNTIFS(Spielplan!$F$5:$F$44,A20,Spielplan!$E$5:$E$44,A25))>0) + --((COUNTIFS(Spielplan!$B$5:$B$44,A20,Spielplan!$C$5:$C$44,A26)+COUNTIFS(Spielplan!$C$5:$C$44,A20,Spielplan!$B$5:$B$44,A26)+COUNTIFS(Spielplan!$E$5:$E$44,A20,Spielplan!$F$5:$F$44,A26)+COUNTIFS(Spielplan!$F$5:$F$44,A20,Spielplan!$E$5:$E$44,A26))>0))
A21: =IF(11<=Start!$B$6,INDEX(Start!$B$11:$B$26,11),"") | B21: =IF(A21="","",INDEX(Rangliste!$K$5:$K$20,11)) | C21: =IF(A21="","",INDEX(Rangliste!$L$5:$L$20,11)) | D21: =IF(A21="","",INDEX(Rangliste!$M$5:$M$20,11)) | E21: =IF(A21="","",INDEX(Rangliste!$N$5:$N$20,11)) | F21: =IF(A21="","",INDEX(Rangliste!$O$5:$O$20,11)) | G21: =IF(A21="","",--((COUNTIFS(Spielplan!$B$5:$B$44,A21,Spielplan!$C$5:$C$44,A11)+COUNTIFS(Spielplan!$C$5:$C$44,A21,Spielplan!$B$5:$B$44,A11)+COUNTIFS(Spielplan!$E$5:$E$44,A21,Spielplan!$F$5:$F$44,A11)+COUNTIFS(Spielplan!$F$5:$F$44,A21,Spielplan!$E$5:$E$44,A11))>0) + --((COUNTIFS(Spielplan!$B$5:$B$44,A21,Spielplan!$C$5:$C$44,A12)+COUNTIFS(Spielplan!$C$5:$C$44,A21,Spielplan!$B$5:$B$44,A12)+COUNTIFS(Spielplan!$E$5:$E$44,A21,Spielplan!$F$5:$F$44,A12)+COUNTIFS(Spielplan!$F$5:$F$44,A21,Spielplan!$E$5:$E$44,A12))>0) + --((COUNTIFS(Spielplan!$B$5:$B$44,A21,Spielplan!$C$5:$C$44,A13)+COUNTIFS(Spielplan!$C$5:$C$44,A21,Spielplan!$B$5:$B$44,A13)+COUNTIFS(Spielplan!$E$5:$E$44,A21,Spielplan!$F$5:$F$44,A13)+COUNTIFS(Spielplan!$F$5:$F$44,A21,Spielplan!$E$5:$E$44,A13))>0) + --((COUNTIFS(Spielplan!$B$5:$B$44,A21,Spielplan!$C$5:$C$44,A14)+COUNTIFS(Spielplan!$C$5:$C$44,A21,Spielplan!$B$5:$B$44,A14)+COUNTIFS(Spielplan!$E$5:$E$44,A21,Spielplan!$F$5:$F$44,A14)+COUNTIFS(Spielplan!$F$5:$F$44,A21,Spielplan!$E$5:$E$44,A14))>0) + --((COUNTIFS(Spielplan!$B$5:$B$44,A21,Spielplan!$C$5:$C$44,A15)+COUNTIFS(Spielplan!$C$5:$C$44,A21,Spielplan!$B$5:$B$44,A15)+COUNTIFS(Spielplan!$E$5:$E$44,A21,Spielplan!$F$5:$F$44,A15)+COUNTIFS(Spielplan!$F$5:$F$44,A21,Spielplan!$E$5:$E$44,A15))>0) + --((COUNTIFS(Spielplan!$B$5:$B$44,A21,Spielplan!$C$5:$C$44,A16)+COUNTIFS(Spielplan!$C$5:$C$44,A21,Spielplan!$B$5:$B$44,A16)+COUNTIFS(Spielplan!$E$5:$E$44,A21,Spielplan!$F$5:$F$44,A16)+COUNTIFS(Spielplan!$F$5:$F$44,A21,Spielplan!$E$5:$E$44,A16))>0) + --((COUNTIFS(Spielplan!$B$5:$B$44,A21,Spielplan!$C$5:$C$44,A17)+COUNTIFS(Spielplan!$C$5:$C$44,A21,Spielplan!$B$5:$B$44,A17)+COUNTIFS(Spielplan!$E$5:$E$44,A21,Spielplan!$F$5:$F$44,A17)+COUNTIFS(Spielplan!$F$5:$F$44,A21,Spielplan!$E$5:$E$44,A17))>0) + --((COUNTIFS(Spielplan!$B$5:$B$44,A21,Spielplan!$C$5:$C$44,A18)+COUNTIFS(Spielplan!$C$5:$C$44,A21,Spielplan!$B$5:$B$44,A18)+COUNTIFS(Spielplan!$E$5:$E$44,A21,Spielplan!$F$5:$F$44,A18)+COUNTIFS(Spielplan!$F$5:$F$44,A21,Spielplan!$E$5:$E$44,A18))>0) + --((COUNTIFS(Spielplan!$B$5:$B$44,A21,Spielplan!$C$5:$C$44,A19)+COUNTIFS(Spielplan!$C$5:$C$44,A21,Spielplan!$B$5:$B$44,A19)+COUNTIFS(Spielplan!$E$5:$E$44,A21,Spielplan!$F$5:$F$44,A19)+COUNTIFS(Spielplan!$F$5:$F$44,A21,Spielplan!$E$5:$E$44,A19))>0) + --((COUNTIFS(Spielplan!$B$5:$B$44,A21,Spielplan!$C$5:$C$44,A20)+COUNTIFS(Spielplan!$C$5:$C$44,A21,Spielplan!$B$5:$B$44,A20)+COUNTIFS(Spielplan!$E$5:$E$44,A21,Spielplan!$F$5:$F$44,A20)+COUNTIFS(Spielplan!$F$5:$F$44,A21,Spielplan!$E$5:$E$44,A20))>0) + --((COUNTIFS(Spielplan!$B$5:$B$44,A21,Spielplan!$C$5:$C$44,A22)+COUNTIFS(Spielplan!$C$5:$C$44,A21,Spielplan!$B$5:$B$44,A22)+COUNTIFS(Spielplan!$E$5:$E$44,A21,Spielplan!$F$5:$F$44,A22)+COUNTIFS(Spielplan!$F$5:$F$44,A21,Spielplan!$E$5:$E$44,A22))>0) + --((COUNTIFS(Spielplan!$B$5:$B$44,A21,Spielplan!$C$5:$C$44,A23)+COUNTIFS(Spielplan!$C$5:$C$44,A21,Spielplan!$B$5:$B$44,A23)+COUNTIFS(Spielplan!$E$5:$E$44,A21,Spielplan!$F$5:$F$44,A23)+COUNTIFS(Spielplan!$F$5:$F$44,A21,Spielplan!$E$5:$E$44,A23))>0) + --((COUNTIFS(Spielplan!$B$5:$B$44,A21,Spielplan!$C$5:$C$44,A24)+COUNTIFS(Spielplan!$C$5:$C$44,A21,Spielplan!$B$5:$B$44,A24)+COUNTIFS(Spielplan!$E$5:$E$44,A21,Spielplan!$F$5:$F$44,A24)+COUNTIFS(Spielplan!$F$5:$F$44,A21,Spielplan!$E$5:$E$44,A24))>0) + --((COUNTIFS(Spielplan!$B$5:$B$44,A21,Spielplan!$C$5:$C$44,A25)+COUNTIFS(Spielplan!$C$5:$C$44,A21,Spielplan!$B$5:$B$44,A25)+COUNTIFS(Spielplan!$E$5:$E$44,A21,Spielplan!$F$5:$F$44,A25)+COUNTIFS(Spielplan!$F$5:$F$44,A21,Spielplan!$E$5:$E$44,A25))>0) + --((COUNTIFS(Spielplan!$B$5:$B$44,A21,Spielplan!$C$5:$C$44,A26)+COUNTIFS(Spielplan!$C$5:$C$44,A21,Spielplan!$B$5:$B$44,A26)+COUNTIFS(Spielplan!$E$5:$E$44,A21,Spielplan!$F$5:$F$44,A26)+COUNTIFS(Spielplan!$F$5:$F$44,A21,Spielplan!$E$5:$E$44,A26))>0))
A22: =IF(12<=Start!$B$6,INDEX(Start!$B$11:$B$26,12),"") | B22: =IF(A22="","",INDEX(Rangliste!$K$5:$K$20,12)) | C22: =IF(A22="","",INDEX(Rangliste!$L$5:$L$20,12)) | D22: =IF(A22="","",INDEX(Rangliste!$M$5:$M$20,12)) | E22: =IF(A22="","",INDEX(Rangliste!$N$5:$N$20,12)) | F22: =IF(A22="","",INDEX(Rangliste!$O$5:$O$20,12)) | G22: =IF(A22="","",--((COUNTIFS(Spielplan!$B$5:$B$44,A22,Spielplan!$C$5:$C$44,A11)+COUNTIFS(Spielplan!$C$5:$C$44,A22,Spielplan!$B$5:$B$44,A11)+COUNTIFS(Spielplan!$E$5:$E$44,A22,Spielplan!$F$5:$F$44,A11)+COUNTIFS(Spielplan!$F$5:$F$44,A22,Spielplan!$E$5:$E$44,A11))>0) + --((COUNTIFS(Spielplan!$B$5:$B$44,A22,Spielplan!$C$5:$C$44,A12)+COUNTIFS(Spielplan!$C$5:$C$44,A22,Spielplan!$B$5:$B$44,A12)+COUNTIFS(Spielplan!$E$5:$E$44,A22,Spielplan!$F$5:$F$44,A12)+COUNTIFS(Spielplan!$F$5:$F$44,A22,Spielplan!$E$5:$E$44,A12))>0) + --((COUNTIFS(Spielplan!$B$5:$B$44,A22,Spielplan!$C$5:$C$44,A13)+COUNTIFS(Spielplan!$C$5:$C$44,A22,Spielplan!$B$5:$B$44,A13)+COUNTIFS(Spielplan!$E$5:$E$44,A22,Spielplan!$F$5:$F$44,A13)+COUNTIFS(Spielplan!$F$5:$F$44,A22,Spielplan!$E$5:$E$44,A13))>0) + --((COUNTIFS(Spielplan!$B$5:$B$44,A22,Spielplan!$C$5:$C$44,A14)+COUNTIFS(Spielplan!$C$5:$C$44,A22,Spielplan!$B$5:$B$44,A14)+COUNTIFS(Spielplan!$E$5:$E$44,A22,Spielplan!$F$5:$F$44,A14)+COUNTIFS(Spielplan!$F$5:$F$44,A22,Spielplan!$E$5:$E$44,A14))>0) + --((COUNTIFS(Spielplan!$B$5:$B$44,A22,Spielplan!$C$5:$C$44,A15)+COUNTIFS(Spielplan!$C$5:$C$44,A22,Spielplan!$B$5:$B$44,A15)+COUNTIFS(Spielplan!$E$5:$E$44,A22,Spielplan!$F$5:$F$44,A15)+COUNTIFS(Spielplan!$F$5:$F$44,A22,Spielplan!$E$5:$E$44,A15))>0) + --((COUNTIFS(Spielplan!$B$5:$B$44,A22,Spielplan!$C$5:$C$44,A16)+COUNTIFS(Spielplan!$C$5:$C$44,A22,Spielplan!$B$5:$B$44,A16)+COUNTIFS(Spielplan!$E$5:$E$44,A22,Spielplan!$F$5:$F$44,A16)+COUNTIFS(Spielplan!$F$5:$F$44,A22,Spielplan!$E$5:$E$44,A16))>0) + --((COUNTIFS(Spielplan!$B$5:$B$44,A22,Spielplan!$C$5:$C$44,A17)+COUNTIFS(Spielplan!$C$5:$C$44,A22,Spielplan!$B$5:$B$44,A17)+COUNTIFS(Spielplan!$E$5:$E$44,A22,Spielplan!$F$5:$F$44,A17)+COUNTIFS(Spielplan!$F$5:$F$44,A22,Spielplan!$E$5:$E$44,A17))>0) + --((COUNTIFS(Spielplan!$B$5:$B$44,A22,Spielplan!$C$5:$C$44,A18)+COUNTIFS(Spielplan!$C$5:$C$44,A22,Spielplan!$B$5:$B$44,A18)+COUNTIFS(Spielplan!$E$5:$E$44,A22,Spielplan!$F$5:$F$44,A18)+COUNTIFS(Spielplan!$F$5:$F$44,A22,Spielplan!$E$5:$E$44,A18))>0) + --((COUNTIFS(Spielplan!$B$5:$B$44,A22,Spielplan!$C$5:$C$44,A19)+COUNTIFS(Spielplan!$C$5:$C$44,A22,Spielplan!$B$5:$B$44,A19)+COUNTIFS(Spielplan!$E$5:$E$44,A22,Spielplan!$F$5:$F$44,A19)+COUNTIFS(Spielplan!$F$5:$F$44,A22,Spielplan!$E$5:$E$44,A19))>0) + --((COUNTIFS(Spielplan!$B$5:$B$44,A22,Spielplan!$C$5:$C$44,A20)+COUNTIFS(Spielplan!$C$5:$C$44,A22,Spielplan!$B$5:$B$44,A20)+COUNTIFS(Spielplan!$E$5:$E$44,A22,Spielplan!$F$5:$F$44,A20)+COUNTIFS(Spielplan!$F$5:$F$44,A22,Spielplan!$E$5:$E$44,A20))>0) + --((COUNTIFS(Spielplan!$B$5:$B$44,A22,Spielplan!$C$5:$C$44,A21)+COUNTIFS(Spielplan!$C$5:$C$44,A22,Spielplan!$B$5:$B$44,A21)+COUNTIFS(Spielplan!$E$5:$E$44,A22,Spielplan!$F$5:$F$44,A21)+COUNTIFS(Spielplan!$F$5:$F$44,A22,Spielplan!$E$5:$E$44,A21))>0) + --((COUNTIFS(Spielplan!$B$5:$B$44,A22,Spielplan!$C$5:$C$44,A23)+COUNTIFS(Spielplan!$C$5:$C$44,A22,Spielplan!$B$5:$B$44,A23)+COUNTIFS(Spielplan!$E$5:$E$44,A22,Spielplan!$F$5:$F$44,A23)+COUNTIFS(Spielplan!$F$5:$F$44,A22,Spielplan!$E$5:$E$44,A23))>0) + --((COUNTIFS(Spielplan!$B$5:$B$44,A22,Spielplan!$C$5:$C$44,A24)+COUNTIFS(Spielplan!$C$5:$C$44,A22,Spielplan!$B$5:$B$44,A24)+COUNTIFS(Spielplan!$E$5:$E$44,A22,Spielplan!$F$5:$F$44,A24)+COUNTIFS(Spielplan!$F$5:$F$44,A22,Spielplan!$E$5:$E$44,A24))>0) + --((COUNTIFS(Spielplan!$B$5:$B$44,A22,Spielplan!$C$5:$C$44,A25)+COUNTIFS(Spielplan!$C$5:$C$44,A22,Spielplan!$B$5:$B$44,A25)+COUNTIFS(Spielplan!$E$5:$E$44,A22,Spielplan!$F$5:$F$44,A25)+COUNTIFS(Spielplan!$F$5:$F$44,A22,Spielplan!$E$5:$E$44,A25))>0) + --((COUNTIFS(Spielplan!$B$5:$B$44,A22,Spielplan!$C$5:$C$44,A26)+COUNTIFS(Spielplan!$C$5:$C$44,A22,Spielplan!$B$5:$B$44,A26)+COUNTIFS(Spielplan!$E$5:$E$44,A22,Spielplan!$F$5:$F$44,A26)+COUNTIFS(Spielplan!$F$5:$F$44,A22,Spielplan!$E$5:$E$44,A26))>0))
A23: =IF(13<=Start!$B$6,INDEX(Start!$B$11:$B$26,13),"") | B23: =IF(A23="","",INDEX(Rangliste!$K$5:$K$20,13)) | C23: =IF(A23="","",INDEX(Rangliste!$L$5:$L$20,13)) | D23: =IF(A23="","",INDEX(Rangliste!$M$5:$M$20,13)) | E23: =IF(A23="","",INDEX(Rangliste!$N$5:$N$20,13)) | F23: =IF(A23="","",INDEX(Rangliste!$O$5:$O$20,13)) | G23: =IF(A23="","",--((COUNTIFS(Spielplan!$B$5:$B$44,A23,Spielplan!$C$5:$C$44,A11)+COUNTIFS(Spielplan!$C$5:$C$44,A23,Spielplan!$B$5:$B$44,A11)+COUNTIFS(Spielplan!$E$5:$E$44,A23,Spielplan!$F$5:$F$44,A11)+COUNTIFS(Spielplan!$F$5:$F$44,A23,Spielplan!$E$5:$E$44,A11))>0) + --((COUNTIFS(Spielplan!$B$5:$B$44,A23,Spielplan!$C$5:$C$44,A12)+COUNTIFS(Spielplan!$C$5:$C$44,A23,Spielplan!$B$5:$B$44,A12)+COUNTIFS(Spielplan!$E$5:$E$44,A23,Spielplan!$F$5:$F$44,A12)+COUNTIFS(Spielplan!$F$5:$F$44,A23,Spielplan!$E$5:$E$44,A12))>0) + --((COUNTIFS(Spielplan!$B$5:$B$44,A23,Spielplan!$C$5:$C$44,A13)+COUNTIFS(Spielplan!$C$5:$C$44,A23,Spielplan!$B$5:$B$44,A13)+COUNTIFS(Spielplan!$E$5:$E$44,A23,Spielplan!$F$5:$F$44,A13)+COUNTIFS(Spielplan!$F$5:$F$44,A23,Spielplan!$E$5:$E$44,A13))>0) + --((COUNTIFS(Spielplan!$B$5:$B$44,A23,Spielplan!$C$5:$C$44,A14)+COUNTIFS(Spielplan!$C$5:$C$44,A23,Spielplan!$B$5:$B$44,A14)+COUNTIFS(Spielplan!$E$5:$E$44,A23,Spielplan!$F$5:$F$44,A14)+COUNTIFS(Spielplan!$F$5:$F$44,A23,Spielplan!$E$5:$E$44,A14))>0) + --((COUNTIFS(Spielplan!$B$5:$B$44,A23,Spielplan!$C$5:$C$44,A15)+COUNTIFS(Spielplan!$C$5:$C$44,A23,Spielplan!$B$5:$B$44,A15)+COUNTIFS(Spielplan!$E$5:$E$44,A23,Spielplan!$F$5:$F$44,A15)+COUNTIFS(Spielplan!$F$5:$F$44,A23,Spielplan!$E$5:$E$44,A15))>0) + --((COUNTIFS(Spielplan!$B$5:$B$44,A23,Spielplan!$C$5:$C$44,A16)+COUNTIFS(Spielplan!$C$5:$C$44,A23,Spielplan!$B$5:$B$44,A16)+COUNTIFS(Spielplan!$E$5:$E$44,A23,Spielplan!$F$5:$F$44,A16)+COUNTIFS(Spielplan!$F$5:$F$44,A23,Spielplan!$E$5:$E$44,A16))>0) + --((COUNTIFS(Spielplan!$B$5:$B$44,A23,Spielplan!$C$5:$C$44,A17)+COUNTIFS(Spielplan!$C$5:$C$44,A23,Spielplan!$B$5:$B$44,A17)+COUNTIFS(Spielplan!$E$5:$E$44,A23,Spielplan!$F$5:$F$44,A17)+COUNTIFS(Spielplan!$F$5:$F$44,A23,Spielplan!$E$5:$E$44,A17))>0) + --((COUNTIFS(Spielplan!$B$5:$B$44,A23,Spielplan!$C$5:$C$44,A18)+COUNTIFS(Spielplan!$C$5:$C$44,A23,Spielplan!$B$5:$B$44,A18)+COUNTIFS(Spielplan!$E$5:$E$44,A23,Spielplan!$F$5:$F$44,A18)+COUNTIFS(Spielplan!$F$5:$F$44,A23,Spielplan!$E$5:$E$44,A18))>0) + --((COUNTIFS(Spielplan!$B$5:$B$44,A23,Spielplan!$C$5:$C$44,A19)+COUNTIFS(Spielplan!$C$5:$C$44,A23,Spielplan!$B$5:$B$44,A19)+COUNTIFS(Spielplan!$E$5:$E$44,A23,Spielplan!$F$5:$F$44,A19)+COUNTIFS(Spielplan!$F$5:$F$44,A23,Spielplan!$E$5:$E$44,A19))>0) + --((COUNTIFS(Spielplan!$B$5:$B$44,A23,Spielplan!$C$5:$C$44,A20)+COUNTIFS(Spielplan!$C$5:$C$44,A23,Spielplan!$B$5:$B$44,A20)+COUNTIFS(Spielplan!$E$5:$E$44,A23,Spielplan!$F$5:$F$44,A20)+COUNTIFS(Spielplan!$F$5:$F$44,A23,Spielplan!$E$5:$E$44,A20))>0) + --((COUNTIFS(Spielplan!$B$5:$B$44,A23,Spielplan!$C$5:$C$44,A21)+COUNTIFS(Spielplan!$C$5:$C$44,A23,Spielplan!$B$5:$B$44,A21)+COUNTIFS(Spielplan!$E$5:$E$44,A23,Spielplan!$F$5:$F$44,A21)+COUNTIFS(Spielplan!$F$5:$F$44,A23,Spielplan!$E$5:$E$44,A21))>0) + --((COUNTIFS(Spielplan!$B$5:$B$44,A23,Spielplan!$C$5:$C$44,A22)+COUNTIFS(Spielplan!$C$5:$C$44,A23,Spielplan!$B$5:$B$44,A22)+COUNTIFS(Spielplan!$E$5:$E$44,A23,Spielplan!$F$5:$F$44,A22)+COUNTIFS(Spielplan!$F$5:$F$44,A23,Spielplan!$E$5:$E$44,A22))>0) + --((COUNTIFS(Spielplan!$B$5:$B$44,A23,Spielplan!$C$5:$C$44,A24)+COUNTIFS(Spielplan!$C$5:$C$44,A23,Spielplan!$B$5:$B$44,A24)+COUNTIFS(Spielplan!$E$5:$E$44,A23,Spielplan!$F$5:$F$44,A24)+COUNTIFS(Spielplan!$F$5:$F$44,A23,Spielplan!$E$5:$E$44,A24))>0) + --((COUNTIFS(Spielplan!$B$5:$B$44,A23,Spielplan!$C$5:$C$44,A25)+COUNTIFS(Spielplan!$C$5:$C$44,A23,Spielplan!$B$5:$B$44,A25)+COUNTIFS(Spielplan!$E$5:$E$44,A23,Spielplan!$F$5:$F$44,A25)+COUNTIFS(Spielplan!$F$5:$F$44,A23,Spielplan!$E$5:$E$44,A25))>0) + --((COUNTIFS(Spielplan!$B$5:$B$44,A23,Spielplan!$C$5:$C$44,A26)+COUNTIFS(Spielplan!$C$5:$C$44,A23,Spielplan!$B$5:$B$44,A26)+COUNTIFS(Spielplan!$E$5:$E$44,A23,Spielplan!$F$5:$F$44,A26)+COUNTIFS(Spielplan!$F$5:$F$44,A23,Spielplan!$E$5:$E$44,A26))>0))
A24: =IF(14<=Start!$B$6,INDEX(Start!$B$11:$B$26,14),"") | B24: =IF(A24="","",INDEX(Rangliste!$K$5:$K$20,14)) | C24: =IF(A24="","",INDEX(Rangliste!$L$5:$L$20,14)) | D24: =IF(A24="","",INDEX(Rangliste!$M$5:$M$20,14)) | E24: =IF(A24="","",INDEX(Rangliste!$N$5:$N$20,14)) | F24: =IF(A24="","",INDEX(Rangliste!$O$5:$O$20,14)) | G24: =IF(A24="","",--((COUNTIFS(Spielplan!$B$5:$B$44,A24,Spielplan!$C$5:$C$44,A11)+COUNTIFS(Spielplan!$C$5:$C$44,A24,Spielplan!$B$5:$B$44,A11)+COUNTIFS(Spielplan!$E$5:$E$44,A24,Spielplan!$F$5:$F$44,A11)+COUNTIFS(Spielplan!$F$5:$F$44,A24,Spielplan!$E$5:$E$44,A11))>0) + --((COUNTIFS(Spielplan!$B$5:$B$44,A24,Spielplan!$C$5:$C$44,A12)+COUNTIFS(Spielplan!$C$5:$C$44,A24,Spielplan!$B$5:$B$44,A12)+COUNTIFS(Spielplan!$E$5:$E$44,A24,Spielplan!$F$5:$F$44,A12)+COUNTIFS(Spielplan!$F$5:$F$44,A24,Spielplan!$E$5:$E$44,A12))>0) + --((COUNTIFS(Spielplan!$B$5:$B$44,A24,Spielplan!$C$5:$C$44,A13)+COUNTIFS(Spielplan!$C$5:$C$44,A24,Spielplan!$B$5:$B$44,A13)+COUNTIFS(Spielplan!$E$5:$E$44,A24,Spielplan!$F$5:$F$44,A13)+COUNTIFS(Spielplan!$F$5:$F$44,A24,Spielplan!$E$5:$E$44,A13))>0) + --((COUNTIFS(Spielplan!$B$5:$B$44,A24,Spielplan!$C$5:$C$44,A14)+COUNTIFS(Spielplan!$C$5:$C$44,A24,Spielplan!$B$5:$B$44,A14)+COUNTIFS(Spielplan!$E$5:$E$44,A24,Spielplan!$F$5:$F$44,A14)+COUNTIFS(Spielplan!$F$5:$F$44,A24,Spielplan!$E$5:$E$44,A14))>0) + --((COUNTIFS(Spielplan!$B$5:$B$44,A24,Spielplan!$C$5:$C$44,A15)+COUNTIFS(Spielplan!$C$5:$C$44,A24,Spielplan!$B$5:$B$44,A15)+COUNTIFS(Spielplan!$E$5:$E$44,A24,Spielplan!$F$5:$F$44,A15)+COUNTIFS(Spielplan!$F$5:$F$44,A24,Spielplan!$E$5:$E$44,A15))>0) + --((COUNTIFS(Spielplan!$B$5:$B$44,A24,Spielplan!$C$5:$C$44,A16)+COUNTIFS(Spielplan!$C$5:$C$44,A24,Spielplan!$B$5:$B$44,A16)+COUNTIFS(Spielplan!$E$5:$E$44,A24,Spielplan!$F$5:$F$44,A16)+COUNTIFS(Spielplan!$F$5:$F$44,A24,Spielplan!$E$5:$E$44,A16))>0) + --((COUNTIFS(Spielplan!$B$5:$B$44,A24,Spielplan!$C$5:$C$44,A17)+COUNTIFS(Spielplan!$C$5:$C$44,A24,Spielplan!$B$5:$B$44,A17)+COUNTIFS(Spielplan!$E$5:$E$44,A24,Spielplan!$F$5:$F$44,A17)+COUNTIFS(Spielplan!$F$5:$F$44,A24,Spielplan!$E$5:$E$44,A17))>0) + --((COUNTIFS(Spielplan!$B$5:$B$44,A24,Spielplan!$C$5:$C$44,A18)+COUNTIFS(Spielplan!$C$5:$C$44,A24,Spielplan!$B$5:$B$44,A18)+COUNTIFS(Spielplan!$E$5:$E$44,A24,Spielplan!$F$5:$F$44,A18)+COUNTIFS(Spielplan!$F$5:$F$44,A24,Spielplan!$E$5:$E$44,A18))>0) + --((COUNTIFS(Spielplan!$B$5:$B$44,A24,Spielplan!$C$5:$C$44,A19)+COUNTIFS(Spielplan!$C$5:$C$44,A24,Spielplan!$B$5:$B$44,A19)+COUNTIFS(Spielplan!$E$5:$E$44,A24,Spielplan!$F$5:$F$44,A19)+COUNTIFS(Spielplan!$F$5:$F$44,A24,Spielplan!$E$5:$E$44,A19))>0) + --((COUNTIFS(Spielplan!$B$5:$B$44,A24,Spielplan!$C$5:$C$44,A20)+COUNTIFS(Spielplan!$C$5:$C$44,A24,Spielplan!$B$5:$B$44,A20)+COUNTIFS(Spielplan!$E$5:$E$44,A24,Spielplan!$F$5:$F$44,A20)+COUNTIFS(Spielplan!$F$5:$F$44,A24,Spielplan!$E$5:$E$44,A20))>0) + --((COUNTIFS(Spielplan!$B$5:$B$44,A24,Spielplan!$C$5:$C$44,A21)+COUNTIFS(Spielplan!$C$5:$C$44,A24,Spielplan!$B$5:$B$44,A21)+COUNTIFS(Spielplan!$E$5:$E$44,A24,Spielplan!$F$5:$F$44,A21)+COUNTIFS(Spielplan!$F$5:$F$44,A24,Spielplan!$E$5:$E$44,A21))>0) + --((COUNTIFS(Spielplan!$B$5:$B$44,A24,Spielplan!$C$5:$C$44,A22)+COUNTIFS(Spielplan!$C$5:$C$44,A24,Spielplan!$B$5:$B$44,A22)+COUNTIFS(Spielplan!$E$5:$E$44,A24,Spielplan!$F$5:$F$44,A22)+COUNTIFS(Spielplan!$F$5:$F$44,A24,Spielplan!$E$5:$E$44,A22))>0) + --((COUNTIFS(Spielplan!$B$5:$B$44,A24,Spielplan!$C$5:$C$44,A23)+COUNTIFS(Spielplan!$C$5:$C$44,A24,Spielplan!$B$5:$B$44,A23)+COUNTIFS(Spielplan!$E$5:$E$44,A24,Spielplan!$F$5:$F$44,A23)+COUNTIFS(Spielplan!$F$5:$F$44,A24,Spielplan!$E$5:$E$44,A23))>0) + --((COUNTIFS(Spielplan!$B$5:$B$44,A24,Spielplan!$C$5:$C$44,A25)+COUNTIFS(Spielplan!$C$5:$C$44,A24,Spielplan!$B$5:$B$44,A25)+COUNTIFS(Spielplan!$E$5:$E$44,A24,Spielplan!$F$5:$F$44,A25)+COUNTIFS(Spielplan!$F$5:$F$44,A24,Spielplan!$E$5:$E$44,A25))>0) + --((COUNTIFS(Spielplan!$B$5:$B$44,A24,Spielplan!$C$5:$C$44,A26)+COUNTIFS(Spielplan!$C$5:$C$44,A24,Spielplan!$B$5:$B$44,A26)+COUNTIFS(Spielplan!$E$5:$E$44,A24,Spielplan!$F$5:$F$44,A26)+COUNTIFS(Spielplan!$F$5:$F$44,A24,Spielplan!$E$5:$E$44,A26))>0))
A25: =IF(15<=Start!$B$6,INDEX(Start!$B$11:$B$26,15),"") | B25: =IF(A25="","",INDEX(Rangliste!$K$5:$K$20,15)) | C25: =IF(A25="","",INDEX(Rangliste!$L$5:$L$20,15)) | D25: =IF(A25="","",INDEX(Rangliste!$M$5:$M$20,15)) | E25: =IF(A25="","",INDEX(Rangliste!$N$5:$N$20,15)) | F25: =IF(A25="","",INDEX(Rangliste!$O$5:$O$20,15)) | G25: =IF(A25="","",--((COUNTIFS(Spielplan!$B$5:$B$44,A25,Spielplan!$C$5:$C$44,A11)+COUNTIFS(Spielplan!$C$5:$C$44,A25,Spielplan!$B$5:$B$44,A11)+COUNTIFS(Spielplan!$E$5:$E$44,A25,Spielplan!$F$5:$F$44,A11)+COUNTIFS(Spielplan!$F$5:$F$44,A25,Spielplan!$E$5:$E$44,A11))>0) + --((COUNTIFS(Spielplan!$B$5:$B$44,A25,Spielplan!$C$5:$C$44,A12)+COUNTIFS(Spielplan!$C$5:$C$44,A25,Spielplan!$B$5:$B$44,A12)+COUNTIFS(Spielplan!$E$5:$E$44,A25,Spielplan!$F$5:$F$44,A12)+COUNTIFS(Spielplan!$F$5:$F$44,A25,Spielplan!$E$5:$E$44,A12))>0) + --((COUNTIFS(Spielplan!$B$5:$B$44,A25,Spielplan!$C$5:$C$44,A13)+COUNTIFS(Spielplan!$C$5:$C$44,A25,Spielplan!$B$5:$B$44,A13)+COUNTIFS(Spielplan!$E$5:$E$44,A25,Spielplan!$F$5:$F$44,A13)+COUNTIFS(Spielplan!$F$5:$F$44,A25,Spielplan!$E$5:$E$44,A13))>0) + --((COUNTIFS(Spielplan!$B$5:$B$44,A25,Spielplan!$C$5:$C$44,A14)+COUNTIFS(Spielplan!$C$5:$C$44,A25,Spielplan!$B$5:$B$44,A14)+COUNTIFS(Spielplan!$E$5:$E$44,A25,Spielplan!$F$5:$F$44,A14)+COUNTIFS(Spielplan!$F$5:$F$44,A25,Spielplan!$E$5:$E$44,A14))>0) + --((COUNTIFS(Spielplan!$B$5:$B$44,A25,Spielplan!$C$5:$C$44,A15)+COUNTIFS(Spielplan!$C$5:$C$44,A25,Spielplan!$B$5:$B$44,A15)+COUNTIFS(Spielplan!$E$5:$E$44,A25,Spielplan!$F$5:$F$44,A15)+COUNTIFS(Spielplan!$F$5:$F$44,A25,Spielplan!$E$5:$E$44,A15))>0) + --((COUNTIFS(Spielplan!$B$5:$B$44,A25,Spielplan!$C$5:$C$44,A16)+COUNTIFS(Spielplan!$C$5:$C$44,A25,Spielplan!$B$5:$B$44,A16)+COUNTIFS(Spielplan!$E$5:$E$44,A25,Spielplan!$F$5:$F$44,A16)+COUNTIFS(Spielplan!$F$5:$F$44,A25,Spielplan!$E$5:$E$44,A16))>0) + --((COUNTIFS(Spielplan!$B$5:$B$44,A25,Spielplan!$C$5:$C$44,A17)+COUNTIFS(Spielplan!$C$5:$C$44,A25,Spielplan!$B$5:$B$44,A17)+COUNTIFS(Spielplan!$E$5:$E$44,A25,Spielplan!$F$5:$F$44,A17)+COUNTIFS(Spielplan!$F$5:$F$44,A25,Spielplan!$E$5:$E$44,A17))>0) + --((COUNTIFS(Spielplan!$B$5:$B$44,A25,Spielplan!$C$5:$C$44,A18)+COUNTIFS(Spielplan!$C$5:$C$44,A25,Spielplan!$B$5:$B$44,A18)+COUNTIFS(Spielplan!$E$5:$E$44,A25,Spielplan!$F$5:$F$44,A18)+COUNTIFS(Spielplan!$F$5:$F$44,A25,Spielplan!$E$5:$E$44,A18))>0) + --((COUNTIFS(Spielplan!$B$5:$B$44,A25,Spielplan!$C$5:$C$44,A19)+COUNTIFS(Spielplan!$C$5:$C$44,A25,Spielplan!$B$5:$B$44,A19)+COUNTIFS(Spielplan!$E$5:$E$44,A25,Spielplan!$F$5:$F$44,A19)+COUNTIFS(Spielplan!$F$5:$F$44,A25,Spielplan!$E$5:$E$44,A19))>0) + --((COUNTIFS(Spielplan!$B$5:$B$44,A25,Spielplan!$C$5:$C$44,A20)+COUNTIFS(Spielplan!$C$5:$C$44,A25,Spielplan!$B$5:$B$44,A20)+COUNTIFS(Spielplan!$E$5:$E$44,A25,Spielplan!$F$5:$F$44,A20)+COUNTIFS(Spielplan!$F$5:$F$44,A25,Spielplan!$E$5:$E$44,A20))>0) + --((COUNTIFS(Spielplan!$B$5:$B$44,A25,Spielplan!$C$5:$C$44,A21)+COUNTIFS(Spielplan!$C$5:$C$44,A25,Spielplan!$B$5:$B$44,A21)+COUNTIFS(Spielplan!$E$5:$E$44,A25,Spielplan!$F$5:$F$44,A21)+COUNTIFS(Spielplan!$F$5:$F$44,A25,Spielplan!$E$5:$E$44,A21))>0) + --((COUNTIFS(Spielplan!$B$5:$B$44,A25,Spielplan!$C$5:$C$44,A22)+COUNTIFS(Spielplan!$C$5:$C$44,A25,Spielplan!$B$5:$B$44,A22)+COUNTIFS(Spielplan!$E$5:$E$44,A25,Spielplan!$F$5:$F$44,A22)+COUNTIFS(Spielplan!$F$5:$F$44,A25,Spielplan!$E$5:$E$44,A22))>0) + --((COUNTIFS(Spielplan!$B$5:$B$44,A25,Spielplan!$C$5:$C$44,A23)+COUNTIFS(Spielplan!$C$5:$C$44,A25,Spielplan!$B$5:$B$44,A23)+COUNTIFS(Spielplan!$E$5:$E$44,A25,Spielplan!$F$5:$F$44,A23)+COUNTIFS(Spielplan!$F$5:$F$44,A25,Spielplan!$E$5:$E$44,A23))>0) + --((COUNTIFS(Spielplan!$B$5:$B$44,A25,Spielplan!$C$5:$C$44,A24)+COUNTIFS(Spielplan!$C$5:$C$44,A25,Spielplan!$B$5:$B$44,A24)+COUNTIFS(Spielplan!$E$5:$E$44,A25,Spielplan!$F$5:$F$44,A24)+COUNTIFS(Spielplan!$F$5:$F$44,A25,Spielplan!$E$5:$E$44,A24))>0) + --((COUNTIFS(Spielplan!$B$5:$B$44,A25,Spielplan!$C$5:$C$44,A26)+COUNTIFS(Spielplan!$C$5:$C$44,A25,Spielplan!$B$5:$B$44,A26)+COUNTIFS(Spielplan!$E$5:$E$44,A25,Spielplan!$F$5:$F$44,A26)+COUNTIFS(Spielplan!$F$5:$F$44,A25,Spielplan!$E$5:$E$44,A26))>0))
A26: =IF(16<=Start!$B$6,INDEX(Start!$B$11:$B$26,16),"") | B26: =IF(A26="","",INDEX(Rangliste!$K$5:$K$20,16)) | C26: =IF(A26="","",INDEX(Rangliste!$L$5:$L$20,16)) | D26: =IF(A26="","",INDEX(Rangliste!$M$5:$M$20,16)) | E26: =IF(A26="","",INDEX(Rangliste!$N$5:$N$20,16)) | F26: =IF(A26="","",INDEX(Rangliste!$O$5:$O$20,16)) | G26: =IF(A26="","",--((COUNTIFS(Spielplan!$B$5:$B$44,A26,Spielplan!$C$5:$C$44,A11)+COUNTIFS(Spielplan!$C$5:$C$44,A26,Spielplan!$B$5:$B$44,A11)+COUNTIFS(Spielplan!$E$5:$E$44,A26,Spielplan!$F$5:$F$44,A11)+COUNTIFS(Spielplan!$F$5:$F$44,A26,Spielplan!$E$5:$E$44,A11))>0) + --((COUNTIFS(Spielplan!$B$5:$B$44,A26,Spielplan!$C$5:$C$44,A12)+COUNTIFS(Spielplan!$C$5:$C$44,A26,Spielplan!$B$5:$B$44,A12)+COUNTIFS(Spielplan!$E$5:$E$44,A26,Spielplan!$F$5:$F$44,A12)+COUNTIFS(Spielplan!$F$5:$F$44,A26,Spielplan!$E$5:$E$44,A12))>0) + --((COUNTIFS(Spielplan!$B$5:$B$44,A26,Spielplan!$C$5:$C$44,A13)+COUNTIFS(Spielplan!$C$5:$C$44,A26,Spielplan!$B$5:$B$44,A13)+COUNTIFS(Spielplan!$E$5:$E$44,A26,Spielplan!$F$5:$F$44,A13)+COUNTIFS(Spielplan!$F$5:$F$44,A26,Spielplan!$E$5:$E$44,A13))>0) + --((COUNTIFS(Spielplan!$B$5:$B$44,A26,Spielplan!$C$5:$C$44,A14)+COUNTIFS(Spielplan!$C$5:$C$44,A26,Spielplan!$B$5:$B$44,A14)+COUNTIFS(Spielplan!$E$5:$E$44,A26,Spielplan!$F$5:$F$44,A14)+COUNTIFS(Spielplan!$F$5:$F$44,A26,Spielplan!$E$5:$E$44,A14))>0) + --((COUNTIFS(Spielplan!$B$5:$B$44,A26,Spielplan!$C$5:$C$44,A15)+COUNTIFS(Spielplan!$C$5:$C$44,A26,Spielplan!$B$5:$B$44,A15)+COUNTIFS(Spielplan!$E$5:$E$44,A26,Spielplan!$F$5:$F$44,A15)+COUNTIFS(Spielplan!$F$5:$F$44,A26,Spielplan!$E$5:$E$44,A15))>0) + --((COUNTIFS(Spielplan!$B$5:$B$44,A26,Spielplan!$C$5:$C$44,A16)+COUNTIFS(Spielplan!$C$5:$C$44,A26,Spielplan!$B$5:$B$44,A16)+COUNTIFS(Spielplan!$E$5:$E$44,A26,Spielplan!$F$5:$F$44,A16)+COUNTIFS(Spielplan!$F$5:$F$44,A26,Spielplan!$E$5:$E$44,A16))>0) + --((COUNTIFS(Spielplan!$B$5:$B$44,A26,Spielplan!$C$5:$C$44,A17)+COUNTIFS(Spielplan!$C$5:$C$44,A26,Spielplan!$B$5:$B$44,A17)+COUNTIFS(Spielplan!$E$5:$E$44,A26,Spielplan!$F$5:$F$44,A17)+COUNTIFS(Spielplan!$F$5:$F$44,A26,Spielplan!$E$5:$E$44,A17))>0) + --((COUNTIFS(Spielplan!$B$5:$B$44,A26,Spielplan!$C$5:$C$44,A18)+COUNTIFS(Spielplan!$C$5:$C$44,A26,Spielplan!$B$5:$B$44,A18)+COUNTIFS(Spielplan!$E$5:$E$44,A26,Spielplan!$F$5:$F$44,A18)+COUNTIFS(Spielplan!$F$5:$F$44,A26,Spielplan!$E$5:$E$44,A18))>0) + --((COUNTIFS(Spielplan!$B$5:$B$44,A26,Spielplan!$C$5:$C$44,A19)+COUNTIFS(Spielplan!$C$5:$C$44,A26,Spielplan!$B$5:$B$44,A19)+COUNTIFS(Spielplan!$E$5:$E$44,A26,Spielplan!$F$5:$F$44,A19)+COUNTIFS(Spielplan!$F$5:$F$44,A26,Spielplan!$E$5:$E$44,A19))>0) + --((COUNTIFS(Spielplan!$B$5:$B$44,A26,Spielplan!$C$5:$C$44,A20)+COUNTIFS(Spielplan!$C$5:$C$44,A26,Spielplan!$B$5:$B$44,A20)+COUNTIFS(Spielplan!$E$5:$E$44,A26,Spielplan!$F$5:$F$44,A20)+COUNTIFS(Spielplan!$F$5:$F$44,A26,Spielplan!$E$5:$E$44,A20))>0) + --((COUNTIFS(Spielplan!$B$5:$B$44,A26,Spielplan!$C$5:$C$44,A21)+COUNTIFS(Spielplan!$C$5:$C$44,A26,Spielplan!$B$5:$B$44,A21)+COUNTIFS(Spielplan!$E$5:$E$44,A26,Spielplan!$F$5:$F$44,A21)+COUNTIFS(Spielplan!$F$5:$F$44,A26,Spielplan!$E$5:$E$44,A21))>0) + --((COUNTIFS(Spielplan!$B$5:$B$44,A26,Spielplan!$C$5:$C$44,A22)+COUNTIFS(Spielplan!$C$5:$C$44,A26,Spielplan!$B$5:$B$44,A22)+COUNTIFS(Spielplan!$E$5:$E$44,A26,Spielplan!$F$5:$F$44,A22)+COUNTIFS(Spielplan!$F$5:$F$44,A26,Spielplan!$E$5:$E$44,A22))>0) + --((COUNTIFS(Spielplan!$B$5:$B$44,A26,Spielplan!$C$5:$C$44,A23)+COUNTIFS(Spielplan!$C$5:$C$44,A26,Spielplan!$B$5:$B$44,A23)+COUNTIFS(Spielplan!$E$5:$E$44,A26,Spielplan!$F$5:$F$44,A23)+COUNTIFS(Spielplan!$F$5:$F$44,A26,Spielplan!$E$5:$E$44,A23))>0) + --((COUNTIFS(Spielplan!$B$5:$B$44,A26,Spielplan!$C$5:$C$44,A24)+COUNTIFS(Spielplan!$C$5:$C$44,A26,Spielplan!$B$5:$B$44,A24)+COUNTIFS(Spielplan!$E$5:$E$44,A26,Spielplan!$F$5:$F$44,A24)+COUNTIFS(Spielplan!$F$5:$F$44,A26,Spielplan!$E$5:$E$44,A24))>0) + --((COUNTIFS(Spielplan!$B$5:$B$44,A26,Spielplan!$C$5:$C$44,A25)+COUNTIFS(Spielplan!$C$5:$C$44,A26,Spielplan!$B$5:$B$44,A25)+COUNTIFS(Spielplan!$E$5:$E$44,A26,Spielplan!$F$5:$F$44,A25)+COUNTIFS(Spielplan!$F$5:$F$44,A26,Spielplan!$E$5:$E$44,A25))>0))

Sheet Daten
A1: Schlüssel | B1: Spielerzahl | C1: Runde | D1: T1A | E1: T1B | F1: T2A | G1: T2B | J1: SiegerOptionen
A2: 401 | B2: 4 | C2: 1 | D2: 1 | E2: 4 | F2: 2 | G2: 3 | J2: Team 1
A3: 402 | B3: 4 | C3: 2 | D3: 1 | E3: 2 | F3: 3 | G3: 4 | J3: Team 2
A4: 403 | B4: 4 | C4: 3 | D4: 1 | E4: 3 | F4: 2 | G4: 4
A5: 404 | B5: 4 | C5: 4 | D5: 1 | E5: 3 | F5: 2 | G5: 4
A6: 405 | B6: 4 | C6: 5 | D6: 1 | E6: 2 | F6: 3 | G6: 4
A7: 406 | B7: 4 | C7: 6 | D7: 1 | E7: 4 | F7: 2 | G7: 3
A8: 407 | B8: 4 | C8: 7 | D8: 1 | E8: 4 | F8: 2 | G8: 3
A9: 408 | B9: 4 | C9: 8 | D9: 1 | E9: 2 | F9: 3 | G9: 4
A10: 409 | B10: 4 | C10: 9 | D10: 1 | E10: 3 | F10: 2 | G10: 4
A11: 410 | B11: 4 | C11: 10 | D11: 1 | E11: 2 | F11: 3 | G11: 4
A12: 411 | B12: 4 | C12: 11 | D12: 1 | E12: 3 | F12: 2 | G12: 4
A13: 412 | B13: 4 | C13: 12 | D13: 1 | E13: 4 | F13: 2 | G13: 3
A14: 413 | B14: 4 | C14: 13 | D14: 1 | E14: 3 | F14: 2 | G14: 4
A15: 414 | B15: 4 | C15: 14 | D15: 1 | E15: 4 | F15: 2 | G15: 3
... A521: 1640 | B521: 16 | C521: 40 | D521: 4 | E521: 11 | F521: 8 | G521: 10
